BEGIN:VCALENDAR
VERSION:2.0
PRODID:-//SBAM | Small Business Association of Michigan - ECPv6.15.20//NONSGML v1.0//EN
CALSCALE:GREGORIAN
METHOD:PUBLISH
X-WR-CALNAME:SBAM | Small Business Association of Michigan
X-ORIGINAL-URL:https://www.sbam.org
X-WR-CALDESC:Events for SBAM | Small Business Association of Michigan
REFRESH-INTERVAL;VALUE=DURATION:PT1H
X-Robots-Tag:noindex
X-PUBLISHED-TTL:PT1H
BEGIN:VTIMEZONE
TZID:America/Detroit
BEGIN:DAYLIGHT
TZOFFSETFROM:-0500
TZOFFSETTO:-0400
TZNAME:EDT
DTSTART:20230312T070000
END:DAYLIGHT
BEGIN:STANDARD
TZOFFSETFROM:-0400
TZOFFSETTO:-0500
TZNAME:EST
DTSTART:20231105T060000
END:STANDARD
BEGIN:DAYLIGHT
TZOFFSETFROM:-0500
TZOFFSETTO:-0400
TZNAME:EDT
DTSTART:20240310T070000
END:DAYLIGHT
BEGIN:STANDARD
TZOFFSETFROM:-0400
TZOFFSETTO:-0500
TZNAME:EST
DTSTART:20241103T060000
END:STANDARD
BEGIN:DAYLIGHT
TZOFFSETFROM:-0500
TZOFFSETTO:-0400
TZNAME:EDT
DTSTART:20250309T070000
END:DAYLIGHT
BEGIN:STANDARD
TZOFFSETFROM:-0400
TZOFFSETTO:-0500
TZNAME:EST
DTSTART:20251102T060000
END:STANDARD
END:VTIMEZONE
BEGIN:VEVENT
DTSTART;TZID=America/Detroit:20240827T090000
DTEND;TZID=America/Detroit:20240827T160000
DTSTAMP:20260424T053053
CREATED:20240807T124340Z
LAST-MODIFIED:20240807T131534Z
UID:10003526-1724749200-1724774400@www.sbam.org
SUMMARY:Process Improvement Essentials
DESCRIPTION:Participants will learn and be prepared to practice process improvement methods including: process mapping\, 5S workplace organization\, identification and elimination of waste\, error-proofing\, standardization of work\, and process verification. \n\n\nThis course will be held virtually on August 27\, 2024\, from 9:00am to 4:00pm. Capacity is limited to 22 people.  \n\n\n\nExclusively for Small Business Support Hub Grant Participants.
URL:https://www.sbam.org/event/process-improvement-essentials/
CATEGORIES:SBAM Foundation
ATTACH;FMTTYPE=image/jpeg:https://www.sbam.org/wp-content/uploads/2024/08/08-27-Process-Improvement-Essentials.jpg
END:VEVENT
BEGIN:VEVENT
DTSTART;TZID=America/Detroit:20240815T080000
DTEND;TZID=America/Detroit:20240815T160000
DTSTAMP:20260424T053053
CREATED:20240415T152933Z
LAST-MODIFIED:20240809T170029Z
UID:10003477-1723708800-1723737600@www.sbam.org
SUMMARY:2024 SBAM Annual Golf Outing
DESCRIPTION:Online registration has closed. Please contact Cher Esch to register. \nOuting Program \n  \nNo refunds after August 1\, 2024. Replacements are always welcome. The SBAM Foundation is a 501c3 organization. Please check with your tax advisor on expense deductibility. \n2024 SBAM Annual Golf Outing program (5)
URL:https://www.sbam.org/event/2024-sbam-annual-golf-outing/
LOCATION:Medalist Golf Club\, 15701 N-Drive N\, Marshall\, Michigan\, 49068
CATEGORIES:SBAM Foundation
ATTACH;FMTTYPE=image/jpeg:https://www.sbam.org/wp-content/uploads/2024/04/Golf-Outing-2024-e1719936036694.jpg
END:VEVENT
BEGIN:VEVENT
DTSTART;TZID=America/Detroit:20240808T150000
DTEND;TZID=America/Detroit:20240808T180000
DTSTAMP:20260424T053053
CREATED:20240814T175140Z
LAST-MODIFIED:20240814T175140Z
UID:10003605-1723129200-1723140000@www.sbam.org
SUMMARY:Walsh Leadership Academy (WLA): Authority to Lead
DESCRIPTION:Unleash the leader within you! Walsh Leadership Academy is offered monthly for businesses looking to build skills on their team in leadership\, so they can build an empowered team as they grow. In this session you will learn about the principles of leadership and influencing teams for action. \n\n\nThis series will be held in-person at Walsh College (3838 Livernois Rd\, Troy\, MI 48083) every month from 3:00pm to 6:00pm. The course minimum is 5 people\, and the capacity is limited to 30 people. \n\n\n\n\n\n\n\n\n\n\n\nExclusively for Small Business Support Hub Grant Participants.
URL:https://www.sbam.org/event/walsh-leadership-academy-wla-authority-to-lead/
LOCATION:Walsh College\, 3838 Livernois Rd\, Troy\, MI\, 48083\, United States
CATEGORIES:SBAM Foundation
ATTACH;FMTTYPE=image/jpeg:https://www.sbam.org/wp-content/uploads/2024/08/Authority-to-Lead.jpg
END:VEVENT
BEGIN:VEVENT
DTSTART;TZID=America/Detroit:20240731T090000
DTEND;TZID=America/Detroit:20240731T100000
DTSTAMP:20260424T053053
CREATED:20240719T180455Z
LAST-MODIFIED:20240719T182216Z
UID:10003519-1722416400-1722420000@www.sbam.org
SUMMARY:Getting the Most from the Small Business Support Hub Grant Program
DESCRIPTION:Our SBSH Grant Program is designed to provide support for established 1st stage and 2nd stage businesses who have been disproportionately impacted by the COVID-19 pandemic. Participants receive free programming\, courses\, events\, and support designed to help businesses recover from the devastating effects of the COVID-19 pandemic\, and help you achieve the success you seek for your business. \nThis webinar is designed for current participants and prospective participants\, and will cover: \n\nHow to register for courses\, programs\, and events\nAnswers to many frequently asked questions\nNew details regarding direct grants\n\nThis webinar will be recorded and made available to all registrants\, and posted for on-demand viewing.
URL:https://www.sbam.org/event/getting-the-most-from-the-small-business-support-hub-grant-2/
CATEGORIES:SBAM Foundation,Webinar
ATTACH;FMTTYPE=image/jpeg:https://www.sbam.org/wp-content/uploads/2024/07/SBSH-Grant-Webinar.jpg
END:VEVENT
END:VCALENDAR