Workbook
Name dep_life: 'summary lookup and rates'!$F$4:$G$4
Name key_reduction_schedule: 'census age lookup Vol LTD'!$H$3:$I$23
Name key_reduction_schedule: 'census age lookup Vol STD'!$H$3:$I$23
Name key_reduction_schedule: 'census age lookup'!$F$2:$G$6
Name life_age_reduction: 'census age lookup Vol LTD'!$A$3:$A$103
Name life_age_reduction: 'census age lookup Vol STD'!$A$3:$A$103
Name life_age_reduction: 'census age lookup'!$A$2:$D$86
Name life_options: 'summary lookup and rates'!$C$10:$C$16
Name life_options2: 'summary lookup and rates'!$J$11:$K$16
Name life_rates: 'summary lookup and rates'!$B$4:$C$7
Name Life_reduction_sched: 'census age lookup Vol LTD'!$A$22:$A$103
Name Life_reduction_sched: 'census age lookup Vol STD'!$A$22:$A$103
Name Life_reduction_sched: '[1]census age lookup'!$A$3:$B$84
Name Life_reduction_sched: 'census age lookup'!$A$5:$B$86
Name ltd_options: 'summary lookup and rates'!$F$11:$F$14
Name ltd_options2: 'summary lookup and rates'!$P$11:$Q$14
Name LTD_Rates_lookup: 'summary lookup and rates'!$B$34:$C$38
Name std_options: 'summary lookup and rates'!$E$11:$E$14
Name std_options2: 'summary lookup and rates'!$M$11:$N$18
Name STD_Rates_lookup: 'summary lookup and rates'!$B$23:$C$31
Name STD_Rates_Lookup_60: 'summary lookup and rates'!$B$23:$C$23, 'summary lookup and rates'!$B$28:$C$31
Name summary_benefit_lookup: 'summary lookup and rates'!$B$11:$F$18
Name today_date: 'Basic Elections'!$C$11
Name Vol_LTD_Lookup: 'census age lookup Vol LTD'!$A$4:$E$103
Name vol_ltd_options: 'summary lookup and rates'!$V$11:$W$14
Name Vol_STD_Lookup: 'census age lookup Vol STD'!$A$4:$E$103
Name vol_std_options: 'summary lookup and rates'!$S$11:$T$14

Sheet Basic Elections
A1: Group - Employer Paid - Proposal Tool
B3: Agent Name:
B4: Agent Email:
B5: Agent Phone:
B6: Group Name:
B7: Group Contact Name:
B8: Group Contact Email:
B9: Group Contact Phone:
B11: Today: | C11: =TODAY() -> 46294 | E11: Requested Effective Date:
B13: Enter Your Required Minimum Hours Per Week To Enroll
B15: Benefit Selection:
B16: Basic Life Options
D17: None
C18: None | D18: A | E18: 1x BAE to $100,000
D19: B | E19: 10000
D20: C | E20: 15000
D21: D | E21: 25000
D22: E | E22: 30000
D23: F | E23: 50000
B26: Basic Life/AD&D limitations for 1 life groups (30k, 50k or 1x on Basic Life/AD&D is not available)
B28: Basic Dependent Life
C29: No | D29: Yes
D30: No
B31: Dependent Life/AD&D can only be purchased in conjunction with Basic Life/AD&D
B33: Basic STD
C34: None | D34: None
D35: A | E35: 0/7/13 | F35: 0.6667
D36: B | E36: 0/7/26 | F36: 0.6667
D37: C | E37: 14/14/11 | F37: 0.6667
D38: D | E38: 14/14/24 | F38: 0.6667
D40: E | E40: 0/7/13 | F40: 0.6
D41: F | E41: 0/7/26 | F41: 0.6
D42: G | E42: 14/14/11 | F42: 0.6
D43: H | E43: 14/14/24 | F43: 0.6
B44: Basic LTD
C45: None | D45: None | E45: Elim. | F45: Duration
D46: A | E46: 90 | F46: 5 yr
D47: B | E47: 90 | F47: SSNRA
D48: C | E48: 180 | F48: 5 yr
D49: D | E49: 180 | F49: SSNRA
...

Sheet Voluntary Elections
S1: 1000
B2: VOLUNTARY LIFE and AD&D | S2: 10000
B3: Employee Census linked from Basic Group Elections Sheet
B5: Life_Voluntary Option - Yes/No | D5: No
B7: Employee Life: $10,000–$500,000, not over 5× annual salary. Only available in increments of $10,000. Guarantee issue: $100,000.
B8: Spouse Life: $5,000–$25,000, not over 50% of employee Life.
B9: Child Life: $1,000 birth–6 months; $10,000 after 6 months.
B11: VOLUNTARY DISABILITY
B12: Select the voluntary STD and LTD plans from drop down.
B14: STD_Voluntary Options | C14: None | D14: A | E14: 0/7/13 | F14: 0.6
D15: B | E15: 0/7/26 | F15: 0.6
D16: C | E16: 14/14/11 | F16: 0.6
D17: D | E17: 14/14/24 | F17: 0.6
B20: LTD_Voluntary Options | C20: None | D20: A | E20: 90 | F20: 5 yr
D21: B | E21: 90 | F21: SSNRA
D22: C | E22: 180 | F22: 5 yr
D23: D | E23: 180 | F23: SSNRA
B26: If electing Voluntary Life and AD&D, please enter coverage amounts for each employee, spouse and/or dependents.
B27: Employee Number | C27: First Name | D27: Last Name | E27: Age | F27: Annual Salary | G27: Employee Life & AD&D Amount | H27: Spouse Life & AD&D Amount | I27: Child Life & AD&D Amount | J27: Total Vol Life Premium
B28: 1 | C28: =IF('Basic Elections'!C56="","",'Basic Elections'!C56) | D28: =IF('Basic Elections'!D56="","",'Basic Elections'!D56) | E28: =IF('Basic Elections'!F56="","",'Basic Elections'!F56) | F28: =IF('Basic Elections'!G56="","",'Basic Elections'!G56) | J28: =IF(OR(LEN(TRIM(C28&""))=0,UPPER(TRIM($D$5))<>"YES"),"",IF(N(G28)+N(H28)>0,(N(G28)+N(H28))*IFERROR(INDEX('voluntary life sheet'!$C$3:$M$3,1,MATCH(N(E28),{0,30,35,40,45,50,55,60,65,70,75},1)),0)/1000,0)+IF(N(I28)>0,'voluntary life'!$C$42,0))
B29: 2 | C29: =IF('Basic Elections'!C57="","",'Basic Elections'!C57) | D29: =IF('Basic Elections'!D57="","",'Basic Elections'!D57) | E29: =IF('Basic Elections'!F57="","",'Basic Elections'!F57) | F29: =IF('Basic Elections'!G57="","",'Basic Elections'!G57) | J29: =IF(OR(LEN(TRIM(C29&""))=0,UPPER(TRIM($D$5))<>"YES"),"",IF(N(G29)+N(H29)>0,(N(G29)+N(H29))*IFERROR(INDEX('voluntary life sheet'!$C$3:$M$3,1,MATCH(N(E29),{0,30,35,40,45,50,55,60,65,70,75},1)),0)/1000,0)+IF(N(I29)>0,'voluntary life'!$C$42,0))
B30: 3 | C30: =IF('Basic Elections'!C58="","",'Basic Elections'!C58) | D30: =IF('Basic Elections'!D58="","",'Basic Elections'!D58) | E30: =IF('Basic Elections'!F58="","",'Basic Elections'!F58) | F30: =IF('Basic Elections'!G58="","",'Basic Elections'!G58) | J30: =IF(OR(LEN(TRIM(C30&""))=0,UPPER(TRIM($D$5))<>"YES"),"",IF(N(G30)+N(H30)>0,(N(G30)+N(H30))*IFERROR(INDEX('voluntary life sheet'!$C$3:$M$3,1,MATCH(N(E30),{0,30,35,40,45,50,55,60,65,70,75},1)),0)/1000,0)+IF(N(I30)>0,'voluntary life'!$C$42,0))
B31: 4 | C31: =IF('Basic Elections'!C59="","",'Basic Elections'!C59) | D31: =IF('Basic Elections'!D59="","",'Basic Elections'!D59) | E31: =IF('Basic Elections'!F59="","",'Basic Elections'!F59) | F31: =IF('Basic Elections'!G59="","",'Basic Elections'!G59) | J31: =IF(OR(LEN(TRIM(C31&""))=0,UPPER(TRIM($D$5))<>"YES"),"",IF(N(G31)+N(H31)>0,(N(G31)+N(H31))*IFERROR(INDEX('voluntary life sheet'!$C$3:$M$3,1,MATCH(N(E31),{0,30,35,40,45,50,55,60,65,70,75},1)),0)/1000,0)+IF(N(I31)>0,'voluntary life'!$C$42,0))
B32: 5 | C32: =IF('Basic Elections'!C60="","",'Basic Elections'!C60) | D32: =IF('Basic Elections'!D60="","",'Basic Elections'!D60) | E32: =IF('Basic Elections'!F60="","",'Basic Elections'!F60) | F32: =IF('Basic Elections'!G60="","",'Basic Elections'!G60) | J32: =IF(OR(LEN(TRIM(C32&""))=0,UPPER(TRIM($D$5))<>"YES"),"",IF(N(G32)+N(H32)>0,(N(G32)+N(H32))*IFERROR(INDEX('voluntary life sheet'!$C$3:$M$3,1,MATCH(N(E32),{0,30,35,40,45,50,55,60,65,70,75},1)),0)/1000,0)+IF(N(I32)>0,'voluntary life'!$C$42,0))
B33: 6 | C33: =IF('Basic Elections'!C61="","",'Basic Elections'!C61) | D33: =IF('Basic Elections'!D61="","",'Basic Elections'!D61) | E33: =IF('Basic Elections'!F61="","",'Basic Elections'!F61) | F33: =IF('Basic Elections'!G61="","",'Basic Elections'!G61) | J33: =IF(OR(LEN(TRIM(C33&""))=0,UPPER(TRIM($D$5))<>"YES"),"",IF(N(G33)+N(H33)>0,(N(G33)+N(H33))*IFERROR(INDEX('voluntary life sheet'!$C$3:$M$3,1,MATCH(N(E33),{0,30,35,40,45,50,55,60,65,70,75},1)),0)/1000,0)+IF(N(I33)>0,'voluntary life'!$C$42,0))
B34: 7 | C34: =IF('Basic Elections'!C62="","",'Basic Elections'!C62) | D34: =IF('Basic Elections'!D62="","",'Basic Elections'!D62) | E34: =IF('Basic Elections'!F62="","",'Basic Elections'!F62) | F34: =IF('Basic Elections'!G62="","",'Basic Elections'!G62) | J34: =IF(OR(LEN(TRIM(C34&""))=0,UPPER(TRIM($D$5))<>"YES"),"",IF(N(G34)+N(H34)>0,(N(G34)+N(H34))*IFERROR(INDEX('voluntary life sheet'!$C$3:$M$3,1,MATCH(N(E34),{0,30,35,40,45,50,55,60,65,70,75},1)),0)/1000,0)+IF(N(I34)>0,'voluntary life'!$C$42,0))
B35: 8 | C35: =IF('Basic Elections'!C63="","",'Basic Elections'!C63) | D35: =IF('Basic Elections'!D63="","",'Basic Elections'!D63) | E35: =IF('Basic Elections'!F63="","",'Basic Elections'!F63) | F35: =IF('Basic Elections'!G63="","",'Basic Elections'!G63) | J35: =IF(OR(LEN(TRIM(C35&""))=0,UPPER(TRIM($D$5))<>"YES"),"",IF(N(G35)+N(H35)>0,(N(G35)+N(H35))*IFERROR(INDEX('voluntary life sheet'!$C$3:$M$3,1,MATCH(N(E35),{0,30,35,40,45,50,55,60,65,70,75},1)),0)/1000,0)+IF(N(I35)>0,'voluntary life'!$C$42,0))
B36: 9 | C36: =IF('Basic Elections'!C64="","",'Basic Elections'!C64) | D36: =IF('Basic Elections'!D64="","",'Basic Elections'!D64) | E36: =IF('Basic Elections'!F64="","",'Basic Elections'!F64) | F36: =IF('Basic Elections'!G64="","",'Basic Elections'!G64) | J36: =IF(OR(LEN(TRIM(C36&""))=0,UPPER(TRIM($D$5))<>"YES"),"",IF(N(G36)+N(H36)>0,(N(G36)+N(H36))*IFERROR(INDEX('voluntary life sheet'!$C$3:$M$3,1,MATCH(N(E36),{0,30,35,40,45,50,55,60,65,70,75},1)),0)/1000,0)+IF(N(I36)>0,'voluntary life'!$C$42,0))
B37: 10 | C37: =IF('Basic Elections'!C65="","",'Basic Elections'!C65) | D37: =IF('Basic Elections'!D65="","",'Basic Elections'!D65) | E37: =IF('Basic Elections'!F65="","",'Basic Elections'!F65) | F37: =IF('Basic Elections'!G65="","",'Basic Elections'!G65) | J37: =IF(OR(LEN(TRIM(C37&""))=0,UPPER(TRIM($D$5))<>"YES"),"",IF(N(G37)+N(H37)>0,(N(G37)+N(H37))*IFERROR(INDEX('voluntary life sheet'!$C$3:$M$3,1,MATCH(N(E37),{0,30,35,40,45,50,55,60,65,70,75},1)),0)/1000,0)+IF(N(I37)>0,'voluntary life'!$C$42,0))
B38: 11 | C38: =IF('Basic Elections'!C66="","",'Basic Elections'!C66) | D38: =IF('Basic Elections'!D66="","",'Basic Elections'!D66) | E38: =IF('Basic Elections'!F66="","",'Basic Elections'!F66) | F38: =IF('Basic Elections'!G66="","",'Basic Elections'!G66) | J38: =IF(OR(LEN(TRIM(C38&""))=0,UPPER(TRIM($D$5))<>"YES"),"",IF(N(G38)+N(H38)>0,(N(G38)+N(H38))*IFERROR(INDEX('voluntary life sheet'!$C$3:$M$3,1,MATCH(N(E38),{0,30,35,40,45,50,55,60,65,70,75},1)),0)/1000,0)+IF(N(I38)>0,'voluntary life'!$C$42,0))
B39: 12 | C39: =IF('Basic Elections'!C67="","",'Basic Elections'!C67) | D39: =IF('Basic Elections'!D67="","",'Basic Elections'!D67) | E39: =IF('Basic Elections'!F67="","",'Basic Elections'!F67) | F39: =IF('Basic Elections'!G67="","",'Basic Elections'!G67) | J39: =IF(OR(LEN(TRIM(C39&""))=0,UPPER(TRIM($D$5))<>"YES"),"",IF(N(G39)+N(H39)>0,(N(G39)+N(H39))*IFERROR(INDEX('voluntary life sheet'!$C$3:$M$3,1,MATCH(N(E39),{0,30,35,40,45,50,55,60,65,70,75},1)),0)/1000,0)+IF(N(I39)>0,'voluntary life'!$C$42,0))
... B127: 100 | C127: =IF('Basic Elections'!C155="","",'Basic Elections'!C155) | D127: =IF('Basic Elections'!D155="","",'Basic Elections'!D155) | E127: =IF('Basic Elections'!F155="","",'Basic Elections'!F155) | F127: =IF('Basic Elections'!G155="","",'Basic Elections'!G155) | J127: =IF(OR(LEN(TRIM(C127&""))=0,UPPER(TRIM($D$5))<>"YES"),"",IF(N(G127)+N(H127)>0,(N(G127)+N(H127))*IFERROR(INDEX('voluntary life sheet'!$C$3:$M$3,1,MATCH(N(E127),{0,30,35,40,45,50,55,60,65,70,75},1)),0)/1000,0)+IF(N(I127)>0,'voluntary life'!$C$42,0))

Sheet Summary Page
B7: Agent Name: | D7: =IF('Basic Elections'!C3="","",'Basic Elections'!C3)
B8: Agent Email: | D8: =IF('Basic Elections'!C4="","",'Basic Elections'!C4)
B9: Agent Phone: | D9: =IF('Basic Elections'!C5="","",'Basic Elections'!C5)
B10: Group Name: | D10: =IF('Basic Elections'!C6="","",'Basic Elections'!C6)
B11: Group Contact Name: | D11: =IF('Basic Elections'!C7="","",'Basic Elections'!C7)
B12: Group Contact Email: | D12: =IF('Basic Elections'!C8="","",'Basic Elections'!C8)
B13: Group Contact Phone: | D13: =IF('Basic Elections'!C9="","",'Basic Elections'!C9)
B15: Plan Selections High Level Summary
B17: Insurance | D17: Option Selected | G17: Summary | J17: Total Premium
B18: Basic Life | D18: =IF(OR(('Basic Elections'!C18)="None",('Basic Elections'!C18)="No"),"",'Basic Elections'!C18) | F18: =IF(D18="","",IFERROR(VLOOKUP(D18,summary_benefit_lookup,2,FALSE),"")) | J18: =_xlfn.AGGREGATE(9,6,calculations!W3:W102) -> 0
B19: AD&D | D19: =IF(D18="","",D18) | F19: =IF(D19="","",IFERROR(VLOOKUP(D19,summary_benefit_lookup,2,FALSE),"")) | J19: =_xlfn.AGGREGATE(9,6,calculations!X3:X102) -> 0
B20: Dependent Life | D20: =IF(OR(('Basic Elections'!C29)="None",('Basic Elections'!C29)="No"),"",'Basic Elections'!C29) | F20: =IF(UPPER(TRIM('Basic Elections'!C29))="YES",'summary lookup and rates'!G4,"") | J20: =SUM(calculations!Y3:Y102) -> 0
B21: STD | D21: =IF(OR(('Basic Elections'!C34)="None",('Basic Elections'!C34)="No"),"",'Basic Elections'!C34) | F21: =IF(D21="","",IFERROR(VLOOKUP(D21,std_options2,2,FALSE),"")) | J21: =SUM(calculations!L3:L102,calculations!N3:N102) -> 0
B22: LTD | D22: =IF(OR(('Basic Elections'!C45)="None",('Basic Elections'!C45)="No"),"",'Basic Elections'!C45) | F22: =IF(D22="","",IFERROR(VLOOKUP(D22,ltd_options2,2,FALSE),"")) | J22: =SUM(calculations!Q3:Q102) -> 0
B23: Voluntary Life / AD&D | D23: =IF(OR('Voluntary Elections'!$D$5<>"Yes",COUNTIFS('Voluntary Elections'!$C$28:$C$127,"<>",'Voluntary Elections'!$G$28:$G$127,">0")+COUNTIFS('Voluntary Elections'!$C$28:$C$127,"<>",'Voluntary Elections'!$H$28:$H$127,">0")+COUNTIFS('Voluntary Elections'!$C$28:$C$127,"<>",'Voluntary Elections'!$I$28:$I$127,">0")=0),"",COUNTIFS('Voluntary Elections'!$C$28:$C$127,"<>",'Voluntary Elections'!$G$28:$G$127,">0")&" EE / "&COUNTIFS('Voluntary Elections'!$C$28:$C$127,"<>",'Voluntary Elections'!$H$28:$H$127,">0")&" spouse / "&COUNTIFS('Voluntary Elections'!$C$28:$C$127,"<>",'Voluntary Elections'!$I$28:$I$127,">0")&" child") | F23: =IF(D23="","",TEXT(SUMIFS('Voluntary Elections'!$G$28:$G$127,'Voluntary Elections'!$C$28:$C$127,"<>")+SUMIFS('Voluntary Elections'!$H$28:$H$127,'Voluntary Elections'!$C$28:$C$127,"<>")+SUMIFS('Voluntary Elections'!$I$28:$I$127,'Voluntary Elections'!$C$28:$C$127,"<>"),"$#,##0")&" combined Life & AD&D") | J23: =IF('Voluntary Elections'!$D$5<>"Yes",0,SUMIFS('Voluntary Elections'!$J$28:$J$127,'Voluntary Elections'!$C$28:$C$127,"<>")) -> 0
B24: Voluntary STD | D24: =IF(OR(('Voluntary Elections'!$C$14)="None",('Voluntary Elections'!$C$14)="No"),"",'Voluntary Elections'!$C$14) | F24: =IF(D24="","",IFERROR(VLOOKUP(D24,vol_std_options,2,FALSE),"")) | J24: =SUM(calculations!AB3:AB102) -> 0
B25: Voluntary LTD | D25: =IF(OR(('Voluntary Elections'!$C$20)="None",('Voluntary Elections'!$C$20)="No"),"",'Voluntary Elections'!$C$20) | F25: =IF(D25="","",IFERROR(VLOOKUP(D25,vol_ltd_options,2,FALSE),"")) | J25: =SUM(calculations!AE3:AE102) -> 0
G26: Premium Total: | J26: =SUM(J18:J25) -> 0
B27: Requested Effective Date: | D27: =IF('Basic Elections'!G11="","",'Basic Elections'!G11) | G27: Program Access Fee: | J27: 7.5
G28: Grand TOTAL | J28: =SUM(J26:J27) -> 7.5
B29: Minimum Hours To Enroll | D29: =IF('Basic Elections'!E13="","",'Basic Elections'!E13)
B31: Employee Coverage & Premium Summary
B33: First Name | C33: Last Name | D33: Employee ID | E33: Employee Basic Life/AD&D | F33: Employee Basic Life/AD&D Premium | G33: Employee Basic STD | H33: Employee Basic STD Premium | I33: Employee Basic LTD | J33: Employee Basic LTD Premium | K33: Dependent Basic Life/AD&D | L33: Dependent Basic Life/AD&D Premium | M33: Employee Vol Life/AD&D | N33: Employee Vol Life/AD&D Premium | O33: Spouse Vol Life/AD&D | P33: Spouse Vol Life/AD&D Premium | Q33: Child Vol Life/AD&D | R33: Child Vol Life/AD&D Premium | S33: Total Monthly Premium
B34: =IF('Voluntary Elections'!C28="","",'Voluntary Elections'!C28) | C34: =IF('Voluntary Elections'!D28="","",'Voluntary Elections'!D28) | D34: =IF(B34="","",'Voluntary Elections'!B28) | E34: =IF(B34="","",calculations!V3) | F34: =IF(B34="","",N(calculations!W3)+N(calculations!X3)) | G34: =IF(B34="","",$F$21) | H34: =IF(B34="","",IF(N(calculations!L3)+N(calculations!N3)=0,"",N(calculations!L3)+N(calculations!N3))) | I34: =IF(OR(B34="",$F$22=""),"",$F$22) | J34: =IF(B34="","",IF(N(calculations!Q3)=0,"",calculations!Q3)) | K34: =IF(OR(B34="",'Basic Elections'!$C$29<>"Yes"),"","$5,000/$500/$2,000") | L34: =IF(B34="","",IF(N(calculations!Y3)=0,"",calculations!Y3)) | M34: =IF(OR(B34="",'Voluntary Elections'!G28="",'Voluntary Elections'!G28=0),"",'Voluntary Elections'!G28) | N34: =IF(OR(B34="",M34=""),"",N(M34)*IFERROR(INDEX('voluntary life sheet'!$C$3:$M$3,1,MATCH(N('Voluntary Elections'!E28),{0,30,35,40,45,50,55,60,65,70,75},1)),0)/1000) | O34: =IF(OR(B34="",'Voluntary Elections'!H28="",'Voluntary Elections'!H28=0),"",'Voluntary Elections'!H28) | P34: =IF(OR(B34="",O34=""),"",N(O34)*IFERROR(INDEX('voluntary life sheet'!$C$3:$M$3,1,MATCH(N('Voluntary Elections'!E28),{0,30,35,40,45,50,55,60,65,70,75},1)),0)/1000) | Q34: =IF(OR(B34="",'Voluntary Elections'!I28="",'Voluntary Elections'!I28=0),"",'Voluntary Elections'!I28) | R34: =IF(OR(B34="",Q34=""),"",'voluntary life'!$C$42) | S34: =IF(B34="","",SUM(F34,H34,J34,L34,N34,P34,R34))
B35: =IF('Voluntary Elections'!C29="","",'Voluntary Elections'!C29) | C35: =IF('Voluntary Elections'!D29="","",'Voluntary Elections'!D29) | D35: =IF(B35="","",'Voluntary Elections'!B29) | E35: =IF(B35="","",calculations!V4) | F35: =IF(B35="","",N(calculations!W4)+N(calculations!X4)) | G35: =IF(B35="","",$F$21) | H35: =IF(B35="","",IF(N(calculations!L4)+N(calculations!N4)=0,"",N(calculations!L4)+N(calculations!N4))) | I35: =IF(B35="","",$F$22) | J35: =IF(B35="","",IF(N(calculations!Q4)=0,"",calculations!Q4)) | K35: =IF(OR(B35="",'Basic Elections'!$C$29<>"Yes"),"","$5,000/$500/$2,000") | L35: =IF(B35="","",IF(N(calculations!Y4)=0,"",calculations!Y4)) | M35: =IF(OR(B35="",'Voluntary Elections'!G29="",'Voluntary Elections'!G29=0),"",'Voluntary Elections'!G29) | N35: =IF(OR(B35="",M35=""),"",N(M35)*IFERROR(INDEX('voluntary life sheet'!$C$3:$M$3,1,MATCH(N('Voluntary Elections'!E29),{0,30,35,40,45,50,55,60,65,70,75},1)),0)/1000) | O35: =IF(OR(B35="",'Voluntary Elections'!H29="",'Voluntary Elections'!H29=0),"",'Voluntary Elections'!H29) | P35: =IF(OR(B35="",O35=""),"",N(O35)*IFERROR(INDEX('voluntary life sheet'!$C$3:$M$3,1,MATCH(N('Voluntary Elections'!E29),{0,30,35,40,45,50,55,60,65,70,75},1)),0)/1000) | Q35: =IF(OR(B35="",'Voluntary Elections'!I29="",'Voluntary Elections'!I29=0),"",'Voluntary Elections'!I29) | R35: =IF(OR(B35="",Q35=""),"",'voluntary life'!$C$42) | S35: =IF(B35="","",SUM(F35,H35,J35,L35,N35,P35,R35))
B36: =IF('Voluntary Elections'!C30="","",'Voluntary Elections'!C30) | C36: =IF('Voluntary Elections'!D30="","",'Voluntary Elections'!D30) | D36: =IF(B36="","",'Voluntary Elections'!B30) | E36: =IF(B36="","",calculations!V5) | F36: =IF(B36="","",N(calculations!W5)+N(calculations!X5)) | G36: =IF(B36="","",$F$21) | H36: =IF(B36="","",IF(N(calculations!L5)+N(calculations!N5)=0,"",N(calculations!L5)+N(calculations!N5))) | I36: =IF(B36="","",$F$22) | J36: =IF(B36="","",IF(N(calculations!Q5)=0,"",calculations!Q5)) | K36: =IF(OR(B36="",'Basic Elections'!$C$29<>"Yes"),"","$5,000/$500/$2,000") | L36: =IF(B36="","",IF(N(calculations!Y5)=0,"",calculations!Y5)) | M36: =IF(OR(B36="",'Voluntary Elections'!G30="",'Voluntary Elections'!G30=0),"",'Voluntary Elections'!G30) | N36: =IF(OR(B36="",M36=""),"",N(M36)*IFERROR(INDEX('voluntary life sheet'!$C$3:$M$3,1,MATCH(N('Voluntary Elections'!E30),{0,30,35,40,45,50,55,60,65,70,75},1)),0)/1000) | O36: =IF(OR(B36="",'Voluntary Elections'!H30="",'Voluntary Elections'!H30=0),"",'Voluntary Elections'!H30) | P36: =IF(OR(B36="",O36=""),"",N(O36)*IFERROR(INDEX('voluntary life sheet'!$C$3:$M$3,1,MATCH(N('Voluntary Elections'!E30),{0,30,35,40,45,50,55,60,65,70,75},1)),0)/1000) | Q36: =IF(OR(B36="",'Voluntary Elections'!I30="",'Voluntary Elections'!I30=0),"",'Voluntary Elections'!I30) | R36: =IF(OR(B36="",Q36=""),"",'voluntary life'!$C$42) | S36: =IF(B36="","",SUM(F36,H36,J36,L36,N36,P36,R36))
B37: =IF('Voluntary Elections'!C31="","",'Voluntary Elections'!C31) | C37: =IF('Voluntary Elections'!D31="","",'Voluntary Elections'!D31) | D37: =IF(B37="","",'Voluntary Elections'!B31) | E37: =IF(B37="","",calculations!V6) | F37: =IF(B37="","",N(calculations!W6)+N(calculations!X6)) | G37: =IF(B37="","",$F$21) | H37: =IF(B37="","",IF(N(calculations!L6)+N(calculations!N6)=0,"",N(calculations!L6)+N(calculations!N6))) | I37: =IF(B37="","",$F$22) | J37: =IF(B37="","",IF(N(calculations!Q6)=0,"",calculations!Q6)) | K37: =IF(OR(B37="",'Basic Elections'!$C$29<>"Yes"),"","$5,000/$500/$2,000") | L37: =IF(B37="","",IF(N(calculations!Y6)=0,"",calculations!Y6)) | M37: =IF(OR(B37="",'Voluntary Elections'!G31="",'Voluntary Elections'!G31=0),"",'Voluntary Elections'!G31) | N37: =IF(OR(B37="",M37=""),"",N(M37)*IFERROR(INDEX('voluntary life sheet'!$C$3:$M$3,1,MATCH(N('Voluntary Elections'!E31),{0,30,35,40,45,50,55,60,65,70,75},1)),0)/1000) | O37: =IF(OR(B37="",'Voluntary Elections'!H31="",'Voluntary Elections'!H31=0),"",'Voluntary Elections'!H31) | P37: =IF(OR(B37="",O37=""),"",N(O37)*IFERROR(INDEX('voluntary life sheet'!$C$3:$M$3,1,MATCH(N('Voluntary Elections'!E31),{0,30,35,40,45,50,55,60,65,70,75},1)),0)/1000) | Q37: =IF(OR(B37="",'Voluntary Elections'!I31="",'Voluntary Elections'!I31=0),"",'Voluntary Elections'!I31) | R37: =IF(OR(B37="",Q37=""),"",'voluntary life'!$C$42) | S37: =IF(B37="","",SUM(F37,H37,J37,L37,N37,P37,R37))
B38: =IF('Voluntary Elections'!C32="","",'Voluntary Elections'!C32) | C38: =IF('Voluntary Elections'!D32="","",'Voluntary Elections'!D32) | D38: =IF(B38="","",'Voluntary Elections'!B32) | E38: =IF(B38="","",calculations!V7) | F38: =IF(B38="","",N(calculations!W7)+N(calculations!X7)) | G38: =IF(B38="","",$F$21) | H38: =IF(B38="","",IF(N(calculations!L7)+N(calculations!N7)=0,"",N(calculations!L7)+N(calculations!N7))) | I38: =IF(B38="","",$F$22) | J38: =IF(B38="","",IF(N(calculations!Q7)=0,"",calculations!Q7)) | K38: =IF(OR(B38="",'Basic Elections'!$C$29<>"Yes"),"","$5,000/$500/$2,000") | L38: =IF(B38="","",IF(N(calculations!Y7)=0,"",calculations!Y7)) | M38: =IF(OR(B38="",'Voluntary Elections'!G32="",'Voluntary Elections'!G32=0),"",'Voluntary Elections'!G32) | N38: =IF(OR(B38="",M38=""),"",N(M38)*IFERROR(INDEX('voluntary life sheet'!$C$3:$M$3,1,MATCH(N('Voluntary Elections'!E32),{0,30,35,40,45,50,55,60,65,70,75},1)),0)/1000) | O38: =IF(OR(B38="",'Voluntary Elections'!H32="",'Voluntary Elections'!H32=0),"",'Voluntary Elections'!H32) | P38: =IF(OR(B38="",O38=""),"",N(O38)*IFERROR(INDEX('voluntary life sheet'!$C$3:$M$3,1,MATCH(N('Voluntary Elections'!E32),{0,30,35,40,45,50,55,60,65,70,75},1)),0)/1000) | Q38: =IF(OR(B38="",'Voluntary Elections'!I32="",'Voluntary Elections'!I32=0),"",'Voluntary Elections'!I32) | R38: =IF(OR(B38="",Q38=""),"",'voluntary life'!$C$42) | S38: =IF(B38="","",SUM(F38,H38,J38,L38,N38,P38,R38))
B39: =IF('Voluntary Elections'!C33="","",'Voluntary Elections'!C33) | C39: =IF('Voluntary Elections'!D33="","",'Voluntary Elections'!D33) | D39: =IF(B39="","",'Voluntary Elections'!B33) | E39: =IF(B39="","",calculations!V8) | F39: =IF(B39="","",N(calculations!W8)+N(calculations!X8)) | G39: =IF(B39="","",$F$21) | H39: =IF(B39="","",IF(N(calculations!L8)+N(calculations!N8)=0,"",N(calculations!L8)+N(calculations!N8))) | I39: =IF(B39="","",$F$22) | J39: =IF(B39="","",IF(N(calculations!Q8)=0,"",calculations!Q8)) | K39: =IF(OR(B39="",'Basic Elections'!$C$29<>"Yes"),"","$5,000/$500/$2,000") | L39: =IF(B39="","",IF(N(calculations!Y8)=0,"",calculations!Y8)) | M39: =IF(OR(B39="",'Voluntary Elections'!G33="",'Voluntary Elections'!G33=0),"",'Voluntary Elections'!G33) | N39: =IF(OR(B39="",M39=""),"",N(M39)*IFERROR(INDEX('voluntary life sheet'!$C$3:$M$3,1,MATCH(N('Voluntary Elections'!E33),{0,30,35,40,45,50,55,60,65,70,75},1)),0)/1000) | O39: =IF(OR(B39="",'Voluntary Elections'!H33="",'Voluntary Elections'!H33=0),"",'Voluntary Elections'!H33) | P39: =IF(OR(B39="",O39=""),"",N(O39)*IFERROR(INDEX('voluntary life sheet'!$C$3:$M$3,1,MATCH(N('Voluntary Elections'!E33),{0,30,35,40,45,50,55,60,65,70,75},1)),0)/1000) | Q39: =IF(OR(B39="",'Voluntary Elections'!I33="",'Voluntary Elections'!I33=0),"",'Voluntary Elections'!I33) | R39: =IF(OR(B39="",Q39=""),"",'voluntary life'!$C$42) | S39: =IF(B39="","",SUM(F39,H39,J39,L39,N39,P39,R39))
B40: =IF('Voluntary Elections'!C34="","",'Voluntary Elections'!C34) | C40: =IF('Voluntary Elections'!D34="","",'Voluntary Elections'!D34) | D40: =IF(B40="","",'Voluntary Elections'!B34) | E40: =IF(B40="","",calculations!V9) | F40: =IF(B40="","",N(calculations!W9)+N(calculations!X9)) | G40: =IF(B40="","",$F$21) | H40: =IF(B40="","",IF(N(calculations!L9)+N(calculations!N9)=0,"",N(calculations!L9)+N(calculations!N9))) | I40: =IF(B40="","",$F$22) | J40: =IF(B40="","",IF(N(calculations!Q9)=0,"",calculations!Q9)) | K40: =IF(OR(B40="",'Basic Elections'!$C$29<>"Yes"),"","$5,000/$500/$2,000") | L40: =IF(B40="","",IF(N(calculations!Y9)=0,"",calculations!Y9)) | M40: =IF(OR(B40="",'Voluntary Elections'!G34="",'Voluntary Elections'!G34=0),"",'Voluntary Elections'!G34) | N40: =IF(OR(B40="",M40=""),"",N(M40)*IFERROR(INDEX('voluntary life sheet'!$C$3:$M$3,1,MATCH(N('Voluntary Elections'!E34),{0,30,35,40,45,50,55,60,65,70,75},1)),0)/1000) | O40: =IF(OR(B40="",'Voluntary Elections'!H34="",'Voluntary Elections'!H34=0),"",'Voluntary Elections'!H34) | P40: =IF(OR(B40="",O40=""),"",N(O40)*IFERROR(INDEX('voluntary life sheet'!$C$3:$M$3,1,MATCH(N('Voluntary Elections'!E34),{0,30,35,40,45,50,55,60,65,70,75},1)),0)/1000) | Q40: =IF(OR(B40="",'Voluntary Elections'!I34="",'Voluntary Elections'!I34=0),"",'Voluntary Elections'!I34) | R40: =IF(OR(B40="",Q40=""),"",'voluntary life'!$C$42) | S40: =IF(B40="","",SUM(F40,H40,J40,L40,N40,P40,R40))
B41: =IF('Voluntary Elections'!C35="","",'Voluntary Elections'!C35) | C41: =IF('Voluntary Elections'!D35="","",'Voluntary Elections'!D35) | D41: =IF(B41="","",'Voluntary Elections'!B35) | E41: =IF(B41="","",calculations!V10) | F41: =IF(B41="","",N(calculations!W10)+N(calculations!X10)) | G41: =IF(B41="","",$F$21) | H41: =IF(B41="","",IF(N(calculations!L10)+N(calculations!N10)=0,"",N(calculations!L10)+N(calculations!N10))) | I41: =IF(B41="","",$F$22) | J41: =IF(B41="","",IF(N(calculations!Q10)=0,"",calculations!Q10)) | K41: =IF(OR(B41="",'Basic Elections'!$C$29<>"Yes"),"","$5,000/$500/$2,000") | L41: =IF(B41="","",IF(N(calculations!Y10)=0,"",calculations!Y10)) | M41: =IF(OR(B41="",'Voluntary Elections'!G35="",'Voluntary Elections'!G35=0),"",'Voluntary Elections'!G35) | N41: =IF(OR(B41="",M41=""),"",N(M41)*IFERROR(INDEX('voluntary life sheet'!$C$3:$M$3,1,MATCH(N('Voluntary Elections'!E35),{0,30,35,40,45,50,55,60,65,70,75},1)),0)/1000) | O41: =IF(OR(B41="",'Voluntary Elections'!H35="",'Voluntary Elections'!H35=0),"",'Voluntary Elections'!H35) | P41: =IF(OR(B41="",O41=""),"",N(O41)*IFERROR(INDEX('voluntary life sheet'!$C$3:$M$3,1,MATCH(N('Voluntary Elections'!E35),{0,30,35,40,45,50,55,60,65,70,75},1)),0)/1000) | Q41: =IF(OR(B41="",'Voluntary Elections'!I35="",'Voluntary Elections'!I35=0),"",'Voluntary Elections'!I35) | R41: =IF(OR(B41="",Q41=""),"",'voluntary life'!$C$42) | S41: =IF(B41="","",SUM(F41,H41,J41,L41,N41,P41,R41))
B42: =IF('Voluntary Elections'!C36="","",'Voluntary Elections'!C36) | C42: =IF('Voluntary Elections'!D36="","",'Voluntary Elections'!D36) | D42: =IF(B42="","",'Voluntary Elections'!B36) | E42: =IF(B42="","",calculations!V11) | F42: =IF(B42="","",N(calculations!W11)+N(calculations!X11)) | G42: =IF(B42="","",$F$21) | H42: =IF(B42="","",IF(N(calculations!L11)+N(calculations!N11)=0,"",N(calculations!L11)+N(calculations!N11))) | I42: =IF(B42="","",$F$22) | J42: =IF(B42="","",IF(N(calculations!Q11)=0,"",calculations!Q11)) | K42: =IF(OR(B42="",'Basic Elections'!$C$29<>"Yes"),"","$5,000/$500/$2,000") | L42: =IF(B42="","",IF(N(calculations!Y11)=0,"",calculations!Y11)) | M42: =IF(OR(B42="",'Voluntary Elections'!G36="",'Voluntary Elections'!G36=0),"",'Voluntary Elections'!G36) | N42: =IF(OR(B42="",M42=""),"",N(M42)*IFERROR(INDEX('voluntary life sheet'!$C$3:$M$3,1,MATCH(N('Voluntary Elections'!E36),{0,30,35,40,45,50,55,60,65,70,75},1)),0)/1000) | O42: =IF(OR(B42="",'Voluntary Elections'!H36="",'Voluntary Elections'!H36=0),"",'Voluntary Elections'!H36) | P42: =IF(OR(B42="",O42=""),"",N(O42)*IFERROR(INDEX('voluntary life sheet'!$C$3:$M$3,1,MATCH(N('Voluntary Elections'!E36),{0,30,35,40,45,50,55,60,65,70,75},1)),0)/1000) | Q42: =IF(OR(B42="",'Voluntary Elections'!I36="",'Voluntary Elections'!I36=0),"",'Voluntary Elections'!I36) | R42: =IF(OR(B42="",Q42=""),"",'voluntary life'!$C$42) | S42: =IF(B42="","",SUM(F42,H42,J42,L42,N42,P42,R42))
B43: =IF('Voluntary Elections'!C37="","",'Voluntary Elections'!C37) | C43: =IF('Voluntary Elections'!D37="","",'Voluntary Elections'!D37) | D43: =IF(B43="","",'Voluntary Elections'!B37) | E43: =IF(B43="","",calculations!V12) | F43: =IF(B43="","",N(calculations!W12)+N(calculations!X12)) | G43: =IF(B43="","",$F$21) | H43: =IF(B43="","",IF(N(calculations!L12)+N(calculations!N12)=0,"",N(calculations!L12)+N(calculations!N12))) | I43: =IF(B43="","",$F$22) | J43: =IF(B43="","",IF(N(calculations!Q12)=0,"",calculations!Q12)) | K43: =IF(OR(B43="",'Basic Elections'!$C$29<>"Yes"),"","$5,000/$500/$2,000") | L43: =IF(B43="","",IF(N(calculations!Y12)=0,"",calculations!Y12)) | M43: =IF(OR(B43="",'Voluntary Elections'!G37="",'Voluntary Elections'!G37=0),"",'Voluntary Elections'!G37) | N43: =IF(OR(B43="",M43=""),"",N(M43)*IFERROR(INDEX('voluntary life sheet'!$C$3:$M$3,1,MATCH(N('Voluntary Elections'!E37),{0,30,35,40,45,50,55,60,65,70,75},1)),0)/1000) | O43: =IF(OR(B43="",'Voluntary Elections'!H37="",'Voluntary Elections'!H37=0),"",'Voluntary Elections'!H37) | P43: =IF(OR(B43="",O43=""),"",N(O43)*IFERROR(INDEX('voluntary life sheet'!$C$3:$M$3,1,MATCH(N('Voluntary Elections'!E37),{0,30,35,40,45,50,55,60,65,70,75},1)),0)/1000) | Q43: =IF(OR(B43="",'Voluntary Elections'!I37="",'Voluntary Elections'!I37=0),"",'Voluntary Elections'!I37) | R43: =IF(OR(B43="",Q43=""),"",'voluntary life'!$C$42) | S43: =IF(B43="","",SUM(F43,H43,J43,L43,N43,P43,R43))
B44: =IF('Voluntary Elections'!C38="","",'Voluntary Elections'!C38) | C44: =IF('Voluntary Elections'!D38="","",'Voluntary Elections'!D38) | D44: =IF(B44="","",'Voluntary Elections'!B38) | E44: =IF(B44="","",calculations!V13) | F44: =IF(B44="","",N(calculations!W13)+N(calculations!X13)) | G44: =IF(B44="","",$F$21) | H44: =IF(B44="","",IF(N(calculations!L13)+N(calculations!N13)=0,"",N(calculations!L13)+N(calculations!N13))) | I44: =IF(B44="","",$F$22) | J44: =IF(B44="","",IF(N(calculations!Q13)=0,"",calculations!Q13)) | K44: =IF(OR(B44="",'Basic Elections'!$C$29<>"Yes"),"","$5,000/$500/$2,000") | L44: =IF(B44="","",IF(N(calculations!Y13)=0,"",calculations!Y13)) | M44: =IF(OR(B44="",'Voluntary Elections'!G38="",'Voluntary Elections'!G38=0),"",'Voluntary Elections'!G38) | N44: =IF(OR(B44="",M44=""),"",N(M44)*IFERROR(INDEX('voluntary life sheet'!$C$3:$M$3,1,MATCH(N('Voluntary Elections'!E38),{0,30,35,40,45,50,55,60,65,70,75},1)),0)/1000) | O44: =IF(OR(B44="",'Voluntary Elections'!H38="",'Voluntary Elections'!H38=0),"",'Voluntary Elections'!H38) | P44: =IF(OR(B44="",O44=""),"",N(O44)*IFERROR(INDEX('voluntary life sheet'!$C$3:$M$3,1,MATCH(N('Voluntary Elections'!E38),{0,30,35,40,45,50,55,60,65,70,75},1)),0)/1000) | Q44: =IF(OR(B44="",'Voluntary Elections'!I38="",'Voluntary Elections'!I38=0),"",'Voluntary Elections'!I38) | R44: =IF(OR(B44="",Q44=""),"",'voluntary life'!$C$42) | S44: =IF(B44="","",SUM(F44,H44,J44,L44,N44,P44,R44))
B45: =IF('Voluntary Elections'!C39="","",'Voluntary Elections'!C39) | C45: =IF('Voluntary Elections'!D39="","",'Voluntary Elections'!D39) | D45: =IF(B45="","",'Voluntary Elections'!B39) | E45: =IF(B45="","",calculations!V14) | F45: =IF(B45="","",N(calculations!W14)+N(calculations!X14)) | G45: =IF(B45="","",$F$21) | H45: =IF(B45="","",IF(N(calculations!L14)+N(calculations!N14)=0,"",N(calculations!L14)+N(calculations!N14))) | I45: =IF(B45="","",$F$22) | J45: =IF(B45="","",IF(N(calculations!Q14)=0,"",calculations!Q14)) | K45: =IF(OR(B45="",'Basic Elections'!$C$29<>"Yes"),"","$5,000/$500/$2,000") | L45: =IF(B45="","",IF(N(calculations!Y14)=0,"",calculations!Y14)) | M45: =IF(OR(B45="",'Voluntary Elections'!G39="",'Voluntary Elections'!G39=0),"",'Voluntary Elections'!G39) | N45: =IF(OR(B45="",M45=""),"",N(M45)*IFERROR(INDEX('voluntary life sheet'!$C$3:$M$3,1,MATCH(N('Voluntary Elections'!E39),{0,30,35,40,45,50,55,60,65,70,75},1)),0)/1000) | O45: =IF(OR(B45="",'Voluntary Elections'!H39="",'Voluntary Elections'!H39=0),"",'Voluntary Elections'!H39) | P45: =IF(OR(B45="",O45=""),"",N(O45)*IFERROR(INDEX('voluntary life sheet'!$C$3:$M$3,1,MATCH(N('Voluntary Elections'!E39),{0,30,35,40,45,50,55,60,65,70,75},1)),0)/1000) | Q45: =IF(OR(B45="",'Voluntary Elections'!I39="",'Voluntary Elections'!I39=0),"",'Voluntary Elections'!I39) | R45: =IF(OR(B45="",Q45=""),"",'voluntary life'!$C$42) | S45: =IF(B45="","",SUM(F45,H45,J45,L45,N45,P45,R45))
B46: =IF('Voluntary Elections'!C40="","",'Voluntary Elections'!C40) | C46: =IF('Voluntary Elections'!D40="","",'Voluntary Elections'!D40) | D46: =IF(B46="","",'Voluntary Elections'!B40) | E46: =IF(B46="","",calculations!V15) | F46: =IF(B46="","",N(calculations!W15)+N(calculations!X15)) | G46: =IF(B46="","",$F$21) | H46: =IF(B46="","",IF(N(calculations!L15)+N(calculations!N15)=0,"",N(calculations!L15)+N(calculations!N15))) | I46: =IF(B46="","",$F$22) | J46: =IF(B46="","",IF(N(calculations!Q15)=0,"",calculations!Q15)) | K46: =IF(OR(B46="",'Basic Elections'!$C$29<>"Yes"),"","$5,000/$500/$2,000") | L46: =IF(B46="","",IF(N(calculations!Y15)=0,"",calculations!Y15)) | M46: =IF(OR(B46="",'Voluntary Elections'!G40="",'Voluntary Elections'!G40=0),"",'Voluntary Elections'!G40) | N46: =IF(OR(B46="",M46=""),"",N(M46)*IFERROR(INDEX('voluntary life sheet'!$C$3:$M$3,1,MATCH(N('Voluntary Elections'!E40),{0,30,35,40,45,50,55,60,65,70,75},1)),0)/1000) | O46: =IF(OR(B46="",'Voluntary Elections'!H40="",'Voluntary Elections'!H40=0),"",'Voluntary Elections'!H40) | P46: =IF(OR(B46="",O46=""),"",N(O46)*IFERROR(INDEX('voluntary life sheet'!$C$3:$M$3,1,MATCH(N('Voluntary Elections'!E40),{0,30,35,40,45,50,55,60,65,70,75},1)),0)/1000) | Q46: =IF(OR(B46="",'Voluntary Elections'!I40="",'Voluntary Elections'!I40=0),"",'Voluntary Elections'!I40) | R46: =IF(OR(B46="",Q46=""),"",'voluntary life'!$C$42) | S46: =IF(B46="","",SUM(F46,H46,J46,L46,N46,P46,R46))
... B133: =IF('Voluntary Elections'!C127="","",'Voluntary Elections'!C127) | C133: =IF('Voluntary Elections'!D127="","",'Voluntary Elections'!D127) | D133: =IF(B133="","",'Voluntary Elections'!B127) | E133: =IF(B133="","",calculations!V102) | F133: =IF(B133="","",N(calculations!W102)+N(calculations!X102)) | G133: =IF(B133="","",$F$21) | H133: =IF(B133="","",IF(N(calculations!L102)+N(calculations!N102)=0,"",N(calculations!L102)+N(calculations!N102))) | I133: =IF(B133="","",$F$22) | J133: =IF(B133="","",IF(N(calculations!Q102)=0,"",calculations!Q102)) | K133: =IF(OR(B133="",'Basic Elections'!$C$29<>"Yes"),"","$5,000/$500/$2,000") | L133: =IF(B133="","",IF(N(calculations!Y102)=0,"",calculations!Y102)) | M133: =IF(OR(B133="",'Voluntary Elections'!G127="",'Voluntary Elections'!G127=0),"",'Voluntary Elections'!G127) | N133: =IF(OR(B133="",M133=""),"",N(M133)*IFERROR(INDEX('voluntary life sheet'!$C$3:$M$3,1,MATCH(N('Voluntary Elections'!E127),{0,30,35,40,45,50,55,60,65,70,75},1)),0)/1000) | O133: =IF(OR(B133="",'Voluntary Elections'!H127="",'Voluntary Elections'!H127=0),"",'Voluntary Elections'!H127) | P133: =IF(OR(B133="",O133=""),"",N(O133)*IFERROR(INDEX('voluntary life sheet'!$C$3:$M$3,1,MATCH(N('Voluntary Elections'!E127),{0,30,35,40,45,50,55,60,65,70,75},1)),0)/1000) | Q133: =IF(OR(B133="",'Voluntary Elections'!I127="",'Voluntary Elections'!I127=0),"",'Voluntary Elections'!I127) | R133: =IF(OR(B133="",Q133=""),"",'voluntary life'!$C$42) | S133: =IF(B133="","",SUM(F133,H133,J133,L133,N133,P133,R133))
B134: All Employees Total | E134: =SUM(E34:E133) -> 0 | F134: =SUM(F34:F133) -> 0 | H134: =SUM(H34:H133) -> 0 | J134: =SUM(J34:J133) -> 0 | L134: =SUM(L34:L133) -> 0 | M134: =SUM(M34:M133) -> 0 | N134: =SUM(N34:N133) -> 0 | O134: =SUM(O34:O133) -> 0 | P134: =SUM(P34:P133) -> 0 | Q134: =SUM(Q34:Q133) -> 0 | R134: =SUM(R34:R133) -> 0 | S134: =SUM(S34:S133) -> 0
B136: Employee Basic Life and AD&D Summary
B139: First Name | C139: Last Name | D139: Employee Number | E139: Age | F139: Volume | G139: Life Rate | H139: Life Premium | I139: AD&D Rate | J139: AD&D Premium | K139: Total Premium | M139: First Name | N139: Last Name | O139: Employee Number | P139: Age | Q139: Volume | R139: Life Rate | S139: Life Premium | T139: AD&D Rate | U139: AD&D Premium | V139: Total Premium
...

Sheet voluntary life
A7: Voluntary Life / AD&D
A8: Monthly Premium Calculation Spreadsheet
B9: 0.122 | C9: 0.143 | D9: 0.164 | E9: 0.239 | F9: 0.366 | G9: 0.673 | H9: 1.065 | I9: 1.299 | J9: 2.21 | K9: 5.157 | L9: 19.488
A10: Age | B10: <30 | C10: 30-34 | D10: 35-39 | E10: 40-44 | F10: 45-49 | G10: 50-54 | H10: 55-59 | I10: 60-64 | J10: 65-69 | K10: 70-74** | L10: 75+**
A11: 10000 | B11: =(B$9*$A11)/1000 -> 1.22 | C11: =(C$9*$A11)/1000 -> 1.43 | D11: =(D$9*$A11)/1000 -> 1.64 | E11: =(E$9*$A11)/1000 -> 2.39 | F11: =(F$9*$A11)/1000 -> 3.66 | G11: =(G$9*$A11)/1000 -> 6.73 | H11: =(H$9*$A11)/1000 -> 10.65 | I11: =(I$9*$A11)/1000 -> 12.99 | ... L11: =(L$9*$A11)/1000 -> 194.88
A12: 20000 | B12: =(B$9*$A12)/1000 -> 2.44 | C12: =(C$9*$A12)/1000 -> 2.86 | D12: =(D$9*$A12)/1000 -> 3.28 | E12: =(E$9*$A12)/1000 -> 4.78 | F12: =(F$9*$A12)/1000 -> 7.32 | G12: =(G$9*$A12)/1000 -> 13.46 | H12: =(H$9*$A12)/1000 -> 21.3 | I12: =(I$9*$A12)/1000 -> 25.98 | ... L12: =(L$9*$A12)/1000 -> 389.76
A13: 30000 | B13: =(B$9*$A13)/1000 -> 3.66 | C13: =(C$9*$A13)/1000 -> 4.29 | D13: =(D$9*$A13)/1000 -> 4.92 | E13: =(E$9*$A13)/1000 -> 7.17 | F13: =(F$9*$A13)/1000 -> 10.98 | G13: =(G$9*$A13)/1000 -> 20.19 | H13: =(H$9*$A13)/1000 -> 31.95 | I13: =(I$9*$A13)/1000 -> 38.97 | ... L13: =(L$9*$A13)/1000 -> 584.64
A14: 40000 | B14: =(B$9*$A14)/1000 -> 4.88 | C14: =(C$9*$A14)/1000 -> 5.72 | D14: =(D$9*$A14)/1000 -> 6.56 | E14: =(E$9*$A14)/1000 -> 9.56 | F14: =(F$9*$A14)/1000 -> 14.64 | G14: =(G$9*$A14)/1000 -> 26.92 | H14: =(H$9*$A14)/1000 -> 42.6 | I14: =(I$9*$A14)/1000 -> 51.96 | ... L14: =(L$9*$A14)/1000 -> 779.52
A15: 50000 | B15: =(B$9*$A15)/1000 -> 6.1 | C15: =(C$9*$A15)/1000 -> 7.15 | D15: =(D$9*$A15)/1000 -> 8.2 | E15: =(E$9*$A15)/1000 -> 11.95 | F15: =(F$9*$A15)/1000 -> 18.3 | G15: =(G$9*$A15)/1000 -> 33.65 | H15: =(H$9*$A15)/1000 -> 53.25 | I15: =(I$9*$A15)/1000 -> 64.95 | ... L15: =(L$9*$A15)/1000 -> 974.4
A16: 60000 | B16: =(B$9*$A16)/1000 -> 7.32 | C16: =(C$9*$A16)/1000 -> 8.58 | D16: =(D$9*$A16)/1000 -> 9.84 | E16: =(E$9*$A16)/1000 -> 14.34 | F16: =(F$9*$A16)/1000 -> 21.96 | G16: =(G$9*$A16)/1000 -> 40.38 | H16: =(H$9*$A16)/1000 -> 63.9 | I16: =(I$9*$A16)/1000 -> 77.94 | ... L16: =(L$9*$A16)/1000 -> 1169.28
A17: 70000 | B17: =(B$9*$A17)/1000 -> 8.54 | C17: =(C$9*$A17)/1000 -> 10.01 | D17: =(D$9*$A17)/1000 -> 11.48 | E17: =(E$9*$A17)/1000 -> 16.73 | F17: =(F$9*$A17)/1000 -> 25.62 | G17: =(G$9*$A17)/1000 -> 47.11 | H17: =(H$9*$A17)/1000 -> 74.55 | I17: =(I$9*$A17)/1000 -> 90.93 | ... L17: =(L$9*$A17)/1000 -> 1364.16
A18: 80000 | B18: =(B$9*$A18)/1000 -> 9.76 | C18: =(C$9*$A18)/1000 -> 11.44 | D18: =(D$9*$A18)/1000 -> 13.12 | E18: =(E$9*$A18)/1000 -> 19.12 | F18: =(F$9*$A18)/1000 -> 29.28 | G18: =(G$9*$A18)/1000 -> 53.84 | H18: =(H$9*$A18)/1000 -> 85.2 | I18: =(I$9*$A18)/1000 -> 103.92 | ... L18: =(L$9*$A18)/1000 -> 1559.04
A19: 90000 | B19: =(B$9*$A19)/1000 -> 10.98 | C19: =(C$9*$A19)/1000 -> 12.87 | D19: =(D$9*$A19)/1000 -> 14.76 | E19: =(E$9*$A19)/1000 -> 21.51 | F19: =(F$9*$A19)/1000 -> 32.94 | G19: =(G$9*$A19)/1000 -> 60.57 | H19: =(H$9*$A19)/1000 -> 95.85 | I19: =(I$9*$A19)/1000 -> 116.91 | ... L19: =(L$9*$A19)/1000 -> 1753.92
A20: 100000 | B20: =(B$9*$A20)/1000 -> 12.2 | C20: =(C$9*$A20)/1000 -> 14.3 | D20: =(D$9*$A20)/1000 -> 16.4 | E20: =(E$9*$A20)/1000 -> 23.9 | F20: =(F$9*$A20)/1000 -> 36.6 | G20: =(G$9*$A20)/1000 -> 67.3 | H20: =(H$9*$A20)/1000 -> 106.5 | I20: =(I$9*$A20)/1000 -> 129.9 | ... L20: =(L$9*$A20)/1000 -> 1948.8
A21: 110000 | B21: =(B$9*$A21)/1000 -> 13.42 | C21: =(C$9*$A21)/1000 -> 15.73 | D21: =(D$9*$A21)/1000 -> 18.04 | E21: =(E$9*$A21)/1000 -> 26.29 | F21: =(F$9*$A21)/1000 -> 40.26 | G21: =(G$9*$A21)/1000 -> 74.03 | H21: =(H$9*$A21)/1000 -> 117.15 | I21: =(I$9*$A21)/1000 -> 142.89 | ... L21: =(L$9*$A21)/1000 -> 2143.68
A22: 120000 | B22: =(B$9*$A22)/1000 -> 14.64 | C22: =(C$9*$A22)/1000 -> 17.16 | D22: =(D$9*$A22)/1000 -> 19.68 | E22: =(E$9*$A22)/1000 -> 28.68 | F22: =(F$9*$A22)/1000 -> 43.92 | G22: =(G$9*$A22)/1000 -> 80.76 | H22: =(H$9*$A22)/1000 -> 127.8 | I22: =(I$9*$A22)/1000 -> 155.88 | ... L22: =(L$9*$A22)/1000 -> 2338.56
... A40: 300000 | B40: =(B$9*$A40)/1000 -> 36.6 | C40: =(C$9*$A40)/1000 -> 42.9 | D40: =(D$9*$A40)/1000 -> 49.2 | E40: =(E$9*$A40)/1000 -> 71.7 | F40: =(F$9*$A40)/1000 -> 109.8 | G40: =(G$9*$A40)/1000 -> 201.9 | H40: =(H$9*$A40)/1000 -> 319.5 | I40: =(I$9*$A40)/1000 -> 389.7 | ... L40: =(L$9*$A40)/1000 -> 5846.4
A42: Dependent Child(ren) | C42: 2.12
A43: Election Parameters
D45: Employee | F45: Spouse* | H45: Dependent Life Benefit
A46: Minimum Election | D46: 10000 | F46: 5000 | H46: Live Birth to 6 months | K46: 1000
A47: Maximum Election | D47: 500000 | F47: 25000 | H47: After 6 months | K47: 10000
A48: Increments of | D48: 10000 | F48: 5000
A49: Guarantee Issue** | D49: $100,000*** | F49: 25000
A51: *Premium calculation for spouse is based upon the age of the employee.
A52: **Employees age 70-74 receive $20,000 guarantee issue; employees 75 or older must satisfy full medical underwriting.
A53: ***GI is $100,000
A55: Employee must elect coverage for spouse and / or children to be eligible for coverage.
A57: Please refer to the certificates for a complete description of benefits, limitations and exclusions.
A59: OneAmerica Financial is the marketing name for the companies of OneAmerica Financial. Products issued and underwritten by American United Life Insurance Company® (AUL), Indianapolis, IN, a OneAmerica company. Not available in all states or may vary by state. Rates are guaranteed until 12/31/2028 Dependent Life/AD&D can only be purchased in conjunction with Basic Life/AD&D Basic Life/AD&D limitations for 1 life groups (30k, 50k or 1x on Basic Life/AD&D is not available) Limitations for 1 life groups (SSNRA is not available)
A61: Benefits terminate at retirement.

Sheet voluntary std
B2: Voluntary STD
B3: Monthly Premium Calculation Spreadsheet
B4: 60% Voluntary STD Rates
B5: Age Band | C5: 0/7/13 | D5: 0/7/26 | E5: 14/14/11 | F5: 14/14/24
B6: 0 - 24 | C6: 0.77 | D6: 0.9 | E6: 0.57 | F6: 0.75
B7: 25-29 | C7: 0.82 | D7: 0.95 | E7: 0.63 | F7: 0.84
B8: 30-34 | C8: 0.82 | D8: 0.94 | E8: 0.61 | F8: 0.84
B9: 35-39 | C9: 0.69 | D9: 0.81 | E9: 0.5 | F9: 0.72
B10: 40-44 | C10: 0.65 | D10: 0.79 | E10: 0.48 | F10: 0.71
B11: 45-49 | C11: 0.72 | D11: 0.88 | E11: 0.53 | F11: 0.78
B12: 50-54 | C12: 0.87 | D12: 1.05 | E12: 0.63 | F12: 0.94
B13: 55-59 | C13: 1.15 | D13: 1.4 | E13: 0.84 | F13: 1.25
B14: 60-64 | C14: 1.32 | D14: 1.61 | E14: 0.96 | F14: 1.45
B15: 65-69 | C15: 1.41 | D15: 1.72 | E15: 1.03 | F15: 1.55
B16: 70+ | C16: 1.53 | D16: 1.86 | E16: 1.12 | F16: 1.67
B19: Voluntary Plans are 100% Employee Paid
B20: Non taxable

Sheet voluntary ltd
B2: Voluntary LTD
B3: Monthly Premium Calculation Spreadsheet
B4: 60% Voluntary LTD Rates
B5: Age Band | C5: 90d 5YR | D5: 90d SSNRA | E5: 180d 5 YR | F5: 180d SSNRA
B6: 0 - 24 | C6: 0.13 | D6: 0.23 | E6: 0.08 | F6: 0.19
B7: 25-29 | C7: 0.18 | D7: 0.34 | E7: 0.12 | F7: 0.25
B8: 30-34 | C8: 0.29 | D8: 0.57 | E8: 0.21 | F8: 0.44
B9: 35-39 | C9: 0.39 | D9: 0.79 | E9: 0.28 | F9: 0.61
B10: 40-44 | C10: 0.58 | D10: 1.18 | E10: 0.44 | F10: 0.93
B11: 45-49 | C11: 0.87 | D11: 1.73 | E11: 0.67 | F11: 1.4
B12: 50-54 | C12: 1.24 | D12: 2.16 | E12: 0.96 | F12: 1.66
B13: 55-59 | C13: 1.68 | D13: 2.3 | E13: 1.28 | F13: 1.7
B14: 60-64 | C14: 1.89 | D14: 2.18 | E14: 1.42 | F14: 1.63
B15: 65-69 | C15: 1.05 | D15: 1.2 | E15: 0.79 | F15: 0.89
B16: 70+ | C16: 0.78 | D16: 0.88 | E16: 0.58 | F16: 0.68
B18: Voluntary Plans are 100% Employee Paid
B19: Non taxable

Sheet calculations
S1: Life Volume Checks | V1: e = ee count | W1: IF(E3>0,((T3*'summary lookup and rates'!$C$5)/1000),0)
A2: DOB | B2: Age Input | C2: BAE | D2: Age Today | E2: Count? | F2: Employee # | G2: Life Selection | H2: BAE Total Round Up | I2: dLife Selection | J2: STD Selection | K2: WIB | L2: STD Premium | M2: WIB | N2: STD Premium | O2: LTD Selection | P2: Monthly Income | Q2: LTD Premium | R2: Life/AD&D Reduction | S2: A Check | T2: B, C, D, E, F Check | U2: Pre-Reduction Volume | V2: Actual Life Volume | W2: Life Premium | X2: AD&D Premium | Y2: dLife Premium | Z2: VOL STD Selection | AA2: WIB | AB2: STD Premium | AC2: VOL LTD Selection | AD2: Monthly Income | AE2: LTD Premium
A3: =IF('Basic Elections'!$C$56="","",'Basic Elections'!E56) | B3: =IF('Basic Elections'!$C$56="","",'Basic Elections'!F56) | C3: =IF('Basic Elections'!$C$56="","",'Basic Elections'!G56) | D3: =IF('Basic Elections'!$C$56="","",IF(B3>0,B3,IF(A3>0,DATEDIF(A3,TODAY(),"Y"),0))) | E3: =IF('Basic Elections'!$C$56="","",IF(OR(A3<>0,B3<>0),1,0)) | F3: =IF('Basic Elections'!$C$56="","",IF(E3=1,1,0)) | G3: =IF('Basic Elections'!$C$56="","",'Basic Elections'!$C$18) | H3: =IF('Basic Elections'!$C$56="","",IF(ROUNDUP(C3,-3)>100000,100000,ROUNDUP(C3,-3))) | I3: =IF('Basic Elections'!$C$56="","",'Basic Elections'!$C$29) | J3: =IF('Basic Elections'!$C$56="","",'Basic Elections'!$C$34) | K3: =IF('Basic Elections'!$C$56="","",IF(OR(J3="A",J3="B",J3="C",J3="D"),(IF((C3/52)*0.6667>1000,1000,(C3/52)*0.6667)),0)) | L3: =IF('Basic Elections'!$C$56="","",(IF(AND(J3<>"None",E3<>0),VLOOKUP(J3,STD_Rates_lookup,2,FALSE),0))*(K3/10)) | M3: =IF('Basic Elections'!$C$56="","",IF(OR(J3="E",J3="F",J3="G",J3="H"),IF((C3/52)*0.6>1000,1000,(C3/52)*0.6),0)) | N3: =IF('Basic Elections'!$C$56="","",(IF(AND(J3<>"None",E3<>0),VLOOKUP(J3,STD_Rates_lookup,2,FALSE),0))*(M3/10)) | O3: =IF('Basic Elections'!$C$56="","",'Basic Elections'!$C$45) | P3: =IF('Basic Elections'!$C$56="","",IF(C3/12>10000,10000,C3/12)) | Q3: =IF('Basic Elections'!$C$56="","",(IF(AND(O3<>"None",E3<>0),VLOOKUP(O3,LTD_Rates_lookup,2,FALSE),0))*(P3/100)) | R3: =IF('Basic Elections'!$C$56="","",IF(D3=0,0,VLOOKUP(D3,life_age_reduction,4,FALSE))) | S3: =IF('Basic Elections'!$C$56="","",IF(G3="A",H3,0)) | T3: =IF('Basic Elections'!$C$56="","",IF(OR(G3="B",G3="C",G3="D",G3="E",G3="F"),VLOOKUP(G3,summary_benefit_lookup,2,FALSE),0)) | U3: =IF('Basic Elections'!$C$56="","",T3+S3) | V3: =IF(F3="","",IF(E3>0,IF(AND(G3="A",R3>0),MIN(C3,100000)*(1-R3),U3*(1-R3)),0)) | W3: =IF('Basic Elections'!$C$56="","",IF(E3>0,(V3*'summary lookup and rates'!$C$5)/1000,0)) | X3: =IF('Basic Elections'!$C$56="","",(V3*'summary lookup and rates'!$C$6)/1000) | Y3: =IF('Basic Elections'!$C$56="","",IF(AND(E3>0,'Basic Elections'!$C$29="Yes"),'summary lookup and rates'!$C$7,0)) | Z3: =IF('Basic Elections'!$C$56="","",IF(E3=0,"None",'Voluntary Elections'!$C$14)) | AA3: =IF('Basic Elections'!$C$56="","",IF((C3/52)*0.6>1000,1000,(C3/52)*0.6)) | AB3: =IF('Basic Elections'!$C$56="","",IF(OR(E3=0,Z3="None"),0,INDEX('census age lookup Vol STD'!$B$4:$E$103,MATCH(D3,'census age lookup Vol STD'!$A$4:$A$103,0),MATCH(Z3,'census age lookup Vol STD'!$B$3:$E$3,0))*(AA3/10))) | AC3: =IF('Basic Elections'!$C$56="","",IF(E3=0,"None",'Voluntary Elections'!$C$20)) | AD3: =IF('Basic Elections'!$C$56="","",IF(C3/12>10000,10000,C3/12)) | AE3: =IF('Basic Elections'!$C$56="","",IF(OR(E3=0,AC3="None"),0,INDEX('census age lookup Vol LTD'!$B$4:$E$103,MATCH(D3,'census age lookup Vol LTD'!$A$4:$A$103,0),MATCH(AC3,'census age lookup Vol LTD'!$B$3:$E$3,0))*(AD3/100)))
A4: =IF('Basic Elections'!$C$57="","",'Basic Elections'!E57) | B4: =IF('Basic Elections'!$C$57="","",'Basic Elections'!F57) | C4: =IF('Basic Elections'!$C$57="","",'Basic Elections'!G57) | D4: =IF('Basic Elections'!$C$57="","",IF(B4>0,B4,IF(A4>0,DATEDIF(A4,TODAY(),"Y"),0))) | E4: =IF('Basic Elections'!$C$57="","",IF(OR(A4<>0,B4<>0),1,0)) | F4: =IF('Basic Elections'!$C$57="","",IF(E4=1,F3+1,0)) | G4: =IF('Basic Elections'!$C$57="","",'Basic Elections'!$C$18) | H4: =IF('Basic Elections'!$C$57="","",IF(ROUNDUP(C4,-3)>100000,100000,ROUNDUP(C4,-3))) | I4: =IF('Basic Elections'!$C$57="","",'Basic Elections'!$C$29) | J4: =IF('Basic Elections'!$C$57="","",'Basic Elections'!$C$34) | K4: =IF('Basic Elections'!$C$57="","",IF(OR(J4="A",J4="B",J4="C",J4="D"),(IF((C4/52)*0.6667>1000,1000,(C4/52)*0.6667)),0)) | L4: =IF('Basic Elections'!$C$57="","",(IF(AND(J4<>"None",E4<>0),VLOOKUP(J4,STD_Rates_lookup,2,FALSE),0))*(K4/10)) | M4: =IF('Basic Elections'!$C$57="","",IF(OR(J4="E",J4="F",J4="G",J4="H"),IF((C4/52)*0.6>1000,1000,(C4/52)*0.6),0)) | N4: =IF('Basic Elections'!$C$57="","",(IF(AND(J4<>"None",E4<>0),VLOOKUP(J4,STD_Rates_lookup,2,FALSE),0))*(M4/10)) | O4: =IF('Basic Elections'!$C$57="","",'Basic Elections'!$C$45) | P4: =IF('Basic Elections'!$C$57="","",IF(C4/12>10000,10000,C4/12)) | Q4: =IF('Basic Elections'!$C$57="","",(IF(AND(O4<>"None",E4<>0),VLOOKUP(O4,LTD_Rates_lookup,2,FALSE),0))*(P4/100)) | R4: =IF('Basic Elections'!$C$57="","",IF(D4=0,0,VLOOKUP(D4,life_age_reduction,4,FALSE))) | S4: =IF('Basic Elections'!$C$57="","",IF(G4="A",H4,0)) | T4: =IF('Basic Elections'!$C$57="","",IF(OR(G4="B",G4="C",G4="D",G4="E",G4="F"),VLOOKUP(G4,summary_benefit_lookup,2,FALSE),0)) | U4: =IF('Basic Elections'!$C$57="","",T4+S4) | V4: =IF(F4="","",IF(E4>0,IF(AND(G4="A",R4>0),MIN(C4,100000)*(1-R4),U4*(1-R4)),0)) | W4: =IF('Basic Elections'!$C$57="","",IF(E4>0,(V4*'summary lookup and rates'!$C$5)/1000,0)) | X4: =IF('Basic Elections'!$C$57="","",(V4*'summary lookup and rates'!$C$6)/1000) | Y4: =IF('Basic Elections'!$C$57="","",IF(AND(E4>0,'Basic Elections'!$C$29="Yes"),'summary lookup and rates'!$C$7,0)) | Z4: =IF('Basic Elections'!$C$57="","",IF(E4=0,"None",'Voluntary Elections'!$C$14)) | AA4: =IF('Basic Elections'!$C$57="","",IF((C4/52)*0.6>1000,1000,(C4/52)*0.6)) | AB4: =IF('Basic Elections'!$C$57="","",IF(OR(E4=0,Z4="None"),0,INDEX('census age lookup Vol STD'!$B$4:$E$103,MATCH(D4,'census age lookup Vol STD'!$A$4:$A$103,0),MATCH(Z4,'census age lookup Vol STD'!$B$3:$E$3,0))*(AA4/10))) | AC4: =IF('Basic Elections'!$C$57="","",IF(E4=0,"None",'Voluntary Elections'!$C$20)) | AD4: =IF('Basic Elections'!$C$57="","",IF(C4/12>10000,10000,C4/12)) | AE4: =IF('Basic Elections'!$C$57="","",IF(OR(E4=0,AC4="None"),0,INDEX('census age lookup Vol LTD'!$B$4:$E$103,MATCH(D4,'census age lookup Vol LTD'!$A$4:$A$103,0),MATCH(AC4,'census age lookup Vol LTD'!$B$3:$E$3,0))*(AD4/100)))
A5: =IF('Basic Elections'!$C$58="","",'Basic Elections'!E58) | B5: =IF('Basic Elections'!$C$58="","",'Basic Elections'!F58) | C5: =IF('Basic Elections'!$C$58="","",'Basic Elections'!G58) | D5: =IF('Basic Elections'!$C$58="","",IF(B5>0,B5,IF(A5>0,DATEDIF(A5,TODAY(),"Y"),0))) | E5: =IF('Basic Elections'!$C$58="","",IF(OR(A5<>0,B5<>0),1,0)) | F5: =IF('Basic Elections'!$C$58="","",IF(E5=1,F4+1,0)) | G5: =IF('Basic Elections'!$C$58="","",'Basic Elections'!$C$18) | H5: =IF('Basic Elections'!$C$58="","",IF(ROUNDUP(C5,-3)>100000,100000,ROUNDUP(C5,-3))) | I5: =IF('Basic Elections'!$C$58="","",'Basic Elections'!$C$29) | J5: =IF('Basic Elections'!$C$58="","",'Basic Elections'!$C$34) | K5: =IF('Basic Elections'!$C$58="","",IF(OR(J5="A",J5="B",J5="C",J5="D"),(IF((C5/52)*0.6667>1000,1000,(C5/52)*0.6667)),0)) | L5: =IF('Basic Elections'!$C$58="","",(IF(AND(J5<>"None",E5<>0),VLOOKUP(J5,STD_Rates_lookup,2,FALSE),0))*(K5/10)) | M5: =IF('Basic Elections'!$C$58="","",IF(OR(J5="E",J5="F",J5="G",J5="H"),IF((C5/52)*0.6>1000,1000,(C5/52)*0.6),0)) | N5: =IF('Basic Elections'!$C$58="","",(IF(AND(J5<>"None",E5<>0),VLOOKUP(J5,STD_Rates_lookup,2,FALSE),0))*(M5/10)) | O5: =IF('Basic Elections'!$C$58="","",'Basic Elections'!$C$45) | P5: =IF('Basic Elections'!$C$58="","",IF(C5/12>10000,10000,C5/12)) | Q5: =IF('Basic Elections'!$C$58="","",(IF(AND(O5<>"None",E5<>0),VLOOKUP(O5,LTD_Rates_lookup,2,FALSE),0))*(P5/100)) | R5: =IF('Basic Elections'!$C$58="","",IF(D5=0,0,VLOOKUP(D5,life_age_reduction,4,FALSE))) | S5: =IF('Basic Elections'!$C$58="","",IF(G5="A",H5,0)) | T5: =IF('Basic Elections'!$C$58="","",IF(OR(G5="B",G5="C",G5="D",G5="E",G5="F"),VLOOKUP(G5,summary_benefit_lookup,2,FALSE),0)) | U5: =IF('Basic Elections'!$C$58="","",T5+S5) | V5: =IF(F5="","",IF(E5>0,IF(AND(G5="A",R5>0),MIN(C5,100000)*(1-R5),U5*(1-R5)),0)) | W5: =IF('Basic Elections'!$C$58="","",IF(E5>0,(V5*'summary lookup and rates'!$C$5)/1000,0)) | X5: =IF('Basic Elections'!$C$58="","",(V5*'summary lookup and rates'!$C$6)/1000) | Y5: =IF('Basic Elections'!$C$58="","",IF(AND(E5>0,'Basic Elections'!$C$29="Yes"),'summary lookup and rates'!$C$7,0)) | Z5: =IF('Basic Elections'!$C$58="","",IF(E5=0,"None",'Voluntary Elections'!$C$14)) | AA5: =IF('Basic Elections'!$C$58="","",IF((C5/52)*0.6>1000,1000,(C5/52)*0.6)) | AB5: =IF('Basic Elections'!$C$58="","",IF(OR(E5=0,Z5="None"),0,INDEX('census age lookup Vol STD'!$B$4:$E$103,MATCH(D5,'census age lookup Vol STD'!$A$4:$A$103,0),MATCH(Z5,'census age lookup Vol STD'!$B$3:$E$3,0))*(AA5/10))) | AC5: =IF('Basic Elections'!$C$58="","",IF(E5=0,"None",'Voluntary Elections'!$C$20)) | AD5: =IF('Basic Elections'!$C$58="","",IF(C5/12>10000,10000,C5/12)) | AE5: =IF('Basic Elections'!$C$58="","",IF(OR(E5=0,AC5="None"),0,INDEX('census age lookup Vol LTD'!$B$4:$E$103,MATCH(D5,'census age lookup Vol LTD'!$A$4:$A$103,0),MATCH(AC5,'census age lookup Vol LTD'!$B$3:$E$3,0))*(AD5/100)))
A6: =IF('Basic Elections'!$C$59="","",'Basic Elections'!E59) | B6: =IF('Basic Elections'!$C$59="","",'Basic Elections'!F59) | C6: =IF('Basic Elections'!$C$59="","",'Basic Elections'!G59) | D6: =IF('Basic Elections'!$C$59="","",IF(B6>0,B6,IF(A6>0,DATEDIF(A6,TODAY(),"Y"),0))) | E6: =IF('Basic Elections'!$C$59="","",IF(OR(A6<>0,B6<>0),1,0)) | F6: =IF('Basic Elections'!$C$59="","",IF(E6=1,F5+1,0)) | G6: =IF('Basic Elections'!$C$59="","",'Basic Elections'!$C$18) | H6: =IF('Basic Elections'!$C$59="","",IF(ROUNDUP(C6,-3)>100000,100000,ROUNDUP(C6,-3))) | I6: =IF('Basic Elections'!$C$59="","",'Basic Elections'!$C$29) | J6: =IF('Basic Elections'!$C$59="","",'Basic Elections'!$C$34) | K6: =IF('Basic Elections'!$C$59="","",IF(OR(J6="A",J6="B",J6="C",J6="D"),(IF((C6/52)*0.6667>1000,1000,(C6/52)*0.6667)),0)) | L6: =IF('Basic Elections'!$C$59="","",(IF(AND(J6<>"None",E6<>0),VLOOKUP(J6,STD_Rates_lookup,2,FALSE),0))*(K6/10)) | M6: =IF('Basic Elections'!$C$59="","",IF(OR(J6="E",J6="F",J6="G",J6="H"),IF((C6/52)*0.6>1000,1000,(C6/52)*0.6),0)) | N6: =IF('Basic Elections'!$C$59="","",(IF(AND(J6<>"None",E6<>0),VLOOKUP(J6,STD_Rates_lookup,2,FALSE),0))*(M6/10)) | O6: =IF('Basic Elections'!$C$59="","",'Basic Elections'!$C$45) | P6: =IF('Basic Elections'!$C$59="","",IF(C6/12>10000,10000,C6/12)) | Q6: =IF('Basic Elections'!$C$59="","",(IF(AND(O6<>"None",E6<>0),VLOOKUP(O6,LTD_Rates_lookup,2,FALSE),0))*(P6/100)) | R6: =IF('Basic Elections'!$C$59="","",IF(D6=0,0,VLOOKUP(D6,life_age_reduction,4,FALSE))) | S6: =IF('Basic Elections'!$C$59="","",IF(G6="A",H6,0)) | T6: =IF('Basic Elections'!$C$59="","",IF(OR(G6="B",G6="C",G6="D",G6="E",G6="F"),VLOOKUP(G6,summary_benefit_lookup,2,FALSE),0)) | U6: =IF('Basic Elections'!$C$59="","",T6+S6) | V6: =IF(F6="","",IF(E6>0,IF(AND(G6="A",R6>0),MIN(C6,100000)*(1-R6),U6*(1-R6)),0)) | W6: =IF('Basic Elections'!$C$59="","",IF(E6>0,(V6*'summary lookup and rates'!$C$5)/1000,0)) | X6: =IF('Basic Elections'!$C$59="","",(V6*'summary lookup and rates'!$C$6)/1000) | Y6: =IF('Basic Elections'!$C$59="","",IF(AND(E6>0,'Basic Elections'!$C$29="Yes"),'summary lookup and rates'!$C$7,0)) | Z6: =IF('Basic Elections'!$C$59="","",IF(E6=0,"None",'Voluntary Elections'!$C$14)) | AA6: =IF('Basic Elections'!$C$59="","",IF((C6/52)*0.6>1000,1000,(C6/52)*0.6)) | AB6: =IF('Basic Elections'!$C$59="","",IF(OR(E6=0,Z6="None"),0,INDEX('census age lookup Vol STD'!$B$4:$E$103,MATCH(D6,'census age lookup Vol STD'!$A$4:$A$103,0),MATCH(Z6,'census age lookup Vol STD'!$B$3:$E$3,0))*(AA6/10))) | AC6: =IF('Basic Elections'!$C$59="","",IF(E6=0,"None",'Voluntary Elections'!$C$20)) | AD6: =IF('Basic Elections'!$C$59="","",IF(C6/12>10000,10000,C6/12)) | AE6: =IF('Basic Elections'!$C$59="","",IF(OR(E6=0,AC6="None"),0,INDEX('census age lookup Vol LTD'!$B$4:$E$103,MATCH(D6,'census age lookup Vol LTD'!$A$4:$A$103,0),MATCH(AC6,'census age lookup Vol LTD'!$B$3:$E$3,0))*(AD6/100)))
A7: =IF('Basic Elections'!$C$60="","",'Basic Elections'!E60) | B7: =IF('Basic Elections'!$C$60="","",'Basic Elections'!F60) | C7: =IF('Basic Elections'!$C$60="","",'Basic Elections'!G60) | D7: =IF('Basic Elections'!$C$60="","",IF(B7>0,B7,IF(A7>0,DATEDIF(A7,TODAY(),"Y"),0))) | E7: =IF('Basic Elections'!$C$60="","",IF(OR(A7<>0,B7<>0),1,0)) | F7: =IF('Basic Elections'!$C$60="","",IF(E7=1,F6+1,0)) | G7: =IF('Basic Elections'!$C$60="","",'Basic Elections'!$C$18) | H7: =IF('Basic Elections'!$C$60="","",IF(ROUNDUP(C7,-3)>100000,100000,ROUNDUP(C7,-3))) | I7: =IF('Basic Elections'!$C$60="","",'Basic Elections'!$C$29) | J7: =IF('Basic Elections'!$C$60="","",'Basic Elections'!$C$34) | K7: =IF('Basic Elections'!$C$60="","",IF(OR(J7="A",J7="B",J7="C",J7="D"),(IF((C7/52)*0.6667>1000,1000,(C7/52)*0.6667)),0)) | L7: =IF('Basic Elections'!$C$60="","",(IF(AND(J7<>"None",E7<>0),VLOOKUP(J7,STD_Rates_lookup,2,FALSE),0))*(K7/10)) | M7: =IF('Basic Elections'!$C$60="","",IF(OR(J7="E",J7="F",J7="G",J7="H"),IF((C7/52)*0.6>1000,1000,(C7/52)*0.6),0)) | N7: =IF('Basic Elections'!$C$60="","",(IF(AND(J7<>"None",E7<>0),VLOOKUP(J7,STD_Rates_lookup,2,FALSE),0))*(M7/10)) | O7: =IF('Basic Elections'!$C$60="","",'Basic Elections'!$C$45) | P7: =IF('Basic Elections'!$C$60="","",IF(C7/12>10000,10000,C7/12)) | Q7: =IF('Basic Elections'!$C$60="","",(IF(AND(O7<>"None",E7<>0),VLOOKUP(O7,LTD_Rates_lookup,2,FALSE),0))*(P7/100)) | R7: =IF('Basic Elections'!$C$60="","",IF(D7=0,0,VLOOKUP(D7,life_age_reduction,4,FALSE))) | S7: =IF('Basic Elections'!$C$60="","",IF(G7="A",H7,0)) | T7: =IF('Basic Elections'!$C$60="","",IF(OR(G7="B",G7="C",G7="D",G7="E",G7="F"),VLOOKUP(G7,summary_benefit_lookup,2,FALSE),0)) | U7: =IF('Basic Elections'!$C$60="","",T7+S7) | V7: =IF(F7="","",IF(E7>0,IF(AND(G7="A",R7>0),MIN(C7,100000)*(1-R7),U7*(1-R7)),0)) | W7: =IF('Basic Elections'!$C$60="","",IF(E7>0,(V7*'summary lookup and rates'!$C$5)/1000,0)) | X7: =IF('Basic Elections'!$C$60="","",(V7*'summary lookup and rates'!$C$6)/1000) | Y7: =IF('Basic Elections'!$C$60="","",IF(AND(E7>0,'Basic Elections'!$C$29="Yes"),'summary lookup and rates'!$C$7,0)) | Z7: =IF('Basic Elections'!$C$60="","",IF(E7=0,"None",'Voluntary Elections'!$C$14)) | AA7: =IF('Basic Elections'!$C$60="","",IF((C7/52)*0.6>1000,1000,(C7/52)*0.6)) | AB7: =IF('Basic Elections'!$C$60="","",IF(OR(E7=0,Z7="None"),0,INDEX('census age lookup Vol STD'!$B$4:$E$103,MATCH(D7,'census age lookup Vol STD'!$A$4:$A$103,0),MATCH(Z7,'census age lookup Vol STD'!$B$3:$E$3,0))*(AA7/10))) | AC7: =IF('Basic Elections'!$C$60="","",IF(E7=0,"None",'Voluntary Elections'!$C$20)) | AD7: =IF('Basic Elections'!$C$60="","",IF(C7/12>10000,10000,C7/12)) | AE7: =IF('Basic Elections'!$C$60="","",IF(OR(E7=0,AC7="None"),0,INDEX('census age lookup Vol LTD'!$B$4:$E$103,MATCH(D7,'census age lookup Vol LTD'!$A$4:$A$103,0),MATCH(AC7,'census age lookup Vol LTD'!$B$3:$E$3,0))*(AD7/100)))
