Workbook
Name dep_life: 'summary lookup and rates'!$F$4:$G$4
Name key_reduction_schedule: 'census age lookup Vol LTD'!$H$3:$I$23
Name key_reduction_schedule: 'census age lookup Vol STD'!$H$3:$I$23
Name key_reduction_schedule: 'census age lookup'!$F$2:$G$6
Name life_age_reduction: 'census age lookup Vol LTD'!$A$3:$A$103
Name life_age_reduction: 'census age lookup Vol STD'!$A$3:$A$103
Name life_age_reduction: 'census age lookup'!$A$2:$D$86
Name life_options: 'summary lookup and rates'!$C$10:$C$16
Name life_options2: 'summary lookup and rates'!$J$11:$K$16
Name life_rates: 'summary lookup and rates'!$B$4:$C$7
Name Life_reduction_sched: 'census age lookup Vol LTD'!$A$22:$A$103
Name Life_reduction_sched: 'census age lookup Vol STD'!$A$22:$A$103
Name Life_reduction_sched: '[1]census age lookup'!$A$3:$B$84
Name Life_reduction_sched: 'census age lookup'!$A$5:$B$86
Name ltd_options: 'summary lookup and rates'!$F$11:$F$14
Name ltd_options2: 'summary lookup and rates'!$P$11:$Q$14
Name LTD_Rates_lookup: 'summary lookup and rates'!$B$34:$C$38
Name std_options: 'summary lookup and rates'!$E$11:$E$14
Name std_options2: 'summary lookup and rates'!$M$11:$N$18
Name STD_Rates_lookup: 'summary lookup and rates'!$B$23:$C$31
Name STD_Rates_Lookup_60: 'summary lookup and rates'!$B$23:$C$23, 'summary lookup and rates'!$B$28:$C$31
Name summary_benefit_lookup: 'summary lookup and rates'!$B$11:$F$18
Name today_date: 'Basic Elections'!$C$11
Name Vol_LTD_Lookup: 'census age lookup Vol LTD'!$A$4:$E$103
Name vol_ltd_options: 'summary lookup and rates'!$V$11:$W$14
Name Vol_STD_Lookup: 'census age lookup Vol STD'!$A$4:$E$103
Name vol_std_options: 'summary lookup and rates'!$S$11:$T$14

Sheet Basic Elections
A1: Group - Employer Paid - Proposal Tool
B3: Agent Name:
B4: Agent Email:
B5: Agent Phone:
B6: Group Name:
B7: Group Contact Name:
B8: Group Contact Email:
B9: Group Contact Phone:
B11: Today: | C11: =TODAY() -> 46294 | E11: Requested Effective Date:
B13: Enter Your Required Minimum Hours Per Week To Enroll
B15: Benefit Selection:
B16: Basic Life Options
D17: None
C18: None | D18: A | E18: 1x BAE to $100,000
D19: B | E19: 10000
D20: C | E20: 15000
D21: D | E21: 25000
D22: E | E22: 30000
D23: F | E23: 50000
B26: Basic Life/AD&D limitations for 1 life groups (30k, 50k or 1x on Basic Life/AD&D is not available)
B28: Basic Dependent Life
C29: No | D29: Yes
D30: No
B31: Dependent Life/AD&D can only be purchased in conjunction with Basic Life/AD&D
B33: Basic STD
C34: None | D34: None
D35: A | E35: 0/7/13 | F35: 0.6667
D36: B | E36: 0/7/26 | F36: 0.6667
D37: C | E37: 14/14/11 | F37: 0.6667
D38: D | E38: 14/14/24 | F38: 0.6667
D40: E | E40: 0/7/13 | F40: 0.6
D41: F | E41: 0/7/26 | F41: 0.6
D42: G | E42: 14/14/11 | F42: 0.6
D43: H | E43: 14/14/24 | F43: 0.6
B44: Basic LTD
C45: None | D45: None | E45: Elim. | F45: Duration
D46: A | E46: 90 | F46: 5 yr
D47: B | E47: 90 | F47: SSNRA
D48: C | E48: 180 | F48: 5 yr
D49: D | E49: 180 | F49: SSNRA
B50: LTD limitations for 1 life groups (SSNRA is not available)
B53: Census:
B55: Employee Number | C55: First Name | D55: Last Name | E55: DOB | F55: Age | G55: Annual Earnings (BAE)
B56: 1 | F56: =IF(E56="","",IFERROR(DATEDIF(E56,TODAY(),"Y"),""))
B57: 2 | F57: =IF(E57="","",IFERROR(DATEDIF(E57,TODAY(),"Y"),""))
B58: 3 | F58: =IF(E58="","",IFERROR(DATEDIF(E58,TODAY(),"Y"),""))
B59: 4 | F59: =IF(E59="","",IFERROR(DATEDIF(E59,TODAY(),"Y"),""))
B60: 5 | F60: =IF(E60="","",IFERROR(DATEDIF(E60,TODAY(),"Y"),""))
B61: 6 | F61: =IF(E61="","",IFERROR(DATEDIF(E61,TODAY(),"Y"),""))
B62: 7 | F62: =IF(E62="","",IFERROR(DATEDIF(E62,TODAY(),"Y"),""))
B63: 8 | F63: =IF(E63="","",IFERROR(DATEDIF(E63,TODAY(),"Y"),""))
B64: 9 | F64: =IF(E64="","",IFERROR(DATEDIF(E64,TODAY(),"Y"),""))
B65: 10 | F65: =IF(E65="","",IFERROR(DATEDIF(E65,TODAY(),"Y"),""))
B66: 11 | F66: =IF(E66="","",IFERROR(DATEDIF(E66,TODAY(),"Y"),""))
B67: 12 | F67: =IF(E67="","",IFERROR(DATEDIF(E67,TODAY(),"Y"),""))
... B155: 100 | F155: =IF(E155="","",IFERROR(DATEDIF(E155,TODAY(),"Y"),""))

Sheet Voluntary Elections
S1: 1000
B2: VOLUNTARY LIFE and AD&D | S2: 10000
B3: Employee Census linked from Basic Group Elections Sheet
B5: Life_Voluntary Option - Yes/No | D5: No
B7: Employee Life: $10,000–$500,000, not over 5× annual salary. Only available in increments of $10,000. Guarantee issue: $100,000.
B8: Spouse Life: $5,000–$25,000, not over 50% of employee Life.
B9: Child Life: $1,000 birth–6 months; $10,000 after 6 months.
B11: VOLUNTARY DISABILITY
B12: Select the voluntary STD and LTD plans from drop down.
B14: STD_Voluntary Options | C14: None | D14: A | E14: 0/7/13 | F14: 0.6
D15: B | E15: 0/7/26 | F15: 0.6
D16: C | E16: 14/14/11 | F16: 0.6
D17: D | E17: 14/14/24 | F17: 0.6
B20: LTD_Voluntary Options | C20: None | D20: A | E20: 90 | F20: 5 yr
D21: B | E21: 90 | F21: SSNRA
D22: C | E22: 180 | F22: 5 yr
D23: D | E23: 180 | F23: SSNRA
B26: If electing Voluntary Life and AD&D, please enter coverage amounts for each employee, spouse and/or dependents.
B27: Employee Number | C27: First Name | D27: Last Name | E27: Age | F27: Annual Salary | G27: Employee Life & AD&D Amount | H27: Spouse Life & AD&D Amount | I27: Child Life & AD&D Amount | J27: Total Vol Life Premium
B28: 1 | C28: =IF('Basic Elections'!C56="","",'Basic Elections'!C56) | D28: =IF('Basic Elections'!D56="","",'Basic Elections'!D56) | E28: =IF('Basic Elections'!F56="","",'Basic Elections'!F56) | F28: =IF('Basic Elections'!G56="","",'Basic Elections'!G56) | J28: =IF(OR(LEN(TRIM(C28&""))=0,UPPER(TRIM($D$5))<>"YES"),"",IF(N(G28)+N(H28)>0,(N(G28)+N(H28))*IFERROR(INDEX('voluntary life sheet'!$C$3:$M$3,1,MATCH(N(E28),{0,30,35,40,45,50,55,60,65,70,75},1)),0)/1000,0)+IF(N(I28)>0,'voluntary life'!$C$42,0))
B29: 2 | C29: =IF('Basic Elections'!C57="","",'Basic Elections'!C57) | D29: =IF('Basic Elections'!D57="","",'Basic Elections'!D57) | E29: =IF('Basic Elections'!F57="","",'Basic Elections'!F57) | F29: =IF('Basic Elections'!G57="","",'Basic Elections'!G57) | J29: =IF(OR(LEN(TRIM(C29&""))=0,UPPER(TRIM($D$5))<>"YES"),"",IF(N(G29)+N(H29)>0,(N(G29)+N(H29))*IFERROR(INDEX('voluntary life sheet'!$C$3:$M$3,1,MATCH(N(E29),{0,30,35,40,45,50,55,60,65,70,75},1)),0)/1000,0)+IF(N(I29)>0,'voluntary life'!$C$42,0))
B30: 3 | C30: =IF('Basic Elections'!C58="","",'Basic Elections'!C58) | D30: =IF('Basic Elections'!D58="","",'Basic Elections'!D58) | E30: =IF('Basic Elections'!F58="","",'Basic Elections'!F58) | F30: =IF('Basic Elections'!G58="","",'Basic Elections'!G58) | J30: =IF(OR(LEN(TRIM(C30&""))=0,UPPER(TRIM($D$5))<>"YES"),"",IF(N(G30)+N(H30)>0,(N(G30)+N(H30))*IFERROR(INDEX('voluntary life sheet'!$C$3:$M$3,1,MATCH(N(E30),{0,30,35,40,45,50,55,60,65,70,75},1)),0)/1000,0)+IF(N(I30)>0,'voluntary life'!$C$42,0))
B31: 4 | C31: =IF('Basic Elections'!C59="","",'Basic Elections'!C59) | D31: =IF('Basic Elections'!D59="","",'Basic Elections'!D59) | E31: =IF('Basic Elections'!F59="","",'Basic Elections'!F59) | F31: =IF('Basic Elections'!G59="","",'Basic Elections'!G59) | J31: =IF(OR(LEN(TRIM(C31&""))=0,UPPER(TRIM($D$5))<>"YES"),"",IF(N(G31)+N(H31)>0,(N(G31)+N(H31))*IFERROR(INDEX('voluntary life sheet'!$C$3:$M$3,1,MATCH(N(E31),{0,30,35,40,45,50,55,60,65,70,75},1)),0)/1000,0)+IF(N(I31)>0,'voluntary life'!$C$42,0))
B32: 5 | C32: =IF('Basic Elections'!C60="","",'Basic Elections'!C60) | D32: =IF('Basic Elections'!D60="","",'Basic Elections'!D60) | E32: =IF('Basic Elections'!F60="","",'Basic Elections'!F60) | F32: =IF('Basic Elections'!G60="","",'Basic Elections'!G60) | J32: =IF(OR(LEN(TRIM(C32&""))=0,UPPER(TRIM($D$5))<>"YES"),"",IF(N(G32)+N(H32)>0,(N(G32)+N(H32))*IFERROR(INDEX('voluntary life sheet'!$C$3:$M$3,1,MATCH(N(E32),{0,30,35,40,45,50,55,60,65,70,75},1)),0)/1000,0)+IF(N(I32)>0,'voluntary life'!$C$42,0))
B33: 6 | C33: =IF('Basic Elections'!C61="","",'Basic Elections'!C61) | D33: =IF('Basic Elections'!D61="","",'Basic Elections'!D61) | E33: =IF('Basic Elections'!F61="","",'Basic Elections'!F61) | F33: =IF('Basic Elections'!G61="","",'Basic Elections'!G61) | J33: =IF(OR(LEN(TRIM(C33&""))=0,UPPER(TRIM($D$5))<>"YES"),"",IF(N(G33)+N(H33)>0,(N(G33)+N(H33))*IFERROR(INDEX('voluntary life sheet'!$C$3:$M$3,1,MATCH(N(E33),{0,30,35,40,45,50,55,60,65,70,75},1)),0)/1000,0)+IF(N(I33)>0,'voluntary life'!$C$42,0))
B34: 7 | C34: =IF('Basic Elections'!C62="","",'Basic Elections'!C62) | D34: =IF('Basic Elections'!D62="","",'Basic Elections'!D62) | E34: =IF('Basic Elections'!F62="","",'Basic Elections'!F62) | F34: =IF('Basic Elections'!G62="","",'Basic Elections'!G62) | J34: =IF(OR(LEN(TRIM(C34&""))=0,UPPER(TRIM($D$5))<>"YES"),"",IF(N(G34)+N(H34)>0,(N(G34)+N(H34))*IFERROR(INDEX('voluntary life sheet'!$C$3:$M$3,1,MATCH(N(E34),{0,30,35,40,45,50,55,60,65,70,75},1)),0)/1000,0)+IF(N(I34)>0,'voluntary life'!$C$42,0))
B35: 8 | C35: =IF('Basic Elections'!C63="","",'Basic Elections'!C63) | D35: =IF('Basic Elections'!D63="","",'Basic Elections'!D63) | E35: =IF('Basic Elections'!F63="","",'Basic Elections'!F63) | F35: =IF('Basic Elections'!G63="","",'Basic Elections'!G63) | J35: =IF(OR(LEN(TRIM(C35&""))=0,UPPER(TRIM($D$5))<>"YES"),"",IF(N(G35)+N(H35)>0,(N(G35)+N(H35))*IFERROR(INDEX('voluntary life sheet'!$C$3:$M$3,1,MATCH(N(E35),{0,30,35,40,45,50,55,60,65,70,75},1)),0)/1000,0)+IF(N(I35)>0,'voluntary life'!$C$42,0))
B36: 9 | C36: =IF('Basic Elections'!C64="","",'Basic Elections'!C64) | D36: =IF('Basic Elections'!D64="","",'Basic Elections'!D64) | E36: =IF('Basic Elections'!F64="","",'Basic Elections'!F64) | F36: =IF('Basic Elections'!G64="","",'Basic Elections'!G64) | J36: =IF(OR(LEN(TRIM(C36&""))=0,UPPER(TRIM($D$5))<>"YES"),"",IF(N(G36)+N(H36)>0,(N(G36)+N(H36))*IFERROR(INDEX('voluntary life sheet'!$C$3:$M$3,1,MATCH(N(E36),{0,30,35,40,45,50,55,60,65,70,75},1)),0)/1000,0)+IF(N(I36)>0,'voluntary life'!$C$42,0))
B37: 10 | C37: =IF('Basic Elections'!C65="","",'Basic Elections'!C65) | D37: =IF('Basic Elections'!D65="","",'Basic Elections'!D65) | E37: =IF('Basic Elections'!F65="","",'Basic Elections'!F65) | F37: =IF('Basic Elections'!G65="","",'Basic Elections'!G65) | J37: =IF(OR(LEN(TRIM(C37&""))=0,UPPER(TRIM($D$5))<>"YES"),"",IF(N(G37)+N(H37)>0,(N(G37)+N(H37))*IFERROR(INDEX('voluntary life sheet'!$C$3:$M$3,1,MATCH(N(E37),{0,30,35,40,45,50,55,60,65,70,75},1)),0)/1000,0)+IF(N(I37)>0,'voluntary life'!$C$42,0))
B38: 11 | C38: =IF('Basic Elections'!C66="","",'Basic Elections'!C66) | D38: =IF('Basic Elections'!D66="","",'Basic Elections'!D66) | E38: =IF('Basic Elections'!F66="","",'Basic Elections'!F66) | F38: =IF('Basic Elections'!G66="","",'Basic Elections'!G66) | J38: =IF(OR(LEN(TRIM(C38&""))=0,UPPER(TRIM($D$5))<>"YES"),"",IF(N(G38)+N(H38)>0,(N(G38)+N(H38))*IFERROR(INDEX('voluntary life sheet'!$C$3:$M$3,1,MATCH(N(E38),{0,30,35,40,45,50,55,60,65,70,75},1)),0)/1000,0)+IF(N(I38)>0,'voluntary life'!$C$42,0))
B39: 12 | C39: =IF('Basic Elections'!C67="","",'Basic Elections'!C67) | D39: =IF('Basic Elections'!D67="","",'Basic Elections'!D67) | E39: =IF('Basic Elections'!F67="","",'Basic Elections'!F67) | F39: =IF('Basic Elections'!G67="","",'Basic Elections'!G67) | J39: =IF(OR(LEN(TRIM(C39&""))=0,UPPER(TRIM($D$5))<>"YES"),"",IF(N(G39)+N(H39)>0,(N(G39)+N(H39))*IFERROR(INDEX('voluntary life sheet'!$C$3:$M$3,1,MATCH(N(E39),{0,30,35,40,45,50,55,60,65,70,75},1)),0)/1000,0)+IF(N(I39)>0,'voluntary life'!$C$42,0))
... B127: 100 | C127: =IF('Basic Elections'!C155="","",'Basic Elections'!C155) | D127: =IF('Basic Elections'!D155="","",'Basic Elections'!D155) | E127: =IF('Basic Elections'!F155="","",'Basic Elections'!F155) | F127: =IF('Basic Elections'!G155="","",'Basic Elections'!G155) | J127: =IF(OR(LEN(TRIM(C127&""))=0,UPPER(TRIM($D$5))<>"YES"),"",IF(N(G127)+N(H127)>0,(N(G127)+N(H127))*IFERROR(INDEX('voluntary life sheet'!$C$3:$M$3,1,MATCH(N(E127),{0,30,35,40,45,50,55,60,65,70,75},1)),0)/1000,0)+IF(N(I127)>0,'voluntary life'!$C$42,0))

Sheet Summary Page
B7: Agent Name: | D7: =IF('Basic Elections'!C3="","",'Basic Elections'!C3)
B8: Agent Email: | D8: =IF('Basic Elections'!C4="","",'Basic Elections'!C4)
B9: Agent Phone: | D9: =IF('Basic Elections'!C5="","",'Basic Elections'!C5)
B10: Group Name: | D10: =IF('Basic Elections'!C6="","",'Basic Elections'!C6)
B11: Group Contact Name: | D11: =IF('Basic Elections'!C7="","",'Basic Elections'!C7)
B12: Group Contact Email: | D12: =IF('Basic Elections'!C8="","",'Basic Elections'!C8)
B13: Group Contact Phone: | D13: =IF('Basic Elections'!C9="","",'Basic Elections'!C9)
B15: Plan Selections High Level Summary
B17: Insurance | D17: Option Selected | G17: Summary | J17: Total Premium
B18: Basic Life | D18: =IF(OR(('Basic Elections'!C18)="None",('Basic Elections'!C18)="No"),"",'Basic Elections'!C18) | F18: =IF(D18="","",IFERROR(VLOOKUP(D18,summary_benefit_lookup,2,FALSE),"")) | J18: =_xlfn.AGGREGATE(9,6,calculations!W3:W102) -> 0
B19: AD&D | D19: =IF(D18="","",D18) | F19: =IF(D19="","",IFERROR(VLOOKUP(D19,summary_benefit_lookup,2,FALSE),"")) | J19: =_xlfn.AGGREGATE(9,6,calculations!X3:X102) -> 0
B20: Dependent Life | D20: =IF(OR(('Basic Elections'!C29)="None",('Basic Elections'!C29)="No"),"",'Basic Elections'!C29) | F20: =IF(UPPER(TRIM('Basic Elections'!C29))="YES",'summary lookup and rates'!G4,"") | J20: =SUM(calculations!Y3:Y102) -> 0
B21: STD | D21: =IF(OR(('Basic Elections'!C34)="None",('Basic Elections'!C34)="No"),"",'Basic Elections'!C34) | F21: =IF(D21="","",IFERROR(VLOOKUP(D21,std_options2,2,FALSE),"")) | J21: =SUM(calculations!L3:L102,calculations!N3:N102) -> 0
B22: LTD | D22: =IF(OR(('Basic Elections'!C45)="None",('Basic Elections'!C45)="No"),"",'Basic Elections'!C45) | F22: =IF(D22="","",IFERROR(VLOOKUP(D22,ltd_options2,2,FALSE),"")) | J22: =SUM(calculations!Q3:Q102) -> 0
B23: Voluntary Life / AD&D | D23: =IF(OR('Voluntary Elections'!$D$5<>"Yes",COUNTIFS('Voluntary Elections'!$C$28:$C$127,"<>",'Voluntary Elections'!$G$28:$G$127,">0")+COUNTIFS('Voluntary Elections'!$C$28:$C$127,"<>",'Voluntary Elections'!$H$28:$H$127,">0")+COUNTIFS('Voluntary Elections'!$C$28:$C$127,"<>",'Voluntary Elections'!$I$28:$I$127,">0")=0),"",COUNTIFS('Voluntary Elections'!$C$28:$C$127,"<>",'Voluntary Elections'!$G$28:$G$127,">0")&" EE / "&COUNTIFS('Voluntary Elections'!$C$28:$C$127,"<>",'Voluntary Elections'!$H$28:$H$127,">0")&" spouse / "&COUNTIFS('Voluntary Elections'!$C$28:$C$127,"<>",'Voluntary Elections'!$I$28:$I$127,">0")&" child") | F23: =IF(D23="","",TEXT(SUMIFS('Voluntary Elections'!$G$28:$G$127,'Voluntary Elections'!$C$28:$C$127,"<>")+SUMIFS('Voluntary Elections'!$H$28:$H$127,'Voluntary Elections'!$C$28:$C$127,"<>")+SUMIFS('Voluntary Elections'!$I$28:$I$127,'Voluntary Elections'!$C$28:$C$127,"<>"),"$#,##0")&" combined Life & AD&D") | J23: =IF('Voluntary Elections'!$D$5<>"Yes",0,SUMIFS('Voluntary Elections'!$J$28:$J$127,'Voluntary Elections'!$C$28:$C$127,"<>")) -> 0
B24: Voluntary STD | D24: =IF(OR(('Voluntary Elections'!$C$14)="None",('Voluntary Elections'!$C$14)="No"),"",'Voluntary Elections'!$C$14) | F24: =IF(D24="","",IFERROR(VLOOKUP(D24,vol_std_options,2,FALSE),"")) | J24: =SUM(calculations!AB3:AB102) -> 0
B25: Voluntary LTD | D25: =IF(OR(('Voluntary Elections'!$C$20)="None",('Voluntary Elections'!$C$20)="No"),"",'Voluntary Elections'!$C$20) | F25: =IF(D25="","",IFERROR(VLOOKUP(D25,vol_ltd_options,2,FALSE),"")) | J25: =SUM(calculations!AE3:AE102) -> 0
G26: Premium Total: | J26: =SUM(J18:J25) -> 0
B27: Requested Effective Date: | D27: =IF('Basic Elections'!G11="","",'Basic Elections'!G11) | G27: Program Access Fee: | J27: 7.5
G28: Grand TOTAL | J28: =SUM(J26:J27) -> 7.5
B29: Minimum Hours To Enroll | D29: =IF('Basic Elections'!E13="","",'Basic Elections'!E13)
B31: Employee Coverage & Premium Summary
B33: First Name | C33: Last Name | D33: Employee ID | E33: Employee Basic Life/AD&D | F33: Employee Basic Life/AD&D Premium | G33: Employee Basic STD | H33: Employee Basic STD Premium | I33: Employee Basic LTD | J33: Employee Basic LTD Premium | K33: Dependent Basic Life/AD&D | L33: Dependent Basic Life/AD&D Premium | M33: Employee Vol Life/AD&D | N33: Employee Vol Life/AD&D Premium | O33: Spouse Vol Life/AD&D | P33: Spouse Vol Life/AD&D Premium | Q33: Child Vol Life/AD&D | R33: Child Vol Life/AD&D Premium | S33: Total Monthly Premium
B34: =IF('Voluntary Elections'!C28="","",'Voluntary Elections'!C28) | C34: =IF('Voluntary Elections'!D28="","",'Voluntary Elections'!D28) | D34: =IF(B34="","",'Voluntary Elections'!B28) | E34: =IF(B34="","",calculations!V3) | F34: =IF(B34="","",N(calculations!W3)+N(calculations!X3)) | G34: =IF(B34="","",$F$21) | H34: =IF(B34="","",IF(N(calculations!L3)+N(calculations!N3)=0,"",N(calculations!L3)+N(calculations!N3))) | I34: =IF(OR(B34="",$F$22=""),"",$F$22) | J34: =IF(B34="","",IF(N(calculations!Q3)=0,"",calculations!Q3)) | K34: =IF(OR(B34="",'Basic Elections'!$C$29<>"Yes"),"","$5,000/$500/$2,000") | L34: =IF(B34="","",IF(N(calculations!Y3)=0,"",calculations!Y3)) | M34: =IF(OR(B34="",'Voluntary Elections'!G28="",'Voluntary Elections'!G28=0),"",'Voluntary Elections'!G28) | N34: =IF(OR(B34="",M34=""),"",N(M34)*IFERROR(INDEX('voluntary life sheet'!$C$3:$M$3,1,MATCH(N('Voluntary Elections'!E28),{0,30,35,40,45,50,55,60,65,70,75},1)),0)/1000) | O34: =IF(OR(B34="",'Voluntary Elections'!H28="",'Voluntary Elections'!H28=0),"",'Voluntary Elections'!H28) | P34: =IF(OR(B34="",O34=""),"",N(O34)*IFERROR(INDEX('voluntary life sheet'!$C$3:$M$3,1,MATCH(N('Voluntary Elections'!E28),{0,30,35,40,45,50,55,60,65,70,75},1)),0)/1000) | Q34: =IF(OR(B34="",'Voluntary Elections'!I28="",'Voluntary Elections'!I28=0),"",'Voluntary Elections'!I28) | R34: =IF(OR(B34="",Q34=""),"",'voluntary life'!$C$42) | S34: =IF(B34="","",SUM(F34,H34,J34,L34,N34,P34,R34))
B35: =IF('Voluntary Elections'!C29="","",'Voluntary Elections'!C29) | C35: =IF('Voluntary Elections'!D29="","",'Voluntary Elections'!D29) | D35: =IF(B35="","",'Voluntary Elections'!B29) | E35: =IF(B35="","",calculations!V4) | F35: =IF(B35="","",N(calculations!W4)+N(calculations!X4)) | G35: =IF(B35="","",$F$21) | H35: =IF(B35="","",IF(N(calculations!L4)+N(calculations!N4)=0,"",N(calculations!L4)+N(calculations!N4))) | I35: =IF(B35="","",$F$22) | J35: =IF(B35="","",IF(N(calculations!Q4)=0,"",calculations!Q4)) | K35: =IF(OR(B35="",'Basic Elections'!$C$29<>"Yes"),"","$5,000/$500/$2,000") | L35: =IF(B35="","",IF(N(calculations!Y4)=0,"",calculations!Y4)) | M35: =IF(OR(B35="",'Voluntary Elections'!G29="",'Voluntary Elections'!G29=0),"",'Voluntary Elections'!G29) | N35: =IF(OR(B35="",M35=""),"",N(M35)*IFERROR(INDEX('voluntary life sheet'!$C$3:$M$3,1,MATCH(N('Voluntary Elections'!E29),{0,30,35,40,45,50,55,60,65,70,75},1)),0)/1000) | O35: =IF(OR(B35="",'Voluntary Elections'!H29="",'Voluntary Elections'!H29=0),"",'Voluntary Elections'!H29) | P35: =IF(OR(B35="",O35=""),"",N(O35)*IFERROR(INDEX('voluntary life sheet'!$C$3:$M$3,1,MATCH(N('Voluntary Elections'!E29),{0,30,35,40,45,50,55,60,65,70,75},1)),0)/1000) | Q35: =IF(OR(B35="",'Voluntary Elections'!I29="",'Voluntary Elections'!I29=0),"",'Voluntary Elections'!I29) | R35: =IF(OR(B35="",Q35=""),"",'voluntary life'!$C$42) | S35: =IF(B35="","",SUM(F35,H35,J35,L35,N35,P35,R35))
B36: =IF('Voluntary Elections'!C30="","",'Voluntary Elections'!C30) | C36: =IF('Voluntary Elections'!D30="","",'Voluntary Elections'!D30) | D36: =IF(B36="","",'Voluntary Elections'!B30) | E36: =IF(B36="","",calculations!V5) | F36: =IF(B36="","",N(calculations!W5)+N(calculations!X5)) | G36: =IF(B36="","",$F$21) | H36: =IF(B36="","",IF(N(calculations!L5)+N(calculations!N5)=0,"",N(calculations!L5)+N(calculations!N5))) | I36: =IF(B36="","",$F$22) | J36: =IF(B36="","",IF(N(calculations!Q5)=0,"",calculations!Q5)) | K36: =IF(OR(B36="",'Basic Elections'!$C$29<>"Yes"),"","$5,000/$500/$2,000") | L36: =IF(B36="","",IF(N(calculations!Y5)=0,"",calculations!Y5)) | M36: =IF(OR(B36="",'Voluntary Elections'!G30="",'Voluntary Elections'!G30=0),"",'Voluntary Elections'!G30) | N36: =IF(OR(B36="",M36=""),"",N(M36)*IFERROR(INDEX('voluntary life sheet'!$C$3:$M$3,1,MATCH(N('Voluntary Elections'!E30),{0,30,35,40,45,50,55,60,65,70,75},1)),0)/1000) | O36: =IF(OR(B36="",'Voluntary Elections'!H30="",'Voluntary Elections'!H30=0),"",'Voluntary Elections'!H30) | P36: =IF(OR(B36="",O36=""),"",N(O36)*IFERROR(INDEX('voluntary life sheet'!$C$3:$M$3,1,MATCH(N('Voluntary Elections'!E30),{0,30,35,40,45,50,55,60,65,70,75},1)),0)/1000) | Q36: =IF(OR(B36="",'Voluntary Elections'!I30="",'Voluntary Elections'!I30=0),"",'Voluntary Elections'!I30) | R36: =IF(OR(B36="",Q36=""),"",'voluntary life'!$C$42) | S36: =IF(B36="","",SUM(F36,H36,J36,L36,N36,P36,R36))
B37: =IF('Voluntary Elections'!C31="","",'Voluntary Elections'!C31) | C37: =IF('Voluntary Elections'!D31="","",'Voluntary Elections'!D31) | D37: =IF(B37="","",'Voluntary Elections'!B31) | E37: =IF(B37="","",calculations!V6) | F37: =IF(B37="","",N(calculations!W6)+N(calculations!X6)) | G37: =IF(B37="","",$F$21) | H37: =IF(B37="","",IF(N(calculations!L6)+N(calculations!N6)=0,"",N(calculations!L6)+N(calculations!N6))) | I37: =IF(B37="","",$F$22) | J37: =IF(B37="","",IF(N(calculations!Q6)=0,"",calculations!Q6)) | K37: =IF(OR(B37="",'Basic Elections'!$C$29<>"Yes"),"","$5,000/$500/$2,000") | L37: =IF(B37="","",IF(N(calculations!Y6)=0,"",calculations!Y6)) | M37: =IF(OR(B37="",'Voluntary Elections'!G31="",'Voluntary Elections'!G31=0),"",'Voluntary Elections'!G31) | N37: =IF(OR(B37="",M37=""),"",N(M37)*IFERROR(INDEX('voluntary life sheet'!$C$3:$M$3,1,MATCH(N('Voluntary Elections'!E31),{0,30,35,40,45,50,55,60,65,70,75},1)),0)/1000) | O37: =IF(OR(B37="",'Voluntary Elections'!H31="",'Voluntary Elections'!H31=0),"",'Voluntary Elections'!H31) | P37: =IF(OR(B37="",O37=""),"",N(O37)*IFERROR(INDEX('voluntary life sheet'!$C$3:$M$3,1,MATCH(N('Voluntary Elections'!E31),{0,30,35,40,45,50,55,60,65,70,75},1)),0)/1000) | Q37: =IF(OR(B37="",'Voluntary Elections'!I31="",'Voluntary Elections'!I31=0),"",'Voluntary Elections'!I31) | R37: =IF(OR(B37="",Q37=""),"",'voluntary life'!$C$42) | S37: =IF(B37="","",SUM(F37,H37,J37,L37,N37,P37,R37))
B38: =IF('Voluntary Elections'!C32="","",'Voluntary Elections'!C32) | C38: =IF('Voluntary Elections'!D32="","",'Voluntary Elections'!D32) | D38: =IF(B38="","",'Voluntary Elections'!B32) | E38: =IF(B38="","",calculations!V7) | F38: =IF(B38="","",N(calculations!W7)+N(calculations!X7)) | G38: =IF(B38="","",$F$21) | H38: =IF(B38="","",IF(N(calculations!L7)+N(calculations!N7)=0,"",N(calculations!L7)+N(calculations!N7))) | I38: =IF(B38="","",$F$22) | J38: =IF(B38="","",IF(N(calculations!Q7)=0,"",calculations!Q7)) | K38: =IF(OR(B38="",'Basic Elections'!$C$29<>"Yes"),"","$5,000/$500/$2,000") | L38: =IF(B38="","",IF(N(calculations!Y7)=0,"",calculations!Y7)) | M38: =IF(OR(B38="",'Voluntary Elections'!G32="",'Voluntary Elections'!G32=0),"",'Voluntary Elections'!G32) | N38: =IF(OR(B38="",M38=""),"",N(M38)*IFERROR(INDEX('voluntary life sheet'!$C$3:$M$3,1,MATCH(N('Voluntary Elections'!E32),{0,30,35,40,45,50,55,60,65,70,75},1)),0)/1000) | O38: =IF(OR(B38="",'Voluntary Elections'!H32="",'Voluntary Elections'!H32=0),"",'Voluntary Elections'!H32) | P38: =IF(OR(B38="",O38=""),"",N(O38)*IFERROR(INDEX('voluntary life sheet'!$C$3:$M$3,1,MATCH(N('Voluntary Elections'!E32),{0,30,35,40,45,50,55,60,65,70,75},1)),0)/1000) | Q38: =IF(OR(B38="",'Voluntary Elections'!I32="",'Voluntary Elections'!I32=0),"",'Voluntary Elections'!I32) | R38: =IF(OR(B38="",Q38=""),"",'voluntary life'!$C$42) | S38: =IF(B38="","",SUM(F38,H38,J38,L38,N38,P38,R38))
B39: =IF('Voluntary Elections'!C33="","",'Voluntary Elections'!C33) | C39: =IF('Voluntary Elections'!D33="","",'Voluntary Elections'!D33) | D39: =IF(B39="","",'Voluntary Elections'!B33) | E39: =IF(B39="","",calculations!V8) | F39: =IF(B39="","",N(calculations!W8)+N(calculations!X8)) | G39: =IF(B39="","",$F$21) | H39: =IF(B39="","",IF(N(calculations!L8)+N(calculations!N8)=0,"",N(calculations!L8)+N(calculations!N8))) | I39: =IF(B39="","",$F$22) | J39: =IF(B39="","",IF(N(calculations!Q8)=0,"",calculations!Q8)) | K39: =IF(OR(B39="",'Basic Elections'!$C$29<>"Yes"),"","$5,000/$500/$2,000") | L39: =IF(B39="","",IF(N(calculations!Y8)=0,"",calculations!Y8)) | M39: =IF(OR(B39="",'Voluntary Elections'!G33="",'Voluntary Elections'!G33=0),"",'Voluntary Elections'!G33) | N39: =IF(OR(B39="",M39=""),"",N(M39)*IFERROR(INDEX('voluntary life sheet'!$C$3:$M$3,1,MATCH(N('Voluntary Elections'!E33),{0,30,35,40,45,50,55,60,65,70,75},1)),0)/1000) | O39: =IF(OR(B39="",'Voluntary Elections'!H33="",'Voluntary Elections'!H33=0),"",'Voluntary Elections'!H33) | P39: =IF(OR(B39="",O39=""),"",N(O39)*IFERROR(INDEX('voluntary life sheet'!$C$3:$M$3,1,MATCH(N('Voluntary Elections'!E33),{0,30,35,40,45,50,55,60,65,70,75},1)),0)/1000) | Q39: =IF(OR(B39="",'Voluntary Elections'!I33="",'Voluntary Elections'!I33=0),"",'Voluntary Elections'!I33) | R39: =IF(OR(B39="",Q39=""),"",'voluntary life'!$C$42) | S39: =IF(B39="","",SUM(F39,H39,J39,L39,N39,P39,R39))
B40: =IF('Voluntary Elections'!C34="","",'Voluntary Elections'!C34) | C40: =IF('Voluntary Elections'!D34="","",'Voluntary Elections'!D34) | D40: =IF(B40="","",'Voluntary Elections'!B34) | E40: =IF(B40="","",calculations!V9) | F40: =IF(B40="","",N(calculations!W9)+N(calculations!X9)) | G40: =IF(B40="","",$F$21) | H40: =IF(B40="","",IF(N(calculations!L9)+N(calculations!N9)=0,"",N(calculations!L9)+N(calculations!N9))) | I40: =IF(B40="","",$F$22) | J40: =IF(B40="","",IF(N(calculations!Q9)=0,"",calculations!Q9)) | K40: =IF(OR(B40="",'Basic Elections'!$C$29<>"Yes"),"","$5,000/$500/$2,000") | L40: =IF(B40="","",IF(N(calculations!Y9)=0,"",calculations!Y9)) | M40: =IF(OR(B40="",'Voluntary Elections'!G34="",'Voluntary Elections'!G34=0),"",'Voluntary Elections'!G34) | N40: =IF(OR(B40="",M40=""),"",N(M40)*IFERROR(INDEX('voluntary life sheet'!$C$3:$M$3,1,MATCH(N('Voluntary Elections'!E34),{0,30,35,40,45,50,55,60,65,70,75},1)),0)/1000) | O40: =IF(OR(B40="",'Voluntary Elections'!H34="",'Voluntary Elections'!H34=0),"",'Voluntary Elections'!H34) | P40: =IF(OR(B40="",O40=""),"",N(O40)*IFERROR(INDEX('voluntary life sheet'!$C$3:$M$3,1,MATCH(N('Voluntary Elections'!E34),{0,30,35,40,45,50,55,60,65,70,75},1)),0)/1000) | Q40: =IF(OR(B40="",'Voluntary Elections'!I34="",'Voluntary Elections'!I34=0),"",'Voluntary Elections'!I34) | R40: =IF(OR(B40="",Q40=""),"",'voluntary life'!$C$42) | S40: =IF(B40="","",SUM(F40,H40,J40,L40,N40,P40,R40))
B41: =IF('Voluntary Elections'!C35="","",'Voluntary Elections'!C35) | C41: =IF('Voluntary Elections'!D35="","",'Voluntary Elections'!D35) | D41: =IF(B41="","",'Voluntary Elections'!B35) | E41: =IF(B41="","",calculations!V10) | F41: =IF(B41="","",N(calculations!W10)+N(calculations!X10)) | G41: =IF(B41="","",$F$21) | H41: =IF(B41="","",IF(N(calculations!L10)+N(calculations!N10)=0,"",N(calculations!L10)+N(calculations!N10))) | I41: =IF(B41="","",$F$22) | J41: =IF(B41="","",IF(N(calculations!Q10)=0,"",calculations!Q10)) | K41: =IF(OR(B41="",'Basic Elections'!$C$29<>"Yes"),"","$5,000/$500/$2,000") | L41: =IF(B41="","",IF(N(calculations!Y10)=0,"",calculations!Y10)) | M41: =IF(OR(B41="",'Voluntary Elections'!G35="",'Voluntary Elections'!G35=0),"",'Voluntary Elections'!G35) | N41: =IF(OR(B41="",M41=""),"",N(M41)*IFERROR(INDEX('voluntary life sheet'!$C$3:$M$3,1,MATCH(N('Voluntary Elections'!E35),{0,30,35,40,45,50,55,60,65,70,75},1)),0)/1000) | O41: =IF(OR(B41="",'Voluntary Elections'!H35="",'Voluntary Elections'!H35=0),"",'Voluntary Elections'!H35) | P41: =IF(OR(B41="",O41=""),"",N(O41)*IFERROR(INDEX('voluntary life sheet'!$C$3:$M$3,1,MATCH(N('Voluntary Elections'!E35),{0,30,35,40,45,50,55,60,65,70,75},1)),0)/1000) | Q41: =IF(OR(B41="",'Voluntary Elections'!I35="",'Voluntary Elections'!I35=0),"",'Voluntary Elections'!I35) | R41: =IF(OR(B41="",Q41=""),"",'voluntary life'!$C$42) | S41: =IF(B41="","",SUM(F41,H41,J41,L41,N41,P41,R41))
B42: =IF('Voluntary Elections'!C36="","",'Voluntary Elections'!C36) | C42: =IF('Voluntary Elections'!D36="","",'Voluntary Elections'!D36) | D42: =IF(B42="","",'Voluntary Elections'!B36) | E42: =IF(B42="","",calculations!V11) | F42: =IF(B42="","",N(calculations!W11)+N(calculations!X11)) | G42: =IF(B42="","",$F$21) | H42: =IF(B42="","",IF(N(calculations!L11)+N(calculations!N11)=0,"",N(calculations!L11)+N(calculations!N11))) | I42: =IF(B42="","",$F$22) | J42: =IF(B42="","",IF(N(calculations!Q11)=0,"",calculations!Q11)) | K42: =IF(OR(B42="",'Basic Elections'!$C$29<>"Yes"),"","$5,000/$500/$2,000") | L42: =IF(B42="","",IF(N(calculations!Y11)=0,"",calculations!Y11)) | M42: =IF(OR(B42="",'Voluntary Elections'!G36="",'Voluntary Elections'!G36=0),"",'Voluntary Elections'!G36) | N42: =IF(OR(B42="",M42=""),"",N(M42)*IFERROR(INDEX('voluntary life sheet'!$C$3:$M$3,1,MATCH(N('Voluntary Elections'!E36),{0,30,35,40,45,50,55,60,65,70,75},1)),0)/1000) | O42: =IF(OR(B42="",'Voluntary Elections'!H36="",'Voluntary Elections'!H36=0),"",'Voluntary Elections'!H36) | P42: =IF(OR(B42="",O42=""),"",N(O42)*IFERROR(INDEX('voluntary life sheet'!$C$3:$M$3,1,MATCH(N('Voluntary Elections'!E36),{0,30,35,40,45,50,55,60,65,70,75},1)),0)/1000) | Q42: =IF(OR(B42="",'Voluntary Elections'!I36="",'Voluntary Elections'!I36=0),"",'Voluntary Elections'!I36) | R42: =IF(OR(B42="",Q42=""),"",'voluntary life'!$C$42) | S42: =IF(B42="","",SUM(F42,H42,J42,L42,N42,P42,R42))
B43: =IF('Voluntary Elections'!C37="","",'Voluntary Elections'!C37) | C43: =IF('Voluntary Elections'!D37="","",'Voluntary Elections'!D37) | D43: =IF(B43="","",'Voluntary Elections'!B37) | E43: =IF(B43="","",calculations!V12) | F43: =IF(B43="","",N(calculations!W12)+N(calculations!X12)) | G43: =IF(B43="","",$F$21) | H43: =IF(B43="","",IF(N(calculations!L12)+N(calculations!N12)=0,"",N(calculations!L12)+N(calculations!N12))) | I43: =IF(B43="","",$F$22) | J43: =IF(B43="","",IF(N(calculations!Q12)=0,"",calculations!Q12)) | K43: =IF(OR(B43="",'Basic Elections'!$C$29<>"Yes"),"","$5,000/$500/$2,000") | L43: =IF(B43="","",IF(N(calculations!Y12)=0,"",calculations!Y12)) | M43: =IF(OR(B43="",'Voluntary Elections'!G37="",'Voluntary Elections'!G37=0),"",'Voluntary Elections'!G37) | N43: =IF(OR(B43="",M43=""),"",N(M43)*IFERROR(INDEX('voluntary life sheet'!$C$3:$M$3,1,MATCH(N('Voluntary Elections'!E37),{0,30,35,40,45,50,55,60,65,70,75},1)),0)/1000) | O43: =IF(OR(B43="",'Voluntary Elections'!H37="",'Voluntary Elections'!H37=0),"",'Voluntary Elections'!H37) | P43: =IF(OR(B43="",O43=""),"",N(O43)*IFERROR(INDEX('voluntary life sheet'!$C$3:$M$3,1,MATCH(N('Voluntary Elections'!E37),{0,30,35,40,45,50,55,60,65,70,75},1)),0)/1000) | Q43: =IF(OR(B43="",'Voluntary Elections'!I37="",'Voluntary Elections'!I37=0),"",'Voluntary Elections'!I37) | R43: =IF(OR(B43="",Q43=""),"",'voluntary life'!$C$42) | S43: =IF(B43="","",SUM(F43,H43,J43,L43,N43,P43,R43))
B44: =IF('Voluntary Elections'!C38="","",'Voluntary Elections'!C38) | C44: =IF('Voluntary Elections'!D38="","",'Voluntary Elections'!D38) | D44: =IF(B44="","",'Voluntary Elections'!B38) | E44: =IF(B44="","",calculations!V13) | F44: =IF(B44="","",N(calculations!W13)+N(calculations!X13)) | G44: =IF(B44="","",$F$21) | H44: =IF(B44="","",IF(N(calculations!L13)+N(calculations!N13)=0,"",N(calculations!L13)+N(calculations!N13))) | I44: =IF(B44="","",$F$22) | J44: =IF(B44="","",IF(N(calculations!Q13)=0,"",calculations!Q13)) | K44: =IF(OR(B44="",'Basic Elections'!$C$29<>"Yes"),"","$5,000/$500/$2,000") | L44: =IF(B44="","",IF(N(calculations!Y13)=0,"",calculations!Y13)) | M44: =IF(OR(B44="",'Voluntary Elections'!G38="",'Voluntary Elections'!G38=0),"",'Voluntary Elections'!G38) | N44: =IF(OR(B44="",M44=""),"",N(M44)*IFERROR(INDEX('voluntary life sheet'!$C$3:$M$3,1,MATCH(N('Voluntary Elections'!E38),{0,30,35,40,45,50,55,60,65,70,75},1)),0)/1000) | O44: =IF(OR(B44="",'Voluntary Elections'!H38="",'Voluntary Elections'!H38=0),"",'Voluntary Elections'!H38) | P44: =IF(OR(B44="",O44=""),"",N(O44)*IFERROR(INDEX('voluntary life sheet'!$C$3:$M$3,1,MATCH(N('Voluntary Elections'!E38),{0,30,35,40,45,50,55,60,65,70,75},1)),0)/1000) | Q44: =IF(OR(B44="",'Voluntary Elections'!I38="",'Voluntary Elections'!I38=0),"",'Voluntary Elections'!I38) | R44: =IF(OR(B44="",Q44=""),"",'voluntary life'!$C$42) | S44: =IF(B44="","",SUM(F44,H44,J44,L44,N44,P44,R44))
B45: =IF('Voluntary Elections'!C39="","",'Voluntary Elections'!C39) | C45: =IF('Voluntary Elections'!D39="","",'Voluntary Elections'!D39) | D45: =IF(B45="","",'Voluntary Elections'!B39) | E45: =IF(B45="","",calculations!V14) | F45: =IF(B45="","",N(calculations!W14)+N(calculations!X14)) | G45: =IF(B45="","",$F$21) | H45: =IF(B45="","",IF(N(calculations!L14)+N(calculations!N14)=0,"",N(calculations!L14)+N(calculations!N14))) | I45: =IF(B45="","",$F$22) | J45: =IF(B45="","",IF(N(calculations!Q14)=0,"",calculations!Q14)) | K45: =IF(OR(B45="",'Basic Elections'!$C$29<>"Yes"),"","$5,000/$500/$2,000") | L45: =IF(B45="","",IF(N(calculations!Y14)=0,"",calculations!Y14)) | M45: =IF(OR(B45="",'Voluntary Elections'!G39="",'Voluntary Elections'!G39=0),"",'Voluntary Elections'!G39) | N45: =IF(OR(B45="",M45=""),"",N(M45)*IFERROR(INDEX('voluntary life sheet'!$C$3:$M$3,1,MATCH(N('Voluntary Elections'!E39),{0,30,35,40,45,50,55,60,65,70,75},1)),0)/1000) | O45: =IF(OR(B45="",'Voluntary Elections'!H39="",'Voluntary Elections'!H39=0),"",'Voluntary Elections'!H39) | P45: =IF(OR(B45="",O45=""),"",N(O45)*IFERROR(INDEX('voluntary life sheet'!$C$3:$M$3,1,MATCH(N('Voluntary Elections'!E39),{0,30,35,40,45,50,55,60,65,70,75},1)),0)/1000) | Q45: =IF(OR(B45="",'Voluntary Elections'!I39="",'Voluntary Elections'!I39=0),"",'Voluntary Elections'!I39) | R45: =IF(OR(B45="",Q45=""),"",'voluntary life'!$C$42) | S45: =IF(B45="","",SUM(F45,H45,J45,L45,N45,P45,R45))
B46: =IF('Voluntary Elections'!C40="","",'Voluntary Elections'!C40) | C46: =IF('Voluntary Elections'!D40="","",'Voluntary Elections'!D40) | D46: =IF(B46="","",'Voluntary Elections'!B40) | E46: =IF(B46="","",calculations!V15) | F46: =IF(B46="","",N(calculations!W15)+N(calculations!X15)) | G46: =IF(B46="","",$F$21) | H46: =IF(B46="","",IF(N(calculations!L15)+N(calculations!N15)=0,"",N(calculations!L15)+N(calculations!N15))) | I46: =IF(B46="","",$F$22) | J46: =IF(B46="","",IF(N(calculations!Q15)=0,"",calculations!Q15)) | K46: =IF(OR(B46="",'Basic Elections'!$C$29<>"Yes"),"","$5,000/$500/$2,000") | L46: =IF(B46="","",IF(N(calculations!Y15)=0,"",calculations!Y15)) | M46: =IF(OR(B46="",'Voluntary Elections'!G40="",'Voluntary Elections'!G40=0),"",'Voluntary Elections'!G40) | N46: =IF(OR(B46="",M46=""),"",N(M46)*IFERROR(INDEX('voluntary life sheet'!$C$3:$M$3,1,MATCH(N('Voluntary Elections'!E40),{0,30,35,40,45,50,55,60,65,70,75},1)),0)/1000) | O46: =IF(OR(B46="",'Voluntary Elections'!H40="",'Voluntary Elections'!H40=0),"",'Voluntary Elections'!H40) | P46: =IF(OR(B46="",O46=""),"",N(O46)*IFERROR(INDEX('voluntary life sheet'!$C$3:$M$3,1,MATCH(N('Voluntary Elections'!E40),{0,30,35,40,45,50,55,60,65,70,75},1)),0)/1000) | Q46: =IF(OR(B46="",'Voluntary Elections'!I40="",'Voluntary Elections'!I40=0),"",'Voluntary Elections'!I40) | R46: =IF(OR(B46="",Q46=""),"",'voluntary life'!$C$42) | S46: =IF(B46="","",SUM(F46,H46,J46,L46,N46,P46,R46))
... B133: =IF('Voluntary Elections'!C127="","",'Voluntary Elections'!C127) | C133: =IF('Voluntary Elections'!D127="","",'Voluntary Elections'!D127) | D133: =IF(B133="","",'Voluntary Elections'!B127) | E133: =IF(B133="","",calculations!V102) | F133: =IF(B133="","",N(calculations!W102)+N(calculations!X102)) | G133: =IF(B133="","",$F$21) | H133: =IF(B133="","",IF(N(calculations!L102)+N(calculations!N102)=0,"",N(calculations!L102)+N(calculations!N102))) | I133: =IF(B133="","",$F$22) | J133: =IF(B133="","",IF(N(calculations!Q102)=0,"",calculations!Q102)) | K133: =IF(OR(B133="",'Basic Elections'!$C$29<>"Yes"),"","$5,000/$500/$2,000") | L133: =IF(B133="","",IF(N(calculations!Y102)=0,"",calculations!Y102)) | M133: =IF(OR(B133="",'Voluntary Elections'!G127="",'Voluntary Elections'!G127=0),"",'Voluntary Elections'!G127) | N133: =IF(OR(B133="",M133=""),"",N(M133)*IFERROR(INDEX('voluntary life sheet'!$C$3:$M$3,1,MATCH(N('Voluntary Elections'!E127),{0,30,35,40,45,50,55,60,65,70,75},1)),0)/1000) | O133: =IF(OR(B133="",'Voluntary Elections'!H127="",'Voluntary Elections'!H127=0),"",'Voluntary Elections'!H127) | P133: =IF(OR(B133="",O133=""),"",N(O133)*IFERROR(INDEX('voluntary life sheet'!$C$3:$M$3,1,MATCH(N('Voluntary Elections'!E127),{0,30,35,40,45,50,55,60,65,70,75},1)),0)/1000) | Q133: =IF(OR(B133="",'Voluntary Elections'!I127="",'Voluntary Elections'!I127=0),"",'Voluntary Elections'!I127) | R133: =IF(OR(B133="",Q133=""),"",'voluntary life'!$C$42) | S133: =IF(B133="","",SUM(F133,H133,J133,L133,N133,P133,R133))
B134: All Employees Total | E134: =SUM(E34:E133) -> 0 | F134: =SUM(F34:F133) -> 0 | H134: =SUM(H34:H133) -> 0 | J134: =SUM(J34:J133) -> 0 | L134: =SUM(L34:L133) -> 0 | M134: =SUM(M34:M133) -> 0 | N134: =SUM(N34:N133) -> 0 | O134: =SUM(O34:O133) -> 0 | P134: =SUM(P34:P133) -> 0 | Q134: =SUM(Q34:Q133) -> 0 | R134: =SUM(R34:R133) -> 0 | S134: =SUM(S34:S133) -> 0
B136: Employee Basic Life and AD&D Summary
B139: First Name | C139: Last Name | D139: Employee Number | E139: Age | F139: Volume | G139: Life Rate | H139: Life Premium | I139: AD&D Rate | J139: AD&D Premium | K139: Total Premium | M139: First Name | N139: Last Name | O139: Employee Number | P139: Age | Q139: Volume | R139: Life Rate | S139: Life Premium | T139: AD&D Rate | U139: AD&D Premium | V139: Total Premium
B140: =IF('Basic Elections'!$C56="","",'Basic Elections'!$C56) | C140: =IF('Basic Elections'!$D56="","",'Basic Elections'!$D56) | D140: =IF($B140="","",'Basic Elections'!$B56) | E140: =IF($B140="","",calculations!D3) | F140: =IF($B140="","",calculations!V3) | G140: =IF($B140="","",'summary lookup and rates'!$C$5) | H140: =IF($B140="","",calculations!W3) | I140: =IF($B140="","",'summary lookup and rates'!$C$6) | J140: =IF($B140="","",calculations!X3) | K140: =IF(B140="","",SUM(H140,J140)) | M140: =IF('Basic Elections'!$C106="","",'Basic Elections'!$C106) | N140: =IF('Basic Elections'!$D106="","",'Basic Elections'!$D106) | O140: =IF($M140="","",'Basic Elections'!$B106) | P140: =IF($M140="","",calculations!D53) | Q140: =IF($M140="","",calculations!V53) | R140: =IF($M140="","",'summary lookup and rates'!$C$5) | S140: =IF($M140="","",calculations!W53) | T140: =IF($M140="","",'summary lookup and rates'!$C$6) | U140: =IF($M140="","",calculations!X53) | V140: =IF(M140="","",SUM(S140,U140))
B141: =IF('Basic Elections'!$C57="","",'Basic Elections'!$C57) | C141: =IF('Basic Elections'!$D57="","",'Basic Elections'!$D57) | D141: =IF($B141="","",'Basic Elections'!$B57) | E141: =IF($B141="","",calculations!D4) | F141: =IF($B141="","",calculations!V4) | G141: =IF($B141="","",'summary lookup and rates'!$C$5) | H141: =IF($B141="","",calculations!W4) | I141: =IF($B141="","",'summary lookup and rates'!$C$6) | J141: =IF($B141="","",calculations!X4) | K141: =IF(B141="","",SUM(H141,J141)) | M141: =IF('Basic Elections'!$C107="","",'Basic Elections'!$C107) | N141: =IF('Basic Elections'!$D107="","",'Basic Elections'!$D107) | O141: =IF($M141="","",'Basic Elections'!$B107) | P141: =IF($M141="","",calculations!D54) | Q141: =IF($M141="","",calculations!V54) | R141: =IF($M141="","",'summary lookup and rates'!$C$5) | S141: =IF($M141="","",calculations!W54) | T141: =IF($M141="","",'summary lookup and rates'!$C$6) | U141: =IF($M141="","",calculations!X54) | V141: =IF(M141="","",SUM(S141,U141))
B142: =IF('Basic Elections'!$C58="","",'Basic Elections'!$C58) | C142: =IF('Basic Elections'!$D58="","",'Basic Elections'!$D58) | D142: =IF($B142="","",'Basic Elections'!$B58) | E142: =IF($B142="","",calculations!D5) | F142: =IF($B142="","",calculations!V5) | G142: =IF($B142="","",'summary lookup and rates'!$C$5) | H142: =IF($B142="","",calculations!W5) | I142: =IF($B142="","",'summary lookup and rates'!$C$6) | J142: =IF($B142="","",calculations!X5) | K142: =IF(B142="","",SUM(H142,J142)) | M142: =IF('Basic Elections'!$C108="","",'Basic Elections'!$C108) | N142: =IF('Basic Elections'!$D108="","",'Basic Elections'!$D108) | O142: =IF($M142="","",'Basic Elections'!$B108) | P142: =IF($M142="","",calculations!D55) | Q142: =IF($M142="","",calculations!V55) | R142: =IF($M142="","",'summary lookup and rates'!$C$5) | S142: =IF($M142="","",calculations!W55) | T142: =IF($M142="","",'summary lookup and rates'!$C$6) | U142: =IF($M142="","",calculations!X55) | V142: =IF(M142="","",SUM(S142,U142))
B143: =IF('Basic Elections'!$C59="","",'Basic Elections'!$C59) | C143: =IF('Basic Elections'!$D59="","",'Basic Elections'!$D59) | D143: =IF($B143="","",'Basic Elections'!$B59) | E143: =IF($B143="","",calculations!D6) | F143: =IF($B143="","",calculations!V6) | G143: =IF($B143="","",'summary lookup and rates'!$C$5) | H143: =IF($B143="","",calculations!W6) | I143: =IF($B143="","",'summary lookup and rates'!$C$6) | J143: =IF($B143="","",calculations!X6) | K143: =IF(B143="","",SUM(H143,J143)) | M143: =IF('Basic Elections'!$C109="","",'Basic Elections'!$C109) | N143: =IF('Basic Elections'!$D109="","",'Basic Elections'!$D109) | O143: =IF($M143="","",'Basic Elections'!$B109) | P143: =IF($M143="","",calculations!D56) | Q143: =IF($M143="","",calculations!V56) | R143: =IF($M143="","",'summary lookup and rates'!$C$5) | S143: =IF($M143="","",calculations!W56) | T143: =IF($M143="","",'summary lookup and rates'!$C$6) | U143: =IF($M143="","",calculations!X56) | V143: =IF(M143="","",SUM(S143,U143))
B144: =IF('Basic Elections'!$C60="","",'Basic Elections'!$C60) | C144: =IF('Basic Elections'!$D60="","",'Basic Elections'!$D60) | D144: =IF($B144="","",'Basic Elections'!$B60) | E144: =IF($B144="","",calculations!D7) | F144: =IF($B144="","",calculations!V7) | G144: =IF($B144="","",'summary lookup and rates'!$C$5) | H144: =IF($B144="","",calculations!W7) | I144: =IF($B144="","",'summary lookup and rates'!$C$6) | J144: =IF($B144="","",calculations!X7) | K144: =IF(B144="","",SUM(H144,J144)) | M144: =IF('Basic Elections'!$C110="","",'Basic Elections'!$C110) | N144: =IF('Basic Elections'!$D110="","",'Basic Elections'!$D110) | O144: =IF($M144="","",'Basic Elections'!$B110) | P144: =IF($M144="","",calculations!D57) | Q144: =IF($M144="","",calculations!V57) | R144: =IF($M144="","",'summary lookup and rates'!$C$5) | S144: =IF($M144="","",calculations!W57) | T144: =IF($M144="","",'summary lookup and rates'!$C$6) | U144: =IF($M144="","",calculations!X57) | V144: =IF(M144="","",SUM(S144,U144))
B145: =IF('Basic Elections'!$C61="","",'Basic Elections'!$C61) | C145: =IF('Basic Elections'!$D61="","",'Basic Elections'!$D61) | D145: =IF($B145="","",'Basic Elections'!$B61) | E145: =IF($B145="","",calculations!D8) | F145: =IF($B145="","",calculations!V8) | G145: =IF($B145="","",'summary lookup and rates'!$C$5) | H145: =IF($B145="","",calculations!W8) | I145: =IF($B145="","",'summary lookup and rates'!$C$6) | J145: =IF($B145="","",calculations!X8) | K145: =IF(B145="","",SUM(H145,J145)) | M145: =IF('Basic Elections'!$C111="","",'Basic Elections'!$C111) | N145: =IF('Basic Elections'!$D111="","",'Basic Elections'!$D111) | O145: =IF($M145="","",'Basic Elections'!$B111) | P145: =IF($M145="","",calculations!D58) | Q145: =IF($M145="","",calculations!V58) | R145: =IF($M145="","",'summary lookup and rates'!$C$5) | S145: =IF($M145="","",calculations!W58) | T145: =IF($M145="","",'summary lookup and rates'!$C$6) | U145: =IF($M145="","",calculations!X58) | V145: =IF(M145="","",SUM(S145,U145))
B146: =IF('Basic Elections'!$C62="","",'Basic Elections'!$C62) | C146: =IF('Basic Elections'!$D62="","",'Basic Elections'!$D62) | D146: =IF($B146="","",'Basic Elections'!$B62) | E146: =IF($B146="","",calculations!D9) | F146: =IF($B146="","",calculations!V9) | G146: =IF($B146="","",'summary lookup and rates'!$C$5) | H146: =IF($B146="","",calculations!W9) | I146: =IF($B146="","",'summary lookup and rates'!$C$6) | J146: =IF($B146="","",calculations!X9) | K146: =IF(B146="","",SUM(H146,J146)) | M146: =IF('Basic Elections'!$C112="","",'Basic Elections'!$C112) | N146: =IF('Basic Elections'!$D112="","",'Basic Elections'!$D112) | O146: =IF($M146="","",'Basic Elections'!$B112) | P146: =IF($M146="","",calculations!D59) | Q146: =IF($M146="","",calculations!V59) | R146: =IF($M146="","",'summary lookup and rates'!$C$5) | S146: =IF($M146="","",calculations!W59) | T146: =IF($M146="","",'summary lookup and rates'!$C$6) | U146: =IF($M146="","",calculations!X59) | V146: =IF(M146="","",SUM(S146,U146))
B147: =IF('Basic Elections'!$C63="","",'Basic Elections'!$C63) | C147: =IF('Basic Elections'!$D63="","",'Basic Elections'!$D63) | D147: =IF($B147="","",'Basic Elections'!$B63) | E147: =IF($B147="","",calculations!D10) | F147: =IF($B147="","",calculations!V10) | G147: =IF($B147="","",'summary lookup and rates'!$C$5) | H147: =IF($B147="","",calculations!W10) | I147: =IF($B147="","",'summary lookup and rates'!$C$6) | J147: =IF($B147="","",calculations!X10) | K147: =IF(B147="","",SUM(H147,J147)) | M147: =IF('Basic Elections'!$C113="","",'Basic Elections'!$C113) | N147: =IF('Basic Elections'!$D113="","",'Basic Elections'!$D113) | O147: =IF($M147="","",'Basic Elections'!$B113) | P147: =IF($M147="","",calculations!D60) | Q147: =IF($M147="","",calculations!V60) | R147: =IF($M147="","",'summary lookup and rates'!$C$5) | S147: =IF($M147="","",calculations!W60) | T147: =IF($M147="","",'summary lookup and rates'!$C$6) | U147: =IF($M147="","",calculations!X60) | V147: =IF(M147="","",SUM(S147,U147))
B148: =IF('Basic Elections'!$C64="","",'Basic Elections'!$C64) | C148: =IF('Basic Elections'!$D64="","",'Basic Elections'!$D64) | D148: =IF($B148="","",'Basic Elections'!$B64) | E148: =IF($B148="","",calculations!D11) | F148: =IF($B148="","",calculations!V11) | G148: =IF($B148="","",'summary lookup and rates'!$C$5) | H148: =IF($B148="","",calculations!W11) | I148: =IF($B148="","",'summary lookup and rates'!$C$6) | J148: =IF($B148="","",calculations!X11) | K148: =IF(B148="","",SUM(H148,J148)) | M148: =IF('Basic Elections'!$C114="","",'Basic Elections'!$C114) | N148: =IF('Basic Elections'!$D114="","",'Basic Elections'!$D114) | O148: =IF($M148="","",'Basic Elections'!$B114) | P148: =IF($M148="","",calculations!D61) | Q148: =IF($M148="","",calculations!V61) | R148: =IF($M148="","",'summary lookup and rates'!$C$5) | S148: =IF($M148="","",calculations!W61) | T148: =IF($M148="","",'summary lookup and rates'!$C$6) | U148: =IF($M148="","",calculations!X61) | V148: =IF(M148="","",SUM(S148,U148))
B149: =IF('Basic Elections'!$C65="","",'Basic Elections'!$C65) | C149: =IF('Basic Elections'!$D65="","",'Basic Elections'!$D65) | D149: =IF($B149="","",'Basic Elections'!$B65) | E149: =IF($B149="","",calculations!D12) | F149: =IF($B149="","",calculations!V12) | G149: =IF($B149="","",'summary lookup and rates'!$C$5) | H149: =IF($B149="","",calculations!W12) | I149: =IF($B149="","",'summary lookup and rates'!$C$6) | J149: =IF($B149="","",calculations!X12) | K149: =IF(B149="","",SUM(H149,J149)) | M149: =IF('Basic Elections'!$C115="","",'Basic Elections'!$C115) | N149: =IF('Basic Elections'!$D115="","",'Basic Elections'!$D115) | O149: =IF($M149="","",'Basic Elections'!$B115) | P149: =IF($M149="","",calculations!D62) | Q149: =IF($M149="","",calculations!V62) | R149: =IF($M149="","",'summary lookup and rates'!$C$5) | S149: =IF($M149="","",calculations!W62) | T149: =IF($M149="","",'summary lookup and rates'!$C$6) | U149: =IF($M149="","",calculations!X62) | V149: =IF(M149="","",SUM(S149,U149))
B150: =IF('Basic Elections'!$C66="","",'Basic Elections'!$C66) | C150: =IF('Basic Elections'!$D66="","",'Basic Elections'!$D66) | D150: =IF($B150="","",'Basic Elections'!$B66) | E150: =IF($B150="","",calculations!D13) | F150: =IF($B150="","",calculations!V13) | G150: =IF($B150="","",'summary lookup and rates'!$C$5) | H150: =IF($B150="","",calculations!W13) | I150: =IF($B150="","",'summary lookup and rates'!$C$6) | J150: =IF($B150="","",calculations!X13) | K150: =IF(B150="","",SUM(H150,J150)) | M150: =IF('Basic Elections'!$C116="","",'Basic Elections'!$C116) | N150: =IF('Basic Elections'!$D116="","",'Basic Elections'!$D116) | O150: =IF($M150="","",'Basic Elections'!$B116) | P150: =IF($M150="","",calculations!D63) | Q150: =IF($M150="","",calculations!V63) | R150: =IF($M150="","",'summary lookup and rates'!$C$5) | S150: =IF($M150="","",calculations!W63) | T150: =IF($M150="","",'summary lookup and rates'!$C$6) | U150: =IF($M150="","",calculations!X63) | V150: =IF(M150="","",SUM(S150,U150))
B151: =IF('Basic Elections'!$C67="","",'Basic Elections'!$C67) | C151: =IF('Basic Elections'!$D67="","",'Basic Elections'!$D67) | D151: =IF($B151="","",'Basic Elections'!$B67) | E151: =IF($B151="","",calculations!D14) | F151: =IF($B151="","",calculations!V14) | G151: =IF($B151="","",'summary lookup and rates'!$C$5) | H151: =IF($B151="","",calculations!W14) | I151: =IF($B151="","",'summary lookup and rates'!$C$6) | J151: =IF($B151="","",calculations!X14) | K151: =IF(B151="","",SUM(H151,J151)) | M151: =IF('Basic Elections'!$C117="","",'Basic Elections'!$C117) | N151: =IF('Basic Elections'!$D117="","",'Basic Elections'!$D117) | O151: =IF($M151="","",'Basic Elections'!$B117) | P151: =IF($M151="","",calculations!D64) | Q151: =IF($M151="","",calculations!V64) | R151: =IF($M151="","",'summary lookup and rates'!$C$5) | S151: =IF($M151="","",calculations!W64) | T151: =IF($M151="","",'summary lookup and rates'!$C$6) | U151: =IF($M151="","",calculations!X64) | V151: =IF(M151="","",SUM(S151,U151))
... B189: =IF('Basic Elections'!$C105="","",'Basic Elections'!$C105) | C189: =IF('Basic Elections'!$D105="","",'Basic Elections'!$D105) | D189: =IF($B189="","",'Basic Elections'!$B105) | E189: =IF($B189="","",calculations!D52) | F189: =IF($B189="","",calculations!V52) | G189: =IF($B189="","",'summary lookup and rates'!$C$5) | H189: =IF($B189="","",calculations!W52) | I189: =IF($B189="","",'summary lookup and rates'!$C$6) | J189: =IF($B189="","",calculations!X52) | K189: =IF(B189="","",SUM(H189,J189)) | M189: =IF('Basic Elections'!$C155="","",'Basic Elections'!$C155) | N189: =IF('Basic Elections'!$D155="","",'Basic Elections'!$D155) | O189: =IF($M189="","",'Basic Elections'!$B155) | P189: =IF($M189="","",calculations!D102) | Q189: =IF($M189="","",calculations!V102) | R189: =IF($M189="","",'summary lookup and rates'!$C$5) | S189: =IF($M189="","",calculations!W102) | T189: =IF($M189="","",'summary lookup and rates'!$C$6) | U189: =IF($M189="","",calculations!X102) | V189: =IF(M189="","",SUM(S189,U189))
B191: Employee Basic Life and AD&D Premium Total | E191: =SUM(H140:H189,J140:J189,S140:S189,U140:U189) -> 0
B193: Dependent Life and AD&D Summary
B195: Benefit Selected:
B197: First Name | C197: Last Name | D197: Age | E197: Dep. Life/AD&D Rate | F197: Dep. Life/AD&D Premium | H197: First Name | I197: Last Name | J197: Age | K197: Dep. Life/AD&D Rate | L197: Dep. Life/AD&D Premium
B198: =IF(OR('Basic Elections'!$C$29<>"Yes",'Basic Elections'!$C56=""),"",'Basic Elections'!$C56) | C198: =IF(OR('Basic Elections'!$C$29<>"Yes",'Basic Elections'!$D56=""),"",'Basic Elections'!$D56) | D198: =IF($B198="","",calculations!D3) | E198: =IF($B198="","",'summary lookup and rates'!$C$7) | F198: =IF($B198="","",calculations!Y3) | H198: =IF(OR('Basic Elections'!$C$29<>"Yes",'Basic Elections'!$C106=""),"",'Basic Elections'!$C106) | I198: =IF(OR('Basic Elections'!$C$29<>"Yes",'Basic Elections'!$D106=""),"",'Basic Elections'!$D106) | J198: =IF($H198="","",calculations!D53) | K198: =IF($H198="","",'summary lookup and rates'!$C$7) | L198: =IF($H198="","",calculations!Y53)
B199: =IF(OR('Basic Elections'!$C$29<>"Yes",'Basic Elections'!$C57=""),"",'Basic Elections'!$C57) | C199: =IF(OR('Basic Elections'!$C$29<>"Yes",'Basic Elections'!$D57=""),"",'Basic Elections'!$D57) | D199: =IF($B199="","",calculations!D4) | E199: =IF($B199="","",'summary lookup and rates'!$C$7) | F199: =IF($B199="","",calculations!Y4) | H199: =IF(OR('Basic Elections'!$C$29<>"Yes",'Basic Elections'!$C107=""),"",'Basic Elections'!$C107) | I199: =IF(OR('Basic Elections'!$C$29<>"Yes",'Basic Elections'!$D107=""),"",'Basic Elections'!$D107) | J199: =IF($H199="","",calculations!D54) | K199: =IF($H199="","",'summary lookup and rates'!$C$7) | L199: =IF($H199="","",calculations!Y54)
B200: =IF(OR('Basic Elections'!$C$29<>"Yes",'Basic Elections'!$C58=""),"",'Basic Elections'!$C58) | C200: =IF(OR('Basic Elections'!$C$29<>"Yes",'Basic Elections'!$D58=""),"",'Basic Elections'!$D58) | D200: =IF($B200="","",calculations!D5) | E200: =IF($B200="","",'summary lookup and rates'!$C$7) | F200: =IF($B200="","",calculations!Y5) | H200: =IF(OR('Basic Elections'!$C$29<>"Yes",'Basic Elections'!$C108=""),"",'Basic Elections'!$C108) | I200: =IF(OR('Basic Elections'!$C$29<>"Yes",'Basic Elections'!$D108=""),"",'Basic Elections'!$D108) | J200: =IF($H200="","",calculations!D55) | K200: =IF($H200="","",'summary lookup and rates'!$C$7) | L200: =IF($H200="","",calculations!Y55)
B201: =IF(OR('Basic Elections'!$C$29<>"Yes",'Basic Elections'!$C59=""),"",'Basic Elections'!$C59) | C201: =IF(OR('Basic Elections'!$C$29<>"Yes",'Basic Elections'!$D59=""),"",'Basic Elections'!$D59) | D201: =IF($B201="","",calculations!D6) | E201: =IF($B201="","",'summary lookup and rates'!$C$7) | F201: =IF($B201="","",calculations!Y6) | H201: =IF(OR('Basic Elections'!$C$29<>"Yes",'Basic Elections'!$C109=""),"",'Basic Elections'!$C109) | I201: =IF(OR('Basic Elections'!$C$29<>"Yes",'Basic Elections'!$D109=""),"",'Basic Elections'!$D109) | J201: =IF($H201="","",calculations!D56) | K201: =IF($H201="","",'summary lookup and rates'!$C$7) | L201: =IF($H201="","",calculations!Y56)
B202: =IF(OR('Basic Elections'!$C$29<>"Yes",'Basic Elections'!$C60=""),"",'Basic Elections'!$C60) | C202: =IF(OR('Basic Elections'!$C$29<>"Yes",'Basic Elections'!$D60=""),"",'Basic Elections'!$D60) | D202: =IF($B202="","",calculations!D7) | E202: =IF($B202="","",'summary lookup and rates'!$C$7) | F202: =IF($B202="","",calculations!Y7) | H202: =IF(OR('Basic Elections'!$C$29<>"Yes",'Basic Elections'!$C110=""),"",'Basic Elections'!$C110) | I202: =IF(OR('Basic Elections'!$C$29<>"Yes",'Basic Elections'!$D110=""),"",'Basic Elections'!$D110) | J202: =IF($H202="","",calculations!D57) | K202: =IF($H202="","",'summary lookup and rates'!$C$7) | L202: =IF($H202="","",calculations!Y57)
B203: =IF(OR('Basic Elections'!$C$29<>"Yes",'Basic Elections'!$C61=""),"",'Basic Elections'!$C61) | C203: =IF(OR('Basic Elections'!$C$29<>"Yes",'Basic Elections'!$D61=""),"",'Basic Elections'!$D61) | D203: =IF($B203="","",calculations!D8) | E203: =IF($B203="","",'summary lookup and rates'!$C$7) | F203: =IF($B203="","",calculations!Y8) | H203: =IF(OR('Basic Elections'!$C$29<>"Yes",'Basic Elections'!$C111=""),"",'Basic Elections'!$C111) | I203: =IF(OR('Basic Elections'!$C$29<>"Yes",'Basic Elections'!$D111=""),"",'Basic Elections'!$D111) | J203: =IF($H203="","",calculations!D58) | K203: =IF($H203="","",'summary lookup and rates'!$C$7) | L203: =IF($H203="","",calculations!Y58)
B204: =IF(OR('Basic Elections'!$C$29<>"Yes",'Basic Elections'!$C62=""),"",'Basic Elections'!$C62) | C204: =IF(OR('Basic Elections'!$C$29<>"Yes",'Basic Elections'!$D62=""),"",'Basic Elections'!$D62) | D204: =IF($B204="","",calculations!D9) | E204: =IF($B204="","",'summary lookup and rates'!$C$7) | F204: =IF($B204="","",calculations!Y9) | H204: =IF(OR('Basic Elections'!$C$29<>"Yes",'Basic Elections'!$C112=""),"",'Basic Elections'!$C112) | I204: =IF(OR('Basic Elections'!$C$29<>"Yes",'Basic Elections'!$D112=""),"",'Basic Elections'!$D112) | J204: =IF($H204="","",calculations!D59) | K204: =IF($H204="","",'summary lookup and rates'!$C$7) | L204: =IF($H204="","",calculations!Y59)
B205: =IF(OR('Basic Elections'!$C$29<>"Yes",'Basic Elections'!$C63=""),"",'Basic Elections'!$C63) | C205: =IF(OR('Basic Elections'!$C$29<>"Yes",'Basic Elections'!$D63=""),"",'Basic Elections'!$D63) | D205: =IF($B205="","",calculations!D10) | E205: =IF($B205="","",'summary lookup and rates'!$C$7) | F205: =IF($B205="","",calculations!Y10) | H205: =IF(OR('Basic Elections'!$C$29<>"Yes",'Basic Elections'!$C113=""),"",'Basic Elections'!$C113) | I205: =IF(OR('Basic Elections'!$C$29<>"Yes",'Basic Elections'!$D113=""),"",'Basic Elections'!$D113) | J205: =IF($H205="","",calculations!D60) | K205: =IF($H205="","",'summary lookup and rates'!$C$7) | L205: =IF($H205="","",calculations!Y60)
B206: =IF(OR('Basic Elections'!$C$29<>"Yes",'Basic Elections'!$C64=""),"",'Basic Elections'!$C64) | C206: =IF(OR('Basic Elections'!$C$29<>"Yes",'Basic Elections'!$D64=""),"",'Basic Elections'!$D64) | D206: =IF($B206="","",calculations!D11) | E206: =IF($B206="","",'summary lookup and rates'!$C$7) | F206: =IF($B206="","",calculations!Y11) | H206: =IF(OR('Basic Elections'!$C$29<>"Yes",'Basic Elections'!$C114=""),"",'Basic Elections'!$C114) | I206: =IF(OR('Basic Elections'!$C$29<>"Yes",'Basic Elections'!$D114=""),"",'Basic Elections'!$D114) | J206: =IF($H206="","",calculations!D61) | K206: =IF($H206="","",'summary lookup and rates'!$C$7) | L206: =IF($H206="","",calculations!Y61)
B207: =IF(OR('Basic Elections'!$C$29<>"Yes",'Basic Elections'!$C65=""),"",'Basic Elections'!$C65) | C207: =IF(OR('Basic Elections'!$C$29<>"Yes",'Basic Elections'!$D65=""),"",'Basic Elections'!$D65) | D207: =IF($B207="","",calculations!D12) | E207: =IF($B207="","",'summary lookup and rates'!$C$7) | F207: =IF($B207="","",calculations!Y12) | H207: =IF(OR('Basic Elections'!$C$29<>"Yes",'Basic Elections'!$C115=""),"",'Basic Elections'!$C115) | I207: =IF(OR('Basic Elections'!$C$29<>"Yes",'Basic Elections'!$D115=""),"",'Basic Elections'!$D115) | J207: =IF($H207="","",calculations!D62) | K207: =IF($H207="","",'summary lookup and rates'!$C$7) | L207: =IF($H207="","",calculations!Y62)
B208: =IF(OR('Basic Elections'!$C$29<>"Yes",'Basic Elections'!$C66=""),"",'Basic Elections'!$C66) | C208: =IF(OR('Basic Elections'!$C$29<>"Yes",'Basic Elections'!$D66=""),"",'Basic Elections'!$D66) | D208: =IF($B208="","",calculations!D13) | E208: =IF($B208="","",'summary lookup and rates'!$C$7) | F208: =IF($B208="","",calculations!Y13) | H208: =IF(OR('Basic Elections'!$C$29<>"Yes",'Basic Elections'!$C116=""),"",'Basic Elections'!$C116) | I208: =IF(OR('Basic Elections'!$C$29<>"Yes",'Basic Elections'!$D116=""),"",'Basic Elections'!$D116) | J208: =IF($H208="","",calculations!D63) | K208: =IF($H208="","",'summary lookup and rates'!$C$7) | L208: =IF($H208="","",calculations!Y63)
B209: =IF(OR('Basic Elections'!$C$29<>"Yes",'Basic Elections'!$C67=""),"",'Basic Elections'!$C67) | C209: =IF(OR('Basic Elections'!$C$29<>"Yes",'Basic Elections'!$D67=""),"",'Basic Elections'!$D67) | D209: =IF($B209="","",calculations!D14) | E209: =IF($B209="","",'summary lookup and rates'!$C$7) | F209: =IF($B209="","",calculations!Y14) | H209: =IF(OR('Basic Elections'!$C$29<>"Yes",'Basic Elections'!$C117=""),"",'Basic Elections'!$C117) | I209: =IF(OR('Basic Elections'!$C$29<>"Yes",'Basic Elections'!$D117=""),"",'Basic Elections'!$D117) | J209: =IF($H209="","",calculations!D64) | K209: =IF($H209="","",'summary lookup and rates'!$C$7) | L209: =IF($H209="","",calculations!Y64)
... B247: =IF(OR('Basic Elections'!$C$29<>"Yes",'Basic Elections'!$C105=""),"",'Basic Elections'!$C105) | C247: =IF(OR('Basic Elections'!$C$29<>"Yes",'Basic Elections'!$D105=""),"",'Basic Elections'!$D105) | D247: =IF($B247="","",calculations!D52) | E247: =IF($B247="","",'summary lookup and rates'!$C$7) | F247: =IF($B247="","",calculations!Y52) | H247: =IF(OR('Basic Elections'!$C$29<>"Yes",'Basic Elections'!$C155=""),"",'Basic Elections'!$C155) | I247: =IF(OR('Basic Elections'!$C$29<>"Yes",'Basic Elections'!$D155=""),"",'Basic Elections'!$D155) | J247: =IF($H247="","",calculations!D102) | K247: =IF($H247="","",'summary lookup and rates'!$C$7) | L247: =IF($H247="","",calculations!Y102)
B250: Total Dependent Life and AD&D Premiums: | E250: =SUM(E198:E247,K198:K247) -> 0
B253: Short Term Disability Summary
B256: First Name | C256: Last Name | D256: Age | E256: Volume | F256: STD Rate | G256: STD Premium | I256: First Name | J256: Last Name | K256: Age | L256: Volume | M256: STD Rate | N256: STD Premium
B257: =IF(OR('Basic Elections'!$C56="",'Basic Elections'!$C$34="None"),"",'Basic Elections'!$C56) | C257: =IF(OR('Basic Elections'!$D56="",'Basic Elections'!$C$34="None"),"",'Basic Elections'!$D56) | D257: =IF($B257="","",calculations!D3) | E257: =IF($B257="","",calculations!K3+calculations!M3) | F257: =IF($B257="","",VLOOKUP('Basic Elections'!$C$34,STD_Rates_lookup,2,FALSE)) | G257: =IF($B257="","",calculations!L3+calculations!N3) | I257: =IF(OR('Basic Elections'!$C106="",'Basic Elections'!$C$34="None"),"",'Basic Elections'!$C106) | J257: =IF(OR('Basic Elections'!$D106="",'Basic Elections'!$C$34="None"),"",'Basic Elections'!$D106) | K257: =IF($I257="","",calculations!D53) | L257: =IF($I257="","",calculations!K53+calculations!M53) | M257: =IF($I257="","",VLOOKUP('Basic Elections'!$C$34,STD_Rates_lookup,2,FALSE)) | N257: =IF($I257="","",calculations!L53+calculations!N53)
B258: =IF(OR('Basic Elections'!$C57="",'Basic Elections'!$C$34="None"),"",'Basic Elections'!$C57) | C258: =IF(OR('Basic Elections'!$D57="",'Basic Elections'!$C$34="None"),"",'Basic Elections'!$D57) | D258: =IF($B258="","",calculations!D4) | E258: =IF($B258="","",calculations!K4+calculations!M4) | F258: =IF($B258="","",VLOOKUP('Basic Elections'!$C$34,STD_Rates_lookup,2,FALSE)) | G258: =IF($B258="","",calculations!L4+calculations!N4) | I258: =IF(OR('Basic Elections'!$C107="",'Basic Elections'!$C$34="None"),"",'Basic Elections'!$C107) | J258: =IF(OR('Basic Elections'!$D107="",'Basic Elections'!$C$34="None"),"",'Basic Elections'!$D107) | K258: =IF($I258="","",calculations!D54) | L258: =IF($I258="","",calculations!K54+calculations!M54) | M258: =IF($I258="","",VLOOKUP('Basic Elections'!$C$34,STD_Rates_lookup,2,FALSE)) | N258: =IF($I258="","",calculations!L54+calculations!N54)
B259: =IF(OR('Basic Elections'!$C58="",'Basic Elections'!$C$34="None"),"",'Basic Elections'!$C58) | C259: =IF(OR('Basic Elections'!$D58="",'Basic Elections'!$C$34="None"),"",'Basic Elections'!$D58) | D259: =IF($B259="","",calculations!D5) | E259: =IF($B259="","",calculations!K5+calculations!M5) | F259: =IF($B259="","",VLOOKUP('Basic Elections'!$C$34,STD_Rates_lookup,2,FALSE)) | G259: =IF($B259="","",calculations!L5+calculations!N5) | I259: =IF(OR('Basic Elections'!$C108="",'Basic Elections'!$C$34="None"),"",'Basic Elections'!$C108) | J259: =IF(OR('Basic Elections'!$D108="",'Basic Elections'!$C$34="None"),"",'Basic Elections'!$D108) | K259: =IF($I259="","",calculations!D55) | L259: =IF($I259="","",calculations!K55+calculations!M55) | M259: =IF($I259="","",VLOOKUP('Basic Elections'!$C$34,STD_Rates_lookup,2,FALSE)) | N259: =IF($I259="","",calculations!L55+calculations!N55)
B260: =IF(OR('Basic Elections'!$C59="",'Basic Elections'!$C$34="None"),"",'Basic Elections'!$C59) | C260: =IF(OR('Basic Elections'!$D59="",'Basic Elections'!$C$34="None"),"",'Basic Elections'!$D59) | D260: =IF($B260="","",calculations!D6) | E260: =IF($B260="","",calculations!K6+calculations!M6) | F260: =IF($B260="","",VLOOKUP('Basic Elections'!$C$34,STD_Rates_lookup,2,FALSE)) | G260: =IF($B260="","",calculations!L6+calculations!N6) | I260: =IF(OR('Basic Elections'!$C109="",'Basic Elections'!$C$34="None"),"",'Basic Elections'!$C109) | J260: =IF(OR('Basic Elections'!$D109="",'Basic Elections'!$C$34="None"),"",'Basic Elections'!$D109) | K260: =IF($I260="","",calculations!D56) | L260: =IF($I260="","",calculations!K56+calculations!M56) | M260: =IF($I260="","",VLOOKUP('Basic Elections'!$C$34,STD_Rates_lookup,2,FALSE)) | N260: =IF($I260="","",calculations!L56+calculations!N56)
B261: =IF(OR('Basic Elections'!$C60="",'Basic Elections'!$C$34="None"),"",'Basic Elections'!$C60) | C261: =IF(OR('Basic Elections'!$D60="",'Basic Elections'!$C$34="None"),"",'Basic Elections'!$D60) | D261: =IF($B261="","",calculations!D7) | E261: =IF($B261="","",calculations!K7+calculations!M7) | F261: =IF($B261="","",VLOOKUP('Basic Elections'!$C$34,STD_Rates_lookup,2,FALSE)) | G261: =IF($B261="","",calculations!L7+calculations!N7) | I261: =IF(OR('Basic Elections'!$C110="",'Basic Elections'!$C$34="None"),"",'Basic Elections'!$C110) | J261: =IF(OR('Basic Elections'!$D110="",'Basic Elections'!$C$34="None"),"",'Basic Elections'!$D110) | K261: =IF($I261="","",calculations!D57) | L261: =IF($I261="","",calculations!K57+calculations!M57) | M261: =IF($I261="","",VLOOKUP('Basic Elections'!$C$34,STD_Rates_lookup,2,FALSE)) | N261: =IF($I261="","",calculations!L57+calculations!N57)
B262: =IF(OR('Basic Elections'!$C61="",'Basic Elections'!$C$34="None"),"",'Basic Elections'!$C61) | C262: =IF(OR('Basic Elections'!$D61="",'Basic Elections'!$C$34="None"),"",'Basic Elections'!$D61) | D262: =IF($B262="","",calculations!D8) | E262: =IF($B262="","",calculations!K8+calculations!M8) | F262: =IF($B262="","",VLOOKUP('Basic Elections'!$C$34,STD_Rates_lookup,2,FALSE)) | G262: =IF($B262="","",calculations!L8+calculations!N8) | I262: =IF(OR('Basic Elections'!$C111="",'Basic Elections'!$C$34="None"),"",'Basic Elections'!$C111) | J262: =IF(OR('Basic Elections'!$D111="",'Basic Elections'!$C$34="None"),"",'Basic Elections'!$D111) | K262: =IF($I262="","",calculations!D58) | L262: =IF($I262="","",calculations!K58+calculations!M58) | M262: =IF($I262="","",VLOOKUP('Basic Elections'!$C$34,STD_Rates_lookup,2,FALSE)) | N262: =IF($I262="","",calculations!L58+calculations!N58)
B263: =IF(OR('Basic Elections'!$C62="",'Basic Elections'!$C$34="None"),"",'Basic Elections'!$C62) | C263: =IF(OR('Basic Elections'!$D62="",'Basic Elections'!$C$34="None"),"",'Basic Elections'!$D62) | D263: =IF($B263="","",calculations!D9) | E263: =IF($B263="","",calculations!K9+calculations!M9) | F263: =IF($B263="","",VLOOKUP('Basic Elections'!$C$34,STD_Rates_lookup,2,FALSE)) | G263: =IF($B263="","",calculations!L9+calculations!N9) | I263: =IF(OR('Basic Elections'!$C112="",'Basic Elections'!$C$34="None"),"",'Basic Elections'!$C112) | J263: =IF(OR('Basic Elections'!$D112="",'Basic Elections'!$C$34="None"),"",'Basic Elections'!$D112) | K263: =IF($I263="","",calculations!D59) | L263: =IF($I263="","",calculations!K59+calculations!M59) | M263: =IF($I263="","",VLOOKUP('Basic Elections'!$C$34,STD_Rates_lookup,2,FALSE)) | N263: =IF($I263="","",calculations!L59+calculations!N59)
B264: =IF(OR('Basic Elections'!$C63="",'Basic Elections'!$C$34="None"),"",'Basic Elections'!$C63) | C264: =IF(OR('Basic Elections'!$D63="",'Basic Elections'!$C$34="None"),"",'Basic Elections'!$D63) | D264: =IF($B264="","",calculations!D10) | E264: =IF($B264="","",calculations!K10+calculations!M10) | F264: =IF($B264="","",VLOOKUP('Basic Elections'!$C$34,STD_Rates_lookup,2,FALSE)) | G264: =IF($B264="","",calculations!L10+calculations!N10) | I264: =IF(OR('Basic Elections'!$C113="",'Basic Elections'!$C$34="None"),"",'Basic Elections'!$C113) | J264: =IF(OR('Basic Elections'!$D113="",'Basic Elections'!$C$34="None"),"",'Basic Elections'!$D113) | K264: =IF($I264="","",calculations!D60) | L264: =IF($I264="","",calculations!K60+calculations!M60) | M264: =IF($I264="","",VLOOKUP('Basic Elections'!$C$34,STD_Rates_lookup,2,FALSE)) | N264: =IF($I264="","",calculations!L60+calculations!N60)
B265: =IF(OR('Basic Elections'!$C64="",'Basic Elections'!$C$34="None"),"",'Basic Elections'!$C64) | C265: =IF(OR('Basic Elections'!$D64="",'Basic Elections'!$C$34="None"),"",'Basic Elections'!$D64) | D265: =IF($B265="","",calculations!D11) | E265: =IF($B265="","",calculations!K11+calculations!M11) | F265: =IF($B265="","",VLOOKUP('Basic Elections'!$C$34,STD_Rates_lookup,2,FALSE)) | G265: =IF($B265="","",calculations!L11+calculations!N11) | I265: =IF(OR('Basic Elections'!$C114="",'Basic Elections'!$C$34="None"),"",'Basic Elections'!$C114) | J265: =IF(OR('Basic Elections'!$D114="",'Basic Elections'!$C$34="None"),"",'Basic Elections'!$D114) | K265: =IF($I265="","",calculations!D61) | L265: =IF($I265="","",calculations!K61+calculations!M61) | M265: =IF($I265="","",VLOOKUP('Basic Elections'!$C$34,STD_Rates_lookup,2,FALSE)) | N265: =IF($I265="","",calculations!L61+calculations!N61)
B266: =IF(OR('Basic Elections'!$C65="",'Basic Elections'!$C$34="None"),"",'Basic Elections'!$C65) | C266: =IF(OR('Basic Elections'!$D65="",'Basic Elections'!$C$34="None"),"",'Basic Elections'!$D65) | D266: =IF($B266="","",calculations!D12) | E266: =IF($B266="","",calculations!K12+calculations!M12) | F266: =IF($B266="","",VLOOKUP('Basic Elections'!$C$34,STD_Rates_lookup,2,FALSE)) | G266: =IF($B266="","",calculations!L12+calculations!N12) | I266: =IF(OR('Basic Elections'!$C115="",'Basic Elections'!$C$34="None"),"",'Basic Elections'!$C115) | J266: =IF(OR('Basic Elections'!$D115="",'Basic Elections'!$C$34="None"),"",'Basic Elections'!$D115) | K266: =IF($I266="","",calculations!D62) | L266: =IF($I266="","",calculations!K62+calculations!M62) | M266: =IF($I266="","",VLOOKUP('Basic Elections'!$C$34,STD_Rates_lookup,2,FALSE)) | N266: =IF($I266="","",calculations!L62+calculations!N62)
B267: =IF(OR('Basic Elections'!$C66="",'Basic Elections'!$C$34="None"),"",'Basic Elections'!$C66) | C267: =IF(OR('Basic Elections'!$D66="",'Basic Elections'!$C$34="None"),"",'Basic Elections'!$D66) | D267: =IF($B267="","",calculations!D13) | E267: =IF($B267="","",calculations!K13+calculations!M13) | F267: =IF($B267="","",VLOOKUP('Basic Elections'!$C$34,STD_Rates_lookup,2,FALSE)) | G267: =IF($B267="","",calculations!L13+calculations!N13) | I267: =IF(OR('Basic Elections'!$C116="",'Basic Elections'!$C$34="None"),"",'Basic Elections'!$C116) | J267: =IF(OR('Basic Elections'!$D116="",'Basic Elections'!$C$34="None"),"",'Basic Elections'!$D116) | K267: =IF($I267="","",calculations!D63) | L267: =IF($I267="","",calculations!K63+calculations!M63) | M267: =IF($I267="","",VLOOKUP('Basic Elections'!$C$34,STD_Rates_lookup,2,FALSE)) | N267: =IF($I267="","",calculations!L63+calculations!N63)
B268: =IF(OR('Basic Elections'!$C67="",'Basic Elections'!$C$34="None"),"",'Basic Elections'!$C67) | C268: =IF(OR('Basic Elections'!$D67="",'Basic Elections'!$C$34="None"),"",'Basic Elections'!$D67) | D268: =IF($B268="","",calculations!D14) | E268: =IF($B268="","",calculations!K14+calculations!M14) | F268: =IF($B268="","",VLOOKUP('Basic Elections'!$C$34,STD_Rates_lookup,2,FALSE)) | G268: =IF($B268="","",calculations!L14+calculations!N14) | I268: =IF(OR('Basic Elections'!$C117="",'Basic Elections'!$C$34="None"),"",'Basic Elections'!$C117) | J268: =IF(OR('Basic Elections'!$D117="",'Basic Elections'!$C$34="None"),"",'Basic Elections'!$D117) | K268: =IF($I268="","",calculations!D64) | L268: =IF($I268="","",calculations!K64+calculations!M64) | M268: =IF($I268="","",VLOOKUP('Basic Elections'!$C$34,STD_Rates_lookup,2,FALSE)) | N268: =IF($I268="","",calculations!L64+calculations!N64)
... B306: =IF(OR('Basic Elections'!$C105="",'Basic Elections'!$C$34="None"),"",'Basic Elections'!$C105) | C306: =IF(OR('Basic Elections'!$D105="",'Basic Elections'!$C$34="None"),"",'Basic Elections'!$D105) | D306: =IF($B306="","",calculations!D52) | E306: =IF($B306="","",calculations!K52+calculations!M52) | F306: =IF($B306="","",VLOOKUP('Basic Elections'!$C$34,STD_Rates_lookup,2,FALSE)) | G306: =IF($B306="","",calculations!L52+calculations!N52) | I306: =IF(OR('Basic Elections'!$C155="",'Basic Elections'!$C$34="None"),"",'Basic Elections'!$C155) | J306: =IF(OR('Basic Elections'!$D155="",'Basic Elections'!$C$34="None"),"",'Basic Elections'!$D155) | K306: =IF($I306="","",calculations!D102) | L306: =IF($I306="","",calculations!K102+calculations!M102) | M306: =IF($I306="","",VLOOKUP('Basic Elections'!$C$34,STD_Rates_lookup,2,FALSE)) | N306: =IF($I306="","",calculations!L102+calculations!N102)
B308: Total Short Term Disability Premiums: | E308: =SUM(G257:G306,N257:N306) -> 0
B311: Long Term Disability Summary
B314: First Name | C314: Last Name | D314: Age | E314: Volume | F314: LTD Rate | G314: LTD Premium | I314: First Name | J314: Last Name | K314: Age | L314: Volume | M314: LTD Rate | N314: LTD Premium
B315: =IF(OR('Basic Elections'!$C56="",'Basic Elections'!$C$45="None"),"",'Basic Elections'!$C56) | C315: =IF(OR('Basic Elections'!$D56="",'Basic Elections'!$C$45="None"),"",'Basic Elections'!$D56) | D315: =IF($B315="","",calculations!D3) | E315: =IF($B315="","",calculations!P3) | F315: =IF($B315="","",VLOOKUP('Basic Elections'!$C$45,LTD_Rates_lookup,2,FALSE)) | G315: =IF($B315="","",calculations!Q3) | I315: =IF(OR('Basic Elections'!$C106="",'Basic Elections'!$C$45="None"),"",'Basic Elections'!$C106) | J315: =IF(OR('Basic Elections'!$D106="",'Basic Elections'!$C$45="None"),"",'Basic Elections'!$D106) | K315: =IF($I315="","",calculations!D53) | L315: =IF($I315="","",calculations!P53) | M315: =IF($I315="","",VLOOKUP('Basic Elections'!$C$45,LTD_Rates_lookup,2,FALSE)) | N315: =IF($I315="","",calculations!Q53)
B316: =IF(OR('Basic Elections'!$C57="",'Basic Elections'!$C$45="None"),"",'Basic Elections'!$C57) | C316: =IF(OR('Basic Elections'!$D57="",'Basic Elections'!$C$45="None"),"",'Basic Elections'!$D57) | D316: =IF($B316="","",calculations!D4) | E316: =IF($B316="","",calculations!P4) | F316: =IF($B316="","",VLOOKUP('Basic Elections'!$C$45,LTD_Rates_lookup,2,FALSE)) | G316: =IF($B316="","",calculations!Q4) | I316: =IF(OR('Basic Elections'!$C107="",'Basic Elections'!$C$45="None"),"",'Basic Elections'!$C107) | J316: =IF(OR('Basic Elections'!$D107="",'Basic Elections'!$C$45="None"),"",'Basic Elections'!$D107) | K316: =IF($I316="","",calculations!D54) | L316: =IF($I316="","",calculations!P54) | M316: =IF($I316="","",VLOOKUP('Basic Elections'!$C$45,LTD_Rates_lookup,2,FALSE)) | N316: =IF($I316="","",calculations!Q54)
B317: =IF(OR('Basic Elections'!$C58="",'Basic Elections'!$C$45="None"),"",'Basic Elections'!$C58) | C317: =IF(OR('Basic Elections'!$D58="",'Basic Elections'!$C$45="None"),"",'Basic Elections'!$D58) | D317: =IF($B317="","",calculations!D5) | E317: =IF($B317="","",calculations!P5) | F317: =IF($B317="","",VLOOKUP('Basic Elections'!$C$45,LTD_Rates_lookup,2,FALSE)) | G317: =IF($B317="","",calculations!Q5) | I317: =IF(OR('Basic Elections'!$C108="",'Basic Elections'!$C$45="None"),"",'Basic Elections'!$C108) | J317: =IF(OR('Basic Elections'!$D108="",'Basic Elections'!$C$45="None"),"",'Basic Elections'!$D108) | K317: =IF($I317="","",calculations!D55) | L317: =IF($I317="","",calculations!P55) | M317: =IF($I317="","",VLOOKUP('Basic Elections'!$C$45,LTD_Rates_lookup,2,FALSE)) | N317: =IF($I317="","",calculations!Q55)
B318: =IF(OR('Basic Elections'!$C59="",'Basic Elections'!$C$45="None"),"",'Basic Elections'!$C59) | C318: =IF(OR('Basic Elections'!$D59="",'Basic Elections'!$C$45="None"),"",'Basic Elections'!$D59) | D318: =IF($B318="","",calculations!D6) | E318: =IF($B318="","",calculations!P6) | F318: =IF($B318="","",VLOOKUP('Basic Elections'!$C$45,LTD_Rates_lookup,2,FALSE)) | G318: =IF($B318="","",calculations!Q6) | I318: =IF(OR('Basic Elections'!$C109="",'Basic Elections'!$C$45="None"),"",'Basic Elections'!$C109) | J318: =IF(OR('Basic Elections'!$D109="",'Basic Elections'!$C$45="None"),"",'Basic Elections'!$D109) | K318: =IF($I318="","",calculations!D56) | L318: =IF($I318="","",calculations!P56) | M318: =IF($I318="","",VLOOKUP('Basic Elections'!$C$45,LTD_Rates_lookup,2,FALSE)) | N318: =IF($I318="","",calculations!Q56)
B319: =IF(OR('Basic Elections'!$C60="",'Basic Elections'!$C$45="None"),"",'Basic Elections'!$C60) | C319: =IF(OR('Basic Elections'!$D60="",'Basic Elections'!$C$45="None"),"",'Basic Elections'!$D60) | D319: =IF($B319="","",calculations!D7) | E319: =IF($B319="","",calculations!P7) | F319: =IF($B319="","",VLOOKUP('Basic Elections'!$C$45,LTD_Rates_lookup,2,FALSE)) | G319: =IF($B319="","",calculations!Q7) | I319: =IF(OR('Basic Elections'!$C110="",'Basic Elections'!$C$45="None"),"",'Basic Elections'!$C110) | J319: =IF(OR('Basic Elections'!$D110="",'Basic Elections'!$C$45="None"),"",'Basic Elections'!$D110) | K319: =IF($I319="","",calculations!D57) | L319: =IF($I319="","",calculations!P57) | M319: =IF($I319="","",VLOOKUP('Basic Elections'!$C$45,LTD_Rates_lookup,2,FALSE)) | N319: =IF($I319="","",calculations!Q57)
B320: =IF(OR('Basic Elections'!$C61="",'Basic Elections'!$C$45="None"),"",'Basic Elections'!$C61) | C320: =IF(OR('Basic Elections'!$D61="",'Basic Elections'!$C$45="None"),"",'Basic Elections'!$D61) | D320: =IF($B320="","",calculations!D8) | E320: =IF($B320="","",calculations!P8) | F320: =IF($B320="","",VLOOKUP('Basic Elections'!$C$45,LTD_Rates_lookup,2,FALSE)) | G320: =IF($B320="","",calculations!Q8) | I320: =IF(OR('Basic Elections'!$C111="",'Basic Elections'!$C$45="None"),"",'Basic Elections'!$C111) | J320: =IF(OR('Basic Elections'!$D111="",'Basic Elections'!$C$45="None"),"",'Basic Elections'!$D111) | K320: =IF($I320="","",calculations!D58) | L320: =IF($I320="","",calculations!P58) | M320: =IF($I320="","",VLOOKUP('Basic Elections'!$C$45,LTD_Rates_lookup,2,FALSE)) | N320: =IF($I320="","",calculations!Q58)
B321: =IF(OR('Basic Elections'!$C62="",'Basic Elections'!$C$45="None"),"",'Basic Elections'!$C62) | C321: =IF(OR('Basic Elections'!$D62="",'Basic Elections'!$C$45="None"),"",'Basic Elections'!$D62) | D321: =IF($B321="","",calculations!D9) | E321: =IF($B321="","",calculations!P9) | F321: =IF($B321="","",VLOOKUP('Basic Elections'!$C$45,LTD_Rates_lookup,2,FALSE)) | G321: =IF($B321="","",calculations!Q9) | I321: =IF(OR('Basic Elections'!$C112="",'Basic Elections'!$C$45="None"),"",'Basic Elections'!$C112) | J321: =IF(OR('Basic Elections'!$D112="",'Basic Elections'!$C$45="None"),"",'Basic Elections'!$D112) | K321: =IF($I321="","",calculations!D59) | L321: =IF($I321="","",calculations!P59) | M321: =IF($I321="","",VLOOKUP('Basic Elections'!$C$45,LTD_Rates_lookup,2,FALSE)) | N321: =IF($I321="","",calculations!Q59)
B322: =IF(OR('Basic Elections'!$C63="",'Basic Elections'!$C$45="None"),"",'Basic Elections'!$C63) | C322: =IF(OR('Basic Elections'!$D63="",'Basic Elections'!$C$45="None"),"",'Basic Elections'!$D63) | D322: =IF($B322="","",calculations!D10) | E322: =IF($B322="","",calculations!P10) | F322: =IF($B322="","",VLOOKUP('Basic Elections'!$C$45,LTD_Rates_lookup,2,FALSE)) | G322: =IF($B322="","",calculations!Q10) | I322: =IF(OR('Basic Elections'!$C113="",'Basic Elections'!$C$45="None"),"",'Basic Elections'!$C113) | J322: =IF(OR('Basic Elections'!$D113="",'Basic Elections'!$C$45="None"),"",'Basic Elections'!$D113) | K322: =IF($I322="","",calculations!D60) | L322: =IF($I322="","",calculations!P60) | M322: =IF($I322="","",VLOOKUP('Basic Elections'!$C$45,LTD_Rates_lookup,2,FALSE)) | N322: =IF($I322="","",calculations!Q60)
B323: =IF(OR('Basic Elections'!$C64="",'Basic Elections'!$C$45="None"),"",'Basic Elections'!$C64) | C323: =IF(OR('Basic Elections'!$D64="",'Basic Elections'!$C$45="None"),"",'Basic Elections'!$D64) | D323: =IF($B323="","",calculations!D11) | E323: =IF($B323="","",calculations!P11) | F323: =IF($B323="","",VLOOKUP('Basic Elections'!$C$45,LTD_Rates_lookup,2,FALSE)) | G323: =IF($B323="","",calculations!Q11) | I323: =IF(OR('Basic Elections'!$C114="",'Basic Elections'!$C$45="None"),"",'Basic Elections'!$C114) | J323: =IF(OR('Basic Elections'!$D114="",'Basic Elections'!$C$45="None"),"",'Basic Elections'!$D114) | K323: =IF($I323="","",calculations!D61) | L323: =IF($I323="","",calculations!P61) | M323: =IF($I323="","",VLOOKUP('Basic Elections'!$C$45,LTD_Rates_lookup,2,FALSE)) | N323: =IF($I323="","",calculations!Q61)
B324: =IF(OR('Basic Elections'!$C65="",'Basic Elections'!$C$45="None"),"",'Basic Elections'!$C65) | C324: =IF(OR('Basic Elections'!$D65="",'Basic Elections'!$C$45="None"),"",'Basic Elections'!$D65) | D324: =IF($B324="","",calculations!D12) | E324: =IF($B324="","",calculations!P12) | F324: =IF($B324="","",VLOOKUP('Basic Elections'!$C$45,LTD_Rates_lookup,2,FALSE)) | G324: =IF($B324="","",calculations!Q12) | I324: =IF(OR('Basic Elections'!$C115="",'Basic Elections'!$C$45="None"),"",'Basic Elections'!$C115) | J324: =IF(OR('Basic Elections'!$D115="",'Basic Elections'!$C$45="None"),"",'Basic Elections'!$D115) | K324: =IF($I324="","",calculations!D62) | L324: =IF($I324="","",calculations!P62) | M324: =IF($I324="","",VLOOKUP('Basic Elections'!$C$45,LTD_Rates_lookup,2,FALSE)) | N324: =IF($I324="","",calculations!Q62)
B325: =IF(OR('Basic Elections'!$C66="",'Basic Elections'!$C$45="None"),"",'Basic Elections'!$C66) | C325: =IF(OR('Basic Elections'!$D66="",'Basic Elections'!$C$45="None"),"",'Basic Elections'!$D66) | D325: =IF($B325="","",calculations!D13) | E325: =IF($B325="","",calculations!P13) | F325: =IF($B325="","",VLOOKUP('Basic Elections'!$C$45,LTD_Rates_lookup,2,FALSE)) | G325: =IF($B325="","",calculations!Q13) | I325: =IF(OR('Basic Elections'!$C116="",'Basic Elections'!$C$45="None"),"",'Basic Elections'!$C116) | J325: =IF(OR('Basic Elections'!$D116="",'Basic Elections'!$C$45="None"),"",'Basic Elections'!$D116) | K325: =IF($I325="","",calculations!D63) | L325: =IF($I325="","",calculations!P63) | M325: =IF($I325="","",VLOOKUP('Basic Elections'!$C$45,LTD_Rates_lookup,2,FALSE)) | N325: =IF($I325="","",calculations!Q63)
...

Sheet voluntary life
A7: Voluntary Life / AD&D
A8: Monthly Premium Calculation Spreadsheet
B9: 0.122 | C9: 0.143 | D9: 0.164 | E9: 0.239 | F9: 0.366 | G9: 0.673 | H9: 1.065 | I9: 1.299 | J9: 2.21 | K9: 5.157 | L9: 19.488
A10: Age | B10: <30 | C10: 30-34 | D10: 35-39 | E10: 40-44 | F10: 45-49 | G10: 50-54 | H10: 55-59 | I10: 60-64 | J10: 65-69 | K10: 70-74** | L10: 75+**
A11: 10000 | B11: =(B$9*$A11)/1000 -> 1.22 | C11: =(C$9*$A11)/1000 -> 1.43 | D11: =(D$9*$A11)/1000 -> 1.64 | E11: =(E$9*$A11)/1000 -> 2.39 | F11: =(F$9*$A11)/1000 -> 3.66 | G11: =(G$9*$A11)/1000 -> 6.73 | H11: =(H$9*$A11)/1000 -> 10.65 | I11: =(I$9*$A11)/1000 -> 12.99 | ... L11: =(L$9*$A11)/1000 -> 194.88
A12: 20000 | B12: =(B$9*$A12)/1000 -> 2.44 | C12: =(C$9*$A12)/1000 -> 2.86 | D12: =(D$9*$A12)/1000 -> 3.28 | E12: =(E$9*$A12)/1000 -> 4.78 | F12: =(F$9*$A12)/1000 -> 7.32 | G12: =(G$9*$A12)/1000 -> 13.46 | H12: =(H$9*$A12)/1000 -> 21.3 | I12: =(I$9*$A12)/1000 -> 25.98 | ... L12: =(L$9*$A12)/1000 -> 389.76
A13: 30000 | B13: =(B$9*$A13)/1000 -> 3.66 | C13: =(C$9*$A13)/1000 -> 4.29 | D13: =(D$9*$A13)/1000 -> 4.92 | E13: =(E$9*$A13)/1000 -> 7.17 | F13: =(F$9*$A13)/1000 -> 10.98 | G13: =(G$9*$A13)/1000 -> 20.19 | H13: =(H$9*$A13)/1000 -> 31.95 | I13: =(I$9*$A13)/1000 -> 38.97 | ... L13: =(L$9*$A13)/1000 -> 584.64
A14: 40000 | B14: =(B$9*$A14)/1000 -> 4.88 | C14: =(C$9*$A14)/1000 -> 5.72 | D14: =(D$9*$A14)/1000 -> 6.56 | E14: =(E$9*$A14)/1000 -> 9.56 | F14: =(F$9*$A14)/1000 -> 14.64 | G14: =(G$9*$A14)/1000 -> 26.92 | H14: =(H$9*$A14)/1000 -> 42.6 | I14: =(I$9*$A14)/1000 -> 51.96 | ... L14: =(L$9*$A14)/1000 -> 779.52
A15: 50000 | B15: =(B$9*$A15)/1000 -> 6.1 | C15: =(C$9*$A15)/1000 -> 7.15 | D15: =(D$9*$A15)/1000 -> 8.2 | E15: =(E$9*$A15)/1000 -> 11.95 | F15: =(F$9*$A15)/1000 -> 18.3 | G15: =(G$9*$A15)/1000 -> 33.65 | H15: =(H$9*$A15)/1000 -> 53.25 | I15: =(I$9*$A15)/1000 -> 64.95 | ... L15: =(L$9*$A15)/1000 -> 974.4
A16: 60000 | B16: =(B$9*$A16)/1000 -> 7.32 | C16: =(C$9*$A16)/1000 -> 8.58 | D16: =(D$9*$A16)/1000 -> 9.84 | E16: =(E$9*$A16)/1000 -> 14.34 | F16: =(F$9*$A16)/1000 -> 21.96 | G16: =(G$9*$A16)/1000 -> 40.38 | H16: =(H$9*$A16)/1000 -> 63.9 | I16: =(I$9*$A16)/1000 -> 77.94 | ... L16: =(L$9*$A16)/1000 -> 1169.28
A17: 70000 | B17: =(B$9*$A17)/1000 -> 8.54 | C17: =(C$9*$A17)/1000 -> 10.01 | D17: =(D$9*$A17)/1000 -> 11.48 | E17: =(E$9*$A17)/1000 -> 16.73 | F17: =(F$9*$A17)/1000 -> 25.62 | G17: =(G$9*$A17)/1000 -> 47.11 | H17: =(H$9*$A17)/1000 -> 74.55 | I17: =(I$9*$A17)/1000 -> 90.93 | ... L17: =(L$9*$A17)/1000 -> 1364.16
A18: 80000 | B18: =(B$9*$A18)/1000 -> 9.76 | C18: =(C$9*$A18)/1000 -> 11.44 | D18: =(D$9*$A18)/1000 -> 13.12 | E18: =(E$9*$A18)/1000 -> 19.12 | F18: =(F$9*$A18)/1000 -> 29.28 | G18: =(G$9*$A18)/1000 -> 53.84 | H18: =(H$9*$A18)/1000 -> 85.2 | I18: =(I$9*$A18)/1000 -> 103.92 | ... L18: =(L$9*$A18)/1000 -> 1559.04
A19: 90000 | B19: =(B$9*$A19)/1000 -> 10.98 | C19: =(C$9*$A19)/1000 -> 12.87 | D19: =(D$9*$A19)/1000 -> 14.76 | E19: =(E$9*$A19)/1000 -> 21.51 | F19: =(F$9*$A19)/1000 -> 32.94 | G19: =(G$9*$A19)/1000 -> 60.57 | H19: =(H$9*$A19)/1000 -> 95.85 | I19: =(I$9*$A19)/1000 -> 116.91 | ... L19: =(L$9*$A19)/1000 -> 1753.92
A20: 100000 | B20: =(B$9*$A20)/1000 -> 12.2 | C20: =(C$9*$A20)/1000 -> 14.3 | D20: =(D$9*$A20)/1000 -> 16.4 | E20: =(E$9*$A20)/1000 -> 23.9 | F20: =(F$9*$A20)/1000 -> 36.6 | G20: =(G$9*$A20)/1000 -> 67.3 | H20: =(H$9*$A20)/1000 -> 106.5 | I20: =(I$9*$A20)/1000 -> 129.9 | ... L20: =(L$9*$A20)/1000 -> 1948.8
A21: 110000 | B21: =(B$9*$A21)/1000 -> 13.42 | C21: =(C$9*$A21)/1000 -> 15.73 | D21: =(D$9*$A21)/1000 -> 18.04 | E21: =(E$9*$A21)/1000 -> 26.29 | F21: =(F$9*$A21)/1000 -> 40.26 | G21: =(G$9*$A21)/1000 -> 74.03 | H21: =(H$9*$A21)/1000 -> 117.15 | I21: =(I$9*$A21)/1000 -> 142.89 | ... L21: =(L$9*$A21)/1000 -> 2143.68
A22: 120000 | B22: =(B$9*$A22)/1000 -> 14.64 | C22: =(C$9*$A22)/1000 -> 17.16 | D22: =(D$9*$A22)/1000 -> 19.68 | E22: =(E$9*$A22)/1000 -> 28.68 | F22: =(F$9*$A22)/1000 -> 43.92 | G22: =(G$9*$A22)/1000 -> 80.76 | H22: =(H$9*$A22)/1000 -> 127.8 | I22: =(I$9*$A22)/1000 -> 155.88 | ... L22: =(L$9*$A22)/1000 -> 2338.56
... A40: 300000 | B40: =(B$9*$A40)/1000 -> 36.6 | C40: =(C$9*$A40)/1000 -> 42.9 | D40: =(D$9*$A40)/1000 -> 49.2 | E40: =(E$9*$A40)/1000 -> 71.7 | F40: =(F$9*$A40)/1000 -> 109.8 | G40: =(G$9*$A40)/1000 -> 201.9 | H40: =(H$9*$A40)/1000 -> 319.5 | I40: =(I$9*$A40)/1000 -> 389.7 | ... L40: =(L$9*$A40)/1000 -> 5846.4
A42: Dependent Child(ren) | C42: 2.12
A43: Election Parameters
D45: Employee | F45: Spouse* | H45: Dependent Life Benefit
A46: Minimum Election | D46: 10000 | F46: 5000 | H46: Live Birth to 6 months | K46: 1000
A47: Maximum Election | D47: 500000 | F47: 25000 | H47: After 6 months | K47: 10000
A48: Increments of | D48: 10000 | F48: 5000
A49: Guarantee Issue** | D49: $100,000*** | F49: 25000
A51: *Premium calculation for spouse is based upon the age of the employee.
A52: **Employees age 70-74 receive $20,000 guarantee issue; employees 75 or older must satisfy full medical underwriting.
A53: ***GI is $100,000
A55: Employee must elect coverage for spouse and / or children to be eligible for coverage.
A57: Please refer to the certificates for a complete description of benefits, limitations and exclusions.
A59: OneAmerica Financial is the marketing name for the companies of OneAmerica Financial. Products issued and underwritten by American United Life Insurance Company® (AUL), Indianapolis, IN, a OneAmerica company. Not available in all states or may vary by state. Rates are guaranteed until 12/31/2028 Dependent Life/AD&D can only be purchased in conjunction with Basic Life/AD&D Basic Life/AD&D limitations for 1 life groups (30k, 50k or 1x on Basic Life/AD&D is not available) Limitations for 1 life groups (SSNRA is not available)
A61: Benefits terminate at retirement.

Sheet voluntary std
B2: Voluntary STD
B3: Monthly Premium Calculation Spreadsheet
B4: 60% Voluntary STD Rates
B5: Age Band | C5: 0/7/13 | D5: 0/7/26 | E5: 14/14/11 | F5: 14/14/24
B6: 0 - 24 | C6: 0.77 | D6: 0.9 | E6: 0.57 | F6: 0.75
B7: 25-29 | C7: 0.82 | D7: 0.95 | E7: 0.63 | F7: 0.84
B8: 30-34 | C8: 0.82 | D8: 0.94 | E8: 0.61 | F8: 0.84
B9: 35-39 | C9: 0.69 | D9: 0.81 | E9: 0.5 | F9: 0.72
B10: 40-44 | C10: 0.65 | D10: 0.79 | E10: 0.48 | F10: 0.71
B11: 45-49 | C11: 0.72 | D11: 0.88 | E11: 0.53 | F11: 0.78
B12: 50-54 | C12: 0.87 | D12: 1.05 | E12: 0.63 | F12: 0.94
B13: 55-59 | C13: 1.15 | D13: 1.4 | E13: 0.84 | F13: 1.25
B14: 60-64 | C14: 1.32 | D14: 1.61 | E14: 0.96 | F14: 1.45
B15: 65-69 | C15: 1.41 | D15: 1.72 | E15: 1.03 | F15: 1.55
B16: 70+ | C16: 1.53 | D16: 1.86 | E16: 1.12 | F16: 1.67
B19: Voluntary Plans are 100% Employee Paid
B20: Non taxable

Sheet voluntary ltd
B2: Voluntary LTD
B3: Monthly Premium Calculation Spreadsheet
B4: 60% Voluntary LTD Rates
B5: Age Band | C5: 90d 5YR | D5: 90d SSNRA | E5: 180d 5 YR | F5: 180d SSNRA
B6: 0 - 24 | C6: 0.13 | D6: 0.23 | E6: 0.08 | F6: 0.19
B7: 25-29 | C7: 0.18 | D7: 0.34 | E7: 0.12 | F7: 0.25
B8: 30-34 | C8: 0.29 | D8: 0.57 | E8: 0.21 | F8: 0.44
B9: 35-39 | C9: 0.39 | D9: 0.79 | E9: 0.28 | F9: 0.61
B10: 40-44 | C10: 0.58 | D10: 1.18 | E10: 0.44 | F10: 0.93
B11: 45-49 | C11: 0.87 | D11: 1.73 | E11: 0.67 | F11: 1.4
B12: 50-54 | C12: 1.24 | D12: 2.16 | E12: 0.96 | F12: 1.66
B13: 55-59 | C13: 1.68 | D13: 2.3 | E13: 1.28 | F13: 1.7
B14: 60-64 | C14: 1.89 | D14: 2.18 | E14: 1.42 | F14: 1.63
B15: 65-69 | C15: 1.05 | D15: 1.2 | E15: 0.79 | F15: 0.89
B16: 70+ | C16: 0.78 | D16: 0.88 | E16: 0.58 | F16: 0.68
B18: Voluntary Plans are 100% Employee Paid
B19: Non taxable

Sheet calculations
S1: Life Volume Checks | V1: e = ee count | W1: IF(E3>0,((T3*'summary lookup and rates'!$C$5)/1000),0)
A2: DOB | B2: Age Input | C2: BAE | D2: Age Today | E2: Count? | F2: Employee # | G2: Life Selection | H2: BAE Total Round Up | I2: dLife Selection | J2: STD Selection | K2: WIB | L2: STD Premium | M2: WIB | N2: STD Premium | O2: LTD Selection | P2: Monthly Income | Q2: LTD Premium | R2: Life/AD&D Reduction | S2: A Check | T2: B, C, D, E, F Check | U2: Pre-Reduction Volume | V2: Actual Life Volume | W2: Life Premium | X2: AD&D Premium | Y2: dLife Premium | Z2: VOL STD Selection | AA2: WIB | AB2: STD Premium | AC2: VOL LTD Selection | AD2: Monthly Income | AE2: LTD Premium
A3: =IF('Basic Elections'!$C$56="","",'Basic Elections'!E56) | B3: =IF('Basic Elections'!$C$56="","",'Basic Elections'!F56) | C3: =IF('Basic Elections'!$C$56="","",'Basic Elections'!G56) | D3: =IF('Basic Elections'!$C$56="","",IF(B3>0,B3,IF(A3>0,DATEDIF(A3,TODAY(),"Y"),0))) | E3: =IF('Basic Elections'!$C$56="","",IF(OR(A3<>0,B3<>0),1,0)) | F3: =IF('Basic Elections'!$C$56="","",IF(E3=1,1,0)) | G3: =IF('Basic Elections'!$C$56="","",'Basic Elections'!$C$18) | H3: =IF('Basic Elections'!$C$56="","",IF(ROUNDUP(C3,-3)>100000,100000,ROUNDUP(C3,-3))) | I3: =IF('Basic Elections'!$C$56="","",'Basic Elections'!$C$29) | J3: =IF('Basic Elections'!$C$56="","",'Basic Elections'!$C$34) | K3: =IF('Basic Elections'!$C$56="","",IF(OR(J3="A",J3="B",J3="C",J3="D"),(IF((C3/52)*0.6667>1000,1000,(C3/52)*0.6667)),0)) | L3: =IF('Basic Elections'!$C$56="","",(IF(AND(J3<>"None",E3<>0),VLOOKUP(J3,STD_Rates_lookup,2,FALSE),0))*(K3/10)) | M3: =IF('Basic Elections'!$C$56="","",IF(OR(J3="E",J3="F",J3="G",J3="H"),IF((C3/52)*0.6>1000,1000,(C3/52)*0.6),0)) | N3: =IF('Basic Elections'!$C$56="","",(IF(AND(J3<>"None",E3<>0),VLOOKUP(J3,STD_Rates_lookup,2,FALSE),0))*(M3/10)) | O3: =IF('Basic Elections'!$C$56="","",'Basic Elections'!$C$45) | P3: =IF('Basic Elections'!$C$56="","",IF(C3/12>10000,10000,C3/12)) | Q3: =IF('Basic Elections'!$C$56="","",(IF(AND(O3<>"None",E3<>0),VLOOKUP(O3,LTD_Rates_lookup,2,FALSE),0))*(P3/100)) | R3: =IF('Basic Elections'!$C$56="","",IF(D3=0,0,VLOOKUP(D3,life_age_reduction,4,FALSE))) | S3: =IF('Basic Elections'!$C$56="","",IF(G3="A",H3,0)) | T3: =IF('Basic Elections'!$C$56="","",IF(OR(G3="B",G3="C",G3="D",G3="E",G3="F"),VLOOKUP(G3,summary_benefit_lookup,2,FALSE),0)) | U3: =IF('Basic Elections'!$C$56="","",T3+S3) | V3: =IF(F3="","",IF(E3>0,IF(AND(G3="A",R3>0),MIN(C3,100000)*(1-R3),U3*(1-R3)),0)) | W3: =IF('Basic Elections'!$C$56="","",IF(E3>0,(V3*'summary lookup and rates'!$C$5)/1000,0)) | X3: =IF('Basic Elections'!$C$56="","",(V3*'summary lookup and rates'!$C$6)/1000) | Y3: =IF('Basic Elections'!$C$56="","",IF(AND(E3>0,'Basic Elections'!$C$29="Yes"),'summary lookup and rates'!$C$7,0)) | Z3: =IF('Basic Elections'!$C$56="","",IF(E3=0,"None",'Voluntary Elections'!$C$14)) | AA3: =IF('Basic Elections'!$C$56="","",IF((C3/52)*0.6>1000,1000,(C3/52)*0.6)) | AB3: =IF('Basic Elections'!$C$56="","",IF(OR(E3=0,Z3="None"),0,INDEX('census age lookup Vol STD'!$B$4:$E$103,MATCH(D3,'census age lookup Vol STD'!$A$4:$A$103,0),MATCH(Z3,'census age lookup Vol STD'!$B$3:$E$3,0))*(AA3/10))) | AC3: =IF('Basic Elections'!$C$56="","",IF(E3=0,"None",'Voluntary Elections'!$C$20)) | AD3: =IF('Basic Elections'!$C$56="","",IF(C3/12>10000,10000,C3/12)) | AE3: =IF('Basic Elections'!$C$56="","",IF(OR(E3=0,AC3="None"),0,INDEX('census age lookup Vol LTD'!$B$4:$E$103,MATCH(D3,'census age lookup Vol LTD'!$A$4:$A$103,0),MATCH(AC3,'census age lookup Vol LTD'!$B$3:$E$3,0))*(AD3/100)))
A4: =IF('Basic Elections'!$C$57="","",'Basic Elections'!E57) | B4: =IF('Basic Elections'!$C$57="","",'Basic Elections'!F57) | C4: =IF('Basic Elections'!$C$57="","",'Basic Elections'!G57) | D4: =IF('Basic Elections'!$C$57="","",IF(B4>0,B4,IF(A4>0,DATEDIF(A4,TODAY(),"Y"),0))) | E4: =IF('Basic Elections'!$C$57="","",IF(OR(A4<>0,B4<>0),1,0)) | F4: =IF('Basic Elections'!$C$57="","",IF(E4=1,F3+1,0)) | G4: =IF('Basic Elections'!$C$57="","",'Basic Elections'!$C$18) | H4: =IF('Basic Elections'!$C$57="","",IF(ROUNDUP(C4,-3)>100000,100000,ROUNDUP(C4,-3))) | I4: =IF('Basic Elections'!$C$57="","",'Basic Elections'!$C$29) | J4: =IF('Basic Elections'!$C$57="","",'Basic Elections'!$C$34) | K4: =IF('Basic Elections'!$C$57="","",IF(OR(J4="A",J4="B",J4="C",J4="D"),(IF((C4/52)*0.6667>1000,1000,(C4/52)*0.6667)),0)) | L4: =IF('Basic Elections'!$C$57="","",(IF(AND(J4<>"None",E4<>0),VLOOKUP(J4,STD_Rates_lookup,2,FALSE),0))*(K4/10)) | M4: =IF('Basic Elections'!$C$57="","",IF(OR(J4="E",J4="F",J4="G",J4="H"),IF((C4/52)*0.6>1000,1000,(C4/52)*0.6),0)) | N4: =IF('Basic Elections'!$C$57="","",(IF(AND(J4<>"None",E4<>0),VLOOKUP(J4,STD_Rates_lookup,2,FALSE),0))*(M4/10)) | O4: =IF('Basic Elections'!$C$57="","",'Basic Elections'!$C$45) | P4: =IF('Basic Elections'!$C$57="","",IF(C4/12>10000,10000,C4/12)) | Q4: =IF('Basic Elections'!$C$57="","",(IF(AND(O4<>"None",E4<>0),VLOOKUP(O4,LTD_Rates_lookup,2,FALSE),0))*(P4/100)) | R4: =IF('Basic Elections'!$C$57="","",IF(D4=0,0,VLOOKUP(D4,life_age_reduction,4,FALSE))) | S4: =IF('Basic Elections'!$C$57="","",IF(G4="A",H4,0)) | T4: =IF('Basic Elections'!$C$57="","",IF(OR(G4="B",G4="C",G4="D",G4="E",G4="F"),VLOOKUP(G4,summary_benefit_lookup,2,FALSE),0)) | U4: =IF('Basic Elections'!$C$57="","",T4+S4) | V4: =IF(F4="","",IF(E4>0,IF(AND(G4="A",R4>0),MIN(C4,100000)*(1-R4),U4*(1-R4)),0)) | W4: =IF('Basic Elections'!$C$57="","",IF(E4>0,(V4*'summary lookup and rates'!$C$5)/1000,0)) | X4: =IF('Basic Elections'!$C$57="","",(V4*'summary lookup and rates'!$C$6)/1000) | Y4: =IF('Basic Elections'!$C$57="","",IF(AND(E4>0,'Basic Elections'!$C$29="Yes"),'summary lookup and rates'!$C$7,0)) | Z4: =IF('Basic Elections'!$C$57="","",IF(E4=0,"None",'Voluntary Elections'!$C$14)) | AA4: =IF('Basic Elections'!$C$57="","",IF((C4/52)*0.6>1000,1000,(C4/52)*0.6)) | AB4: =IF('Basic Elections'!$C$57="","",IF(OR(E4=0,Z4="None"),0,INDEX('census age lookup Vol STD'!$B$4:$E$103,MATCH(D4,'census age lookup Vol STD'!$A$4:$A$103,0),MATCH(Z4,'census age lookup Vol STD'!$B$3:$E$3,0))*(AA4/10))) | AC4: =IF('Basic Elections'!$C$57="","",IF(E4=0,"None",'Voluntary Elections'!$C$20)) | AD4: =IF('Basic Elections'!$C$57="","",IF(C4/12>10000,10000,C4/12)) | AE4: =IF('Basic Elections'!$C$57="","",IF(OR(E4=0,AC4="None"),0,INDEX('census age lookup Vol LTD'!$B$4:$E$103,MATCH(D4,'census age lookup Vol LTD'!$A$4:$A$103,0),MATCH(AC4,'census age lookup Vol LTD'!$B$3:$E$3,0))*(AD4/100)))
A5: =IF('Basic Elections'!$C$58="","",'Basic Elections'!E58) | B5: =IF('Basic Elections'!$C$58="","",'Basic Elections'!F58) | C5: =IF('Basic Elections'!$C$58="","",'Basic Elections'!G58) | D5: =IF('Basic Elections'!$C$58="","",IF(B5>0,B5,IF(A5>0,DATEDIF(A5,TODAY(),"Y"),0))) | E5: =IF('Basic Elections'!$C$58="","",IF(OR(A5<>0,B5<>0),1,0)) | F5: =IF('Basic Elections'!$C$58="","",IF(E5=1,F4+1,0)) | G5: =IF('Basic Elections'!$C$58="","",'Basic Elections'!$C$18) | H5: =IF('Basic Elections'!$C$58="","",IF(ROUNDUP(C5,-3)>100000,100000,ROUNDUP(C5,-3))) | I5: =IF('Basic Elections'!$C$58="","",'Basic Elections'!$C$29) | J5: =IF('Basic Elections'!$C$58="","",'Basic Elections'!$C$34) | K5: =IF('Basic Elections'!$C$58="","",IF(OR(J5="A",J5="B",J5="C",J5="D"),(IF((C5/52)*0.6667>1000,1000,(C5/52)*0.6667)),0)) | L5: =IF('Basic Elections'!$C$58="","",(IF(AND(J5<>"None",E5<>0),VLOOKUP(J5,STD_Rates_lookup,2,FALSE),0))*(K5/10)) | M5: =IF('Basic Elections'!$C$58="","",IF(OR(J5="E",J5="F",J5="G",J5="H"),IF((C5/52)*0.6>1000,1000,(C5/52)*0.6),0)) | N5: =IF('Basic Elections'!$C$58="","",(IF(AND(J5<>"None",E5<>0),VLOOKUP(J5,STD_Rates_lookup,2,FALSE),0))*(M5/10)) | O5: =IF('Basic Elections'!$C$58="","",'Basic Elections'!$C$45) | P5: =IF('Basic Elections'!$C$58="","",IF(C5/12>10000,10000,C5/12)) | Q5: =IF('Basic Elections'!$C$58="","",(IF(AND(O5<>"None",E5<>0),VLOOKUP(O5,LTD_Rates_lookup,2,FALSE),0))*(P5/100)) | R5: =IF('Basic Elections'!$C$58="","",IF(D5=0,0,VLOOKUP(D5,life_age_reduction,4,FALSE))) | S5: =IF('Basic Elections'!$C$58="","",IF(G5="A",H5,0)) | T5: =IF('Basic Elections'!$C$58="","",IF(OR(G5="B",G5="C",G5="D",G5="E",G5="F"),VLOOKUP(G5,summary_benefit_lookup,2,FALSE),0)) | U5: =IF('Basic Elections'!$C$58="","",T5+S5) | V5: =IF(F5="","",IF(E5>0,IF(AND(G5="A",R5>0),MIN(C5,100000)*(1-R5),U5*(1-R5)),0)) | W5: =IF('Basic Elections'!$C$58="","",IF(E5>0,(V5*'summary lookup and rates'!$C$5)/1000,0)) | X5: =IF('Basic Elections'!$C$58="","",(V5*'summary lookup and rates'!$C$6)/1000) | Y5: =IF('Basic Elections'!$C$58="","",IF(AND(E5>0,'Basic Elections'!$C$29="Yes"),'summary lookup and rates'!$C$7,0)) | Z5: =IF('Basic Elections'!$C$58="","",IF(E5=0,"None",'Voluntary Elections'!$C$14)) | AA5: =IF('Basic Elections'!$C$58="","",IF((C5/52)*0.6>1000,1000,(C5/52)*0.6)) | AB5: =IF('Basic Elections'!$C$58="","",IF(OR(E5=0,Z5="None"),0,INDEX('census age lookup Vol STD'!$B$4:$E$103,MATCH(D5,'census age lookup Vol STD'!$A$4:$A$103,0),MATCH(Z5,'census age lookup Vol STD'!$B$3:$E$3,0))*(AA5/10))) | AC5: =IF('Basic Elections'!$C$58="","",IF(E5=0,"None",'Voluntary Elections'!$C$20)) | AD5: =IF('Basic Elections'!$C$58="","",IF(C5/12>10000,10000,C5/12)) | AE5: =IF('Basic Elections'!$C$58="","",IF(OR(E5=0,AC5="None"),0,INDEX('census age lookup Vol LTD'!$B$4:$E$103,MATCH(D5,'census age lookup Vol LTD'!$A$4:$A$103,0),MATCH(AC5,'census age lookup Vol LTD'!$B$3:$E$3,0))*(AD5/100)))
A6: =IF('Basic Elections'!$C$59="","",'Basic Elections'!E59) | B6: =IF('Basic Elections'!$C$59="","",'Basic Elections'!F59) | C6: =IF('Basic Elections'!$C$59="","",'Basic Elections'!G59) | D6: =IF('Basic Elections'!$C$59="","",IF(B6>0,B6,IF(A6>0,DATEDIF(A6,TODAY(),"Y"),0))) | E6: =IF('Basic Elections'!$C$59="","",IF(OR(A6<>0,B6<>0),1,0)) | F6: =IF('Basic Elections'!$C$59="","",IF(E6=1,F5+1,0)) | G6: =IF('Basic Elections'!$C$59="","",'Basic Elections'!$C$18) | H6: =IF('Basic Elections'!$C$59="","",IF(ROUNDUP(C6,-3)>100000,100000,ROUNDUP(C6,-3))) | I6: =IF('Basic Elections'!$C$59="","",'Basic Elections'!$C$29) | J6: =IF('Basic Elections'!$C$59="","",'Basic Elections'!$C$34) | K6: =IF('Basic Elections'!$C$59="","",IF(OR(J6="A",J6="B",J6="C",J6="D"),(IF((C6/52)*0.6667>1000,1000,(C6/52)*0.6667)),0)) | L6: =IF('Basic Elections'!$C$59="","",(IF(AND(J6<>"None",E6<>0),VLOOKUP(J6,STD_Rates_lookup,2,FALSE),0))*(K6/10)) | M6: =IF('Basic Elections'!$C$59="","",IF(OR(J6="E",J6="F",J6="G",J6="H"),IF((C6/52)*0.6>1000,1000,(C6/52)*0.6),0)) | N6: =IF('Basic Elections'!$C$59="","",(IF(AND(J6<>"None",E6<>0),VLOOKUP(J6,STD_Rates_lookup,2,FALSE),0))*(M6/10)) | O6: =IF('Basic Elections'!$C$59="","",'Basic Elections'!$C$45) | P6: =IF('Basic Elections'!$C$59="","",IF(C6/12>10000,10000,C6/12)) | Q6: =IF('Basic Elections'!$C$59="","",(IF(AND(O6<>"None",E6<>0),VLOOKUP(O6,LTD_Rates_lookup,2,FALSE),0))*(P6/100)) | R6: =IF('Basic Elections'!$C$59="","",IF(D6=0,0,VLOOKUP(D6,life_age_reduction,4,FALSE))) | S6: =IF('Basic Elections'!$C$59="","",IF(G6="A",H6,0)) | T6: =IF('Basic Elections'!$C$59="","",IF(OR(G6="B",G6="C",G6="D",G6="E",G6="F"),VLOOKUP(G6,summary_benefit_lookup,2,FALSE),0)) | U6: =IF('Basic Elections'!$C$59="","",T6+S6) | V6: =IF(F6="","",IF(E6>0,IF(AND(G6="A",R6>0),MIN(C6,100000)*(1-R6),U6*(1-R6)),0)) | W6: =IF('Basic Elections'!$C$59="","",IF(E6>0,(V6*'summary lookup and rates'!$C$5)/1000,0)) | X6: =IF('Basic Elections'!$C$59="","",(V6*'summary lookup and rates'!$C$6)/1000) | Y6: =IF('Basic Elections'!$C$59="","",IF(AND(E6>0,'Basic Elections'!$C$29="Yes"),'summary lookup and rates'!$C$7,0)) | Z6: =IF('Basic Elections'!$C$59="","",IF(E6=0,"None",'Voluntary Elections'!$C$14)) | AA6: =IF('Basic Elections'!$C$59="","",IF((C6/52)*0.6>1000,1000,(C6/52)*0.6)) | AB6: =IF('Basic Elections'!$C$59="","",IF(OR(E6=0,Z6="None"),0,INDEX('census age lookup Vol STD'!$B$4:$E$103,MATCH(D6,'census age lookup Vol STD'!$A$4:$A$103,0),MATCH(Z6,'census age lookup Vol STD'!$B$3:$E$3,0))*(AA6/10))) | AC6: =IF('Basic Elections'!$C$59="","",IF(E6=0,"None",'Voluntary Elections'!$C$20)) | AD6: =IF('Basic Elections'!$C$59="","",IF(C6/12>10000,10000,C6/12)) | AE6: =IF('Basic Elections'!$C$59="","",IF(OR(E6=0,AC6="None"),0,INDEX('census age lookup Vol LTD'!$B$4:$E$103,MATCH(D6,'census age lookup Vol LTD'!$A$4:$A$103,0),MATCH(AC6,'census age lookup Vol LTD'!$B$3:$E$3,0))*(AD6/100)))
A7: =IF('Basic Elections'!$C$60="","",'Basic Elections'!E60) | B7: =IF('Basic Elections'!$C$60="","",'Basic Elections'!F60) | C7: =IF('Basic Elections'!$C$60="","",'Basic Elections'!G60) | D7: =IF('Basic Elections'!$C$60="","",IF(B7>0,B7,IF(A7>0,DATEDIF(A7,TODAY(),"Y"),0))) | E7: =IF('Basic Elections'!$C$60="","",IF(OR(A7<>0,B7<>0),1,0)) | F7: =IF('Basic Elections'!$C$60="","",IF(E7=1,F6+1,0)) | G7: =IF('Basic Elections'!$C$60="","",'Basic Elections'!$C$18) | H7: =IF('Basic Elections'!$C$60="","",IF(ROUNDUP(C7,-3)>100000,100000,ROUNDUP(C7,-3))) | I7: =IF('Basic Elections'!$C$60="","",'Basic Elections'!$C$29) | J7: =IF('Basic Elections'!$C$60="","",'Basic Elections'!$C$34) | K7: =IF('Basic Elections'!$C$60="","",IF(OR(J7="A",J7="B",J7="C",J7="D"),(IF((C7/52)*0.6667>1000,1000,(C7/52)*0.6667)),0)) | L7: =IF('Basic Elections'!$C$60="","",(IF(AND(J7<>"None",E7<>0),VLOOKUP(J7,STD_Rates_lookup,2,FALSE),0))*(K7/10)) | M7: =IF('Basic Elections'!$C$60="","",IF(OR(J7="E",J7="F",J7="G",J7="H"),IF((C7/52)*0.6>1000,1000,(C7/52)*0.6),0)) | N7: =IF('Basic Elections'!$C$60="","",(IF(AND(J7<>"None",E7<>0),VLOOKUP(J7,STD_Rates_lookup,2,FALSE),0))*(M7/10)) | O7: =IF('Basic Elections'!$C$60="","",'Basic Elections'!$C$45) | P7: =IF('Basic Elections'!$C$60="","",IF(C7/12>10000,10000,C7/12)) | Q7: =IF('Basic Elections'!$C$60="","",(IF(AND(O7<>"None",E7<>0),VLOOKUP(O7,LTD_Rates_lookup,2,FALSE),0))*(P7/100)) | R7: =IF('Basic Elections'!$C$60="","",IF(D7=0,0,VLOOKUP(D7,life_age_reduction,4,FALSE))) | S7: =IF('Basic Elections'!$C$60="","",IF(G7="A",H7,0)) | T7: =IF('Basic Elections'!$C$60="","",IF(OR(G7="B",G7="C",G7="D",G7="E",G7="F"),VLOOKUP(G7,summary_benefit_lookup,2,FALSE),0)) | U7: =IF('Basic Elections'!$C$60="","",T7+S7) | V7: =IF(F7="","",IF(E7>0,IF(AND(G7="A",R7>0),MIN(C7,100000)*(1-R7),U7*(1-R7)),0)) | W7: =IF('Basic Elections'!$C$60="","",IF(E7>0,(V7*'summary lookup and rates'!$C$5)/1000,0)) | X7: =IF('Basic Elections'!$C$60="","",(V7*'summary lookup and rates'!$C$6)/1000) | Y7: =IF('Basic Elections'!$C$60="","",IF(AND(E7>0,'Basic Elections'!$C$29="Yes"),'summary lookup and rates'!$C$7,0)) | Z7: =IF('Basic Elections'!$C$60="","",IF(E7=0,"None",'Voluntary Elections'!$C$14)) | AA7: =IF('Basic Elections'!$C$60="","",IF((C7/52)*0.6>1000,1000,(C7/52)*0.6)) | AB7: =IF('Basic Elections'!$C$60="","",IF(OR(E7=0,Z7="None"),0,INDEX('census age lookup Vol STD'!$B$4:$E$103,MATCH(D7,'census age lookup Vol STD'!$A$4:$A$103,0),MATCH(Z7,'census age lookup Vol STD'!$B$3:$E$3,0))*(AA7/10))) | AC7: =IF('Basic Elections'!$C$60="","",IF(E7=0,"None",'Voluntary Elections'!$C$20)) | AD7: =IF('Basic Elections'!$C$60="","",IF(C7/12>10000,10000,C7/12)) | AE7: =IF('Basic Elections'!$C$60="","",IF(OR(E7=0,AC7="None"),0,INDEX('census age lookup Vol LTD'!$B$4:$E$103,MATCH(D7,'census age lookup Vol LTD'!$A$4:$A$103,0),MATCH(AC7,'census age lookup Vol LTD'!$B$3:$E$3,0))*(AD7/100)))
A8: =IF('Basic Elections'!$C$61="","",'Basic Elections'!E61) | B8: =IF('Basic Elections'!$C$61="","",'Basic Elections'!F61) | C8: =IF('Basic Elections'!$C$61="","",'Basic Elections'!G61) | D8: =IF('Basic Elections'!$C$61="","",IF(B8>0,B8,IF(A8>0,DATEDIF(A8,TODAY(),"Y"),0))) | E8: =IF('Basic Elections'!$C$61="","",IF(OR(A8<>0,B8<>0),1,0)) | F8: =IF('Basic Elections'!$C$61="","",IF(E8=1,F7+1,0)) | G8: =IF('Basic Elections'!$C$61="","",'Basic Elections'!$C$18) | H8: =IF('Basic Elections'!$C$61="","",IF(ROUNDUP(C8,-3)>100000,100000,ROUNDUP(C8,-3))) | I8: =IF('Basic Elections'!$C$61="","",'Basic Elections'!$C$29) | J8: =IF('Basic Elections'!$C$61="","",'Basic Elections'!$C$34) | K8: =IF('Basic Elections'!$C$61="","",IF(OR(J8="A",J8="B",J8="C",J8="D"),(IF((C8/52)*0.6667>1000,1000,(C8/52)*0.6667)),0)) | L8: =IF('Basic Elections'!$C$61="","",(IF(AND(J8<>"None",E8<>0),VLOOKUP(J8,STD_Rates_lookup,2,FALSE),0))*(K8/10)) | M8: =IF('Basic Elections'!$C$61="","",IF(OR(J8="E",J8="F",J8="G",J8="H"),IF((C8/52)*0.6>1000,1000,(C8/52)*0.6),0)) | N8: =IF('Basic Elections'!$C$61="","",(IF(AND(J8<>"None",E8<>0),VLOOKUP(J8,STD_Rates_lookup,2,FALSE),0))*(M8/10)) | O8: =IF('Basic Elections'!$C$61="","",'Basic Elections'!$C$45) | P8: =IF('Basic Elections'!$C$61="","",IF(C8/12>10000,10000,C8/12)) | Q8: =IF('Basic Elections'!$C$61="","",(IF(AND(O8<>"None",E8<>0),VLOOKUP(O8,LTD_Rates_lookup,2,FALSE),0))*(P8/100)) | R8: =IF('Basic Elections'!$C$61="","",IF(D8=0,0,VLOOKUP(D8,life_age_reduction,4,FALSE))) | S8: =IF('Basic Elections'!$C$61="","",IF(G8="A",H8,0)) | T8: =IF('Basic Elections'!$C$61="","",IF(OR(G8="B",G8="C",G8="D",G8="E",G8="F"),VLOOKUP(G8,summary_benefit_lookup,2,FALSE),0)) | U8: =IF('Basic Elections'!$C$61="","",T8+S8) | V8: =IF(F8="","",IF(E8>0,IF(AND(G8="A",R8>0),MIN(C8,100000)*(1-R8),U8*(1-R8)),0)) | W8: =IF('Basic Elections'!$C$61="","",IF(E8>0,(V8*'summary lookup and rates'!$C$5)/1000,0)) | X8: =IF('Basic Elections'!$C$61="","",(V8*'summary lookup and rates'!$C$6)/1000) | Y8: =IF('Basic Elections'!$C$61="","",IF(AND(E8>0,'Basic Elections'!$C$29="Yes"),'summary lookup and rates'!$C$7,0)) | Z8: =IF('Basic Elections'!$C$61="","",IF(E8=0,"None",'Voluntary Elections'!$C$14)) | AA8: =IF('Basic Elections'!$C$61="","",IF((C8/52)*0.6>1000,1000,(C8/52)*0.6)) | AB8: =IF('Basic Elections'!$C$61="","",IF(OR(E8=0,Z8="None"),0,INDEX('census age lookup Vol STD'!$B$4:$E$103,MATCH(D8,'census age lookup Vol STD'!$A$4:$A$103,0),MATCH(Z8,'census age lookup Vol STD'!$B$3:$E$3,0))*(AA8/10))) | AC8: =IF('Basic Elections'!$C$61="","",IF(E8=0,"None",'Voluntary Elections'!$C$20)) | AD8: =IF('Basic Elections'!$C$61="","",IF(C8/12>10000,10000,C8/12)) | AE8: =IF('Basic Elections'!$C$61="","",IF(OR(E8=0,AC8="None"),0,INDEX('census age lookup Vol LTD'!$B$4:$E$103,MATCH(D8,'census age lookup Vol LTD'!$A$4:$A$103,0),MATCH(AC8,'census age lookup Vol LTD'!$B$3:$E$3,0))*(AD8/100)))
A9: =IF('Basic Elections'!$C$62="","",'Basic Elections'!E62) | B9: =IF('Basic Elections'!$C$62="","",'Basic Elections'!F62) | C9: =IF('Basic Elections'!$C$62="","",'Basic Elections'!G62) | D9: =IF('Basic Elections'!$C$62="","",IF(B9>0,B9,IF(A9>0,DATEDIF(A9,TODAY(),"Y"),0))) | E9: =IF('Basic Elections'!$C$62="","",IF(OR(A9<>0,B9<>0),1,0)) | F9: =IF('Basic Elections'!$C$62="","",IF(E9=1,F8+1,0)) | G9: =IF('Basic Elections'!$C$62="","",'Basic Elections'!$C$18) | H9: =IF('Basic Elections'!$C$62="","",IF(ROUNDUP(C9,-3)>100000,100000,ROUNDUP(C9,-3))) | I9: =IF('Basic Elections'!$C$62="","",'Basic Elections'!$C$29) | J9: =IF('Basic Elections'!$C$62="","",'Basic Elections'!$C$34) | K9: =IF('Basic Elections'!$C$62="","",IF(OR(J9="A",J9="B",J9="C",J9="D"),(IF((C9/52)*0.6667>1000,1000,(C9/52)*0.6667)),0)) | L9: =IF('Basic Elections'!$C$62="","",(IF(AND(J9<>"None",E9<>0),VLOOKUP(J9,STD_Rates_lookup,2,FALSE),0))*(K9/10)) | M9: =IF('Basic Elections'!$C$62="","",IF(OR(J9="E",J9="F",J9="G",J9="H"),IF((C9/52)*0.6>1000,1000,(C9/52)*0.6),0)) | N9: =IF('Basic Elections'!$C$62="","",(IF(AND(J9<>"None",E9<>0),VLOOKUP(J9,STD_Rates_lookup,2,FALSE),0))*(M9/10)) | O9: =IF('Basic Elections'!$C$62="","",'Basic Elections'!$C$45) | P9: =IF('Basic Elections'!$C$62="","",IF(C9/12>10000,10000,C9/12)) | Q9: =IF('Basic Elections'!$C$62="","",(IF(AND(O9<>"None",E9<>0),VLOOKUP(O9,LTD_Rates_lookup,2,FALSE),0))*(P9/100)) | R9: =IF('Basic Elections'!$C$62="","",IF(D9=0,0,VLOOKUP(D9,life_age_reduction,4,FALSE))) | S9: =IF('Basic Elections'!$C$62="","",IF(G9="A",H9,0)) | T9: =IF('Basic Elections'!$C$62="","",IF(OR(G9="B",G9="C",G9="D",G9="E",G9="F"),VLOOKUP(G9,summary_benefit_lookup,2,FALSE),0)) | U9: =IF('Basic Elections'!$C$62="","",T9+S9) | V9: =IF(F9="","",IF(E9>0,IF(AND(G9="A",R9>0),MIN(C9,100000)*(1-R9),U9*(1-R9)),0)) | W9: =IF('Basic Elections'!$C$62="","",IF(E9>0,(V9*'summary lookup and rates'!$C$5)/1000,0)) | X9: =IF('Basic Elections'!$C$62="","",(V9*'summary lookup and rates'!$C$6)/1000) | Y9: =IF('Basic Elections'!$C$62="","",IF(AND(E9>0,'Basic Elections'!$C$29="Yes"),'summary lookup and rates'!$C$7,0)) | Z9: =IF('Basic Elections'!$C$62="","",IF(E9=0,"None",'Voluntary Elections'!$C$14)) | AA9: =IF('Basic Elections'!$C$62="","",IF((C9/52)*0.6>1000,1000,(C9/52)*0.6)) | AB9: =IF('Basic Elections'!$C$62="","",IF(OR(E9=0,Z9="None"),0,INDEX('census age lookup Vol STD'!$B$4:$E$103,MATCH(D9,'census age lookup Vol STD'!$A$4:$A$103,0),MATCH(Z9,'census age lookup Vol STD'!$B$3:$E$3,0))*(AA9/10))) | AC9: =IF('Basic Elections'!$C$62="","",IF(E9=0,"None",'Voluntary Elections'!$C$20)) | AD9: =IF('Basic Elections'!$C$62="","",IF(C9/12>10000,10000,C9/12)) | AE9: =IF('Basic Elections'!$C$62="","",IF(OR(E9=0,AC9="None"),0,INDEX('census age lookup Vol LTD'!$B$4:$E$103,MATCH(D9,'census age lookup Vol LTD'!$A$4:$A$103,0),MATCH(AC9,'census age lookup Vol LTD'!$B$3:$E$3,0))*(AD9/100)))
A10: =IF('Basic Elections'!$C$63="","",'Basic Elections'!E63) | B10: =IF('Basic Elections'!$C$63="","",'Basic Elections'!F63) | C10: =IF('Basic Elections'!$C$63="","",'Basic Elections'!G63) | D10: =IF('Basic Elections'!$C$63="","",IF(B10>0,B10,IF(A10>0,DATEDIF(A10,TODAY(),"Y"),0))) | E10: =IF('Basic Elections'!$C$63="","",IF(OR(A10<>0,B10<>0),1,0)) | F10: =IF('Basic Elections'!$C$63="","",IF(E10=1,F9+1,0)) | G10: =IF('Basic Elections'!$C$63="","",'Basic Elections'!$C$18) | H10: =IF('Basic Elections'!$C$63="","",IF(ROUNDUP(C10,-3)>100000,100000,ROUNDUP(C10,-3))) | I10: =IF('Basic Elections'!$C$63="","",'Basic Elections'!$C$29) | J10: =IF('Basic Elections'!$C$63="","",'Basic Elections'!$C$34) | K10: =IF('Basic Elections'!$C$63="","",IF(OR(J10="A",J10="B",J10="C",J10="D"),(IF((C10/52)*0.6667>1000,1000,(C10/52)*0.6667)),0)) | L10: =IF('Basic Elections'!$C$63="","",(IF(AND(J10<>"None",E10<>0),VLOOKUP(J10,STD_Rates_lookup,2,FALSE),0))*(K10/10)) | M10: =IF('Basic Elections'!$C$63="","",IF(OR(J10="E",J10="F",J10="G",J10="H"),IF((C10/52)*0.6>1000,1000,(C10/52)*0.6),0)) | N10: =IF('Basic Elections'!$C$63="","",(IF(AND(J10<>"None",E10<>0),VLOOKUP(J10,STD_Rates_lookup,2,FALSE),0))*(M10/10)) | O10: =IF('Basic Elections'!$C$63="","",'Basic Elections'!$C$45) | P10: =IF('Basic Elections'!$C$63="","",IF(C10/12>10000,10000,C10/12)) | Q10: =IF('Basic Elections'!$C$63="","",(IF(AND(O10<>"None",E10<>0),VLOOKUP(O10,LTD_Rates_lookup,2,FALSE),0))*(P10/100)) | R10: =IF('Basic Elections'!$C$63="","",IF(D10=0,0,VLOOKUP(D10,life_age_reduction,4,FALSE))) | S10: =IF('Basic Elections'!$C$63="","",IF(G10="A",H10,0)) | T10: =IF('Basic Elections'!$C$63="","",IF(OR(G10="B",G10="C",G10="D",G10="E",G10="F"),VLOOKUP(G10,summary_benefit_lookup,2,FALSE),0)) | U10: =IF('Basic Elections'!$C$63="","",T10+S10) | V10: =IF(F10="","",IF(E10>0,IF(AND(G10="A",R10>0),MIN(C10,100000)*(1-R10),U10*(1-R10)),0)) | W10: =IF('Basic Elections'!$C$63="","",IF(E10>0,(V10*'summary lookup and rates'!$C$5)/1000,0)) | X10: =IF('Basic Elections'!$C$63="","",(V10*'summary lookup and rates'!$C$6)/1000) | Y10: =IF('Basic Elections'!$C$63="","",IF(AND(E10>0,'Basic Elections'!$C$29="Yes"),'summary lookup and rates'!$C$7,0)) | Z10: =IF('Basic Elections'!$C$63="","",IF(E10=0,"None",'Voluntary Elections'!$C$14)) | AA10: =IF('Basic Elections'!$C$63="","",IF((C10/52)*0.6>1000,1000,(C10/52)*0.6)) | AB10: =IF('Basic Elections'!$C$63="","",IF(OR(E10=0,Z10="None"),0,INDEX('census age lookup Vol STD'!$B$4:$E$103,MATCH(D10,'census age lookup Vol STD'!$A$4:$A$103,0),MATCH(Z10,'census age lookup Vol STD'!$B$3:$E$3,0))*(AA10/10))) | AC10: =IF('Basic Elections'!$C$63="","",IF(E10=0,"None",'Voluntary Elections'!$C$20)) | AD10: =IF('Basic Elections'!$C$63="","",IF(C10/12>10000,10000,C10/12)) | AE10: =IF('Basic Elections'!$C$63="","",IF(OR(E10=0,AC10="None"),0,INDEX('census age lookup Vol LTD'!$B$4:$E$103,MATCH(D10,'census age lookup Vol LTD'!$A$4:$A$103,0),MATCH(AC10,'census age lookup Vol LTD'!$B$3:$E$3,0))*(AD10/100)))
A11: =IF('Basic Elections'!$C$64="","",'Basic Elections'!E64) | B11: =IF('Basic Elections'!$C$64="","",'Basic Elections'!F64) | C11: =IF('Basic Elections'!$C$64="","",'Basic Elections'!G64) | D11: =IF('Basic Elections'!$C$64="","",IF(B11>0,B11,IF(A11>0,DATEDIF(A11,TODAY(),"Y"),0))) | E11: =IF('Basic Elections'!$C$64="","",IF(OR(A11<>0,B11<>0),1,0)) | F11: =IF('Basic Elections'!$C$64="","",IF(E11=1,F10+1,0)) | G11: =IF('Basic Elections'!$C$64="","",'Basic Elections'!$C$18) | H11: =IF('Basic Elections'!$C$64="","",IF(ROUNDUP(C11,-3)>100000,100000,ROUNDUP(C11,-3))) | I11: =IF('Basic Elections'!$C$64="","",'Basic Elections'!$C$29) | J11: =IF('Basic Elections'!$C$64="","",'Basic Elections'!$C$34) | K11: =IF('Basic Elections'!$C$64="","",IF(OR(J11="A",J11="B",J11="C",J11="D"),(IF((C11/52)*0.6667>1000,1000,(C11/52)*0.6667)),0)) | L11: =IF('Basic Elections'!$C$64="","",(IF(AND(J11<>"None",E11<>0),VLOOKUP(J11,STD_Rates_lookup,2,FALSE),0))*(K11/10)) | M11: =IF('Basic Elections'!$C$64="","",IF(OR(J11="E",J11="F",J11="G",J11="H"),IF((C11/52)*0.6>1000,1000,(C11/52)*0.6),0)) | N11: =IF('Basic Elections'!$C$64="","",(IF(AND(J11<>"None",E11<>0),VLOOKUP(J11,STD_Rates_lookup,2,FALSE),0))*(M11/10)) | O11: =IF('Basic Elections'!$C$64="","",'Basic Elections'!$C$45) | P11: =IF('Basic Elections'!$C$64="","",IF(C11/12>10000,10000,C11/12)) | Q11: =IF('Basic Elections'!$C$64="","",(IF(AND(O11<>"None",E11<>0),VLOOKUP(O11,LTD_Rates_lookup,2,FALSE),0))*(P11/100)) | R11: =IF('Basic Elections'!$C$64="","",IF(D11=0,0,VLOOKUP(D11,life_age_reduction,4,FALSE))) | S11: =IF('Basic Elections'!$C$64="","",IF(G11="A",H11,0)) | T11: =IF('Basic Elections'!$C$64="","",IF(OR(G11="B",G11="C",G11="D",G11="E",G11="F"),VLOOKUP(G11,summary_benefit_lookup,2,FALSE),0)) | U11: =IF('Basic Elections'!$C$64="","",T11+S11) | V11: =IF(F11="","",IF(E11>0,IF(AND(G11="A",R11>0),MIN(C11,100000)*(1-R11),U11*(1-R11)),0)) | W11: =IF('Basic Elections'!$C$64="","",IF(E11>0,(V11*'summary lookup and rates'!$C$5)/1000,0)) | X11: =IF('Basic Elections'!$C$64="","",(V11*'summary lookup and rates'!$C$6)/1000) | Y11: =IF('Basic Elections'!$C$64="","",IF(AND(E11>0,'Basic Elections'!$C$29="Yes"),'summary lookup and rates'!$C$7,0)) | Z11: =IF('Basic Elections'!$C$64="","",IF(E11=0,"None",'Voluntary Elections'!$C$14)) | AA11: =IF('Basic Elections'!$C$64="","",IF((C11/52)*0.6>1000,1000,(C11/52)*0.6)) | AB11: =IF('Basic Elections'!$C$64="","",IF(OR(E11=0,Z11="None"),0,INDEX('census age lookup Vol STD'!$B$4:$E$103,MATCH(D11,'census age lookup Vol STD'!$A$4:$A$103,0),MATCH(Z11,'census age lookup Vol STD'!$B$3:$E$3,0))*(AA11/10))) | AC11: =IF('Basic Elections'!$C$64="","",IF(E11=0,"None",'Voluntary Elections'!$C$20)) | AD11: =IF('Basic Elections'!$C$64="","",IF(C11/12>10000,10000,C11/12)) | AE11: =IF('Basic Elections'!$C$64="","",IF(OR(E11=0,AC11="None"),0,INDEX('census age lookup Vol LTD'!$B$4:$E$103,MATCH(D11,'census age lookup Vol LTD'!$A$4:$A$103,0),MATCH(AC11,'census age lookup Vol LTD'!$B$3:$E$3,0))*(AD11/100)))
A12: =IF('Basic Elections'!$C$65="","",'Basic Elections'!E65) | B12: =IF('Basic Elections'!$C$65="","",'Basic Elections'!F65) | C12: =IF('Basic Elections'!$C$65="","",'Basic Elections'!G65) | D12: =IF('Basic Elections'!$C$65="","",IF(B12>0,B12,IF(A12>0,DATEDIF(A12,TODAY(),"Y"),0))) | E12: =IF('Basic Elections'!$C$65="","",IF(OR(A12<>0,B12<>0),1,0)) | F12: =IF('Basic Elections'!$C$65="","",IF(E12=1,F11+1,0)) | G12: =IF('Basic Elections'!$C$65="","",'Basic Elections'!$C$18) | H12: =IF('Basic Elections'!$C$65="","",IF(ROUNDUP(C12,-3)>100000,100000,ROUNDUP(C12,-3))) | I12: =IF('Basic Elections'!$C$65="","",'Basic Elections'!$C$29) | J12: =IF('Basic Elections'!$C$65="","",'Basic Elections'!$C$34) | K12: =IF('Basic Elections'!$C$65="","",IF(OR(J12="A",J12="B",J12="C",J12="D"),(IF((C12/52)*0.6667>1000,1000,(C12/52)*0.6667)),0)) | L12: =IF('Basic Elections'!$C$65="","",(IF(AND(J12<>"None",E12<>0),VLOOKUP(J12,STD_Rates_lookup,2,FALSE),0))*(K12/10)) | M12: =IF('Basic Elections'!$C$65="","",IF(OR(J12="E",J12="F",J12="G",J12="H"),IF((C12/52)*0.6>1000,1000,(C12/52)*0.6),0)) | N12: =IF('Basic Elections'!$C$65="","",(IF(AND(J12<>"None",E12<>0),VLOOKUP(J12,STD_Rates_lookup,2,FALSE),0))*(M12/10)) | O12: =IF('Basic Elections'!$C$65="","",'Basic Elections'!$C$45) | P12: =IF('Basic Elections'!$C$65="","",IF(C12/12>10000,10000,C12/12)) | Q12: =IF('Basic Elections'!$C$65="","",(IF(AND(O12<>"None",E12<>0),VLOOKUP(O12,LTD_Rates_lookup,2,FALSE),0))*(P12/100)) | R12: =IF('Basic Elections'!$C$65="","",IF(D12=0,0,VLOOKUP(D12,life_age_reduction,4,FALSE))) | S12: =IF('Basic Elections'!$C$65="","",IF(G12="A",H12,0)) | T12: =IF('Basic Elections'!$C$65="","",IF(OR(G12="B",G12="C",G12="D",G12="E",G12="F"),VLOOKUP(G12,summary_benefit_lookup,2,FALSE),0)) | U12: =IF('Basic Elections'!$C$65="","",T12+S12) | V12: =IF(F12="","",IF(E12>0,IF(AND(G12="A",R12>0),MIN(C12,100000)*(1-R12),U12*(1-R12)),0)) | W12: =IF('Basic Elections'!$C$65="","",IF(E12>0,(V12*'summary lookup and rates'!$C$5)/1000,0)) | X12: =IF('Basic Elections'!$C$65="","",(V12*'summary lookup and rates'!$C$6)/1000) | Y12: =IF('Basic Elections'!$C$65="","",IF(AND(E12>0,'Basic Elections'!$C$29="Yes"),'summary lookup and rates'!$C$7,0)) | Z12: =IF('Basic Elections'!$C$65="","",IF(E12=0,"None",'Voluntary Elections'!$C$14)) | AA12: =IF('Basic Elections'!$C$65="","",IF((C12/52)*0.6>1000,1000,(C12/52)*0.6)) | AB12: =IF('Basic Elections'!$C$65="","",IF(OR(E12=0,Z12="None"),0,INDEX('census age lookup Vol STD'!$B$4:$E$103,MATCH(D12,'census age lookup Vol STD'!$A$4:$A$103,0),MATCH(Z12,'census age lookup Vol STD'!$B$3:$E$3,0))*(AA12/10))) | AC12: =IF('Basic Elections'!$C$65="","",IF(E12=0,"None",'Voluntary Elections'!$C$20)) | AD12: =IF('Basic Elections'!$C$65="","",IF(C12/12>10000,10000,C12/12)) | AE12: =IF('Basic Elections'!$C$65="","",IF(OR(E12=0,AC12="None"),0,INDEX('census age lookup Vol LTD'!$B$4:$E$103,MATCH(D12,'census age lookup Vol LTD'!$A$4:$A$103,0),MATCH(AC12,'census age lookup Vol LTD'!$B$3:$E$3,0))*(AD12/100)))
A13: =IF('Basic Elections'!$C$66="","",'Basic Elections'!E66) | B13: =IF('Basic Elections'!$C$66="","",'Basic Elections'!F66) | C13: =IF('Basic Elections'!$C$66="","",'Basic Elections'!G66) | D13: =IF('Basic Elections'!$C$66="","",IF(B13>0,B13,IF(A13>0,DATEDIF(A13,TODAY(),"Y"),0))) | E13: =IF('Basic Elections'!$C$66="","",IF(OR(A13<>0,B13<>0),1,0)) | F13: =IF('Basic Elections'!$C$66="","",IF(E13=1,F12+1,0)) | G13: =IF('Basic Elections'!$C$66="","",'Basic Elections'!$C$18) | H13: =IF('Basic Elections'!$C$66="","",IF(ROUNDUP(C13,-3)>100000,100000,ROUNDUP(C13,-3))) | I13: =IF('Basic Elections'!$C$66="","",'Basic Elections'!$C$29) | J13: =IF('Basic Elections'!$C$66="","",'Basic Elections'!$C$34) | K13: =IF('Basic Elections'!$C$66="","",IF(OR(J13="A",J13="B",J13="C",J13="D"),(IF((C13/52)*0.6667>1000,1000,(C13/52)*0.6667)),0)) | L13: =IF('Basic Elections'!$C$66="","",(IF(AND(J13<>"None",E13<>0),VLOOKUP(J13,STD_Rates_lookup,2,FALSE),0))*(K13/10)) | M13: =IF('Basic Elections'!$C$66="","",IF(OR(J13="E",J13="F",J13="G",J13="H"),IF((C13/52)*0.6>1000,1000,(C13/52)*0.6),0)) | N13: =IF('Basic Elections'!$C$66="","",(IF(AND(J13<>"None",E13<>0),VLOOKUP(J13,STD_Rates_lookup,2,FALSE),0))*(M13/10)) | O13: =IF('Basic Elections'!$C$66="","",'Basic Elections'!$C$45) | P13: =IF('Basic Elections'!$C$66="","",IF(C13/12>10000,10000,C13/12)) | Q13: =IF('Basic Elections'!$C$66="","",(IF(AND(O13<>"None",E13<>0),VLOOKUP(O13,LTD_Rates_lookup,2,FALSE),0))*(P13/100)) | R13: =IF('Basic Elections'!$C$66="","",IF(D13=0,0,VLOOKUP(D13,life_age_reduction,4,FALSE))) | S13: =IF('Basic Elections'!$C$66="","",IF(G13="A",H13,0)) | T13: =IF('Basic Elections'!$C$66="","",IF(OR(G13="B",G13="C",G13="D",G13="E",G13="F"),VLOOKUP(G13,summary_benefit_lookup,2,FALSE),0)) | U13: =IF('Basic Elections'!$C$66="","",T13+S13) | V13: =IF(F13="","",IF(E13>0,IF(AND(G13="A",R13>0),MIN(C13,100000)*(1-R13),U13*(1-R13)),0)) | W13: =IF('Basic Elections'!$C$66="","",IF(E13>0,(V13*'summary lookup and rates'!$C$5)/1000,0)) | X13: =IF('Basic Elections'!$C$66="","",(V13*'summary lookup and rates'!$C$6)/1000) | Y13: =IF('Basic Elections'!$C$66="","",IF(AND(E13>0,'Basic Elections'!$C$29="Yes"),'summary lookup and rates'!$C$7,0)) | Z13: =IF('Basic Elections'!$C$66="","",IF(E13=0,"None",'Voluntary Elections'!$C$14)) | AA13: =IF('Basic Elections'!$C$66="","",IF((C13/52)*0.6>1000,1000,(C13/52)*0.6)) | AB13: =IF('Basic Elections'!$C$66="","",IF(OR(E13=0,Z13="None"),0,INDEX('census age lookup Vol STD'!$B$4:$E$103,MATCH(D13,'census age lookup Vol STD'!$A$4:$A$103,0),MATCH(Z13,'census age lookup Vol STD'!$B$3:$E$3,0))*(AA13/10))) | AC13: =IF('Basic Elections'!$C$66="","",IF(E13=0,"None",'Voluntary Elections'!$C$20)) | AD13: =IF('Basic Elections'!$C$66="","",IF(C13/12>10000,10000,C13/12)) | AE13: =IF('Basic Elections'!$C$66="","",IF(OR(E13=0,AC13="None"),0,INDEX('census age lookup Vol LTD'!$B$4:$E$103,MATCH(D13,'census age lookup Vol LTD'!$A$4:$A$103,0),MATCH(AC13,'census age lookup Vol LTD'!$B$3:$E$3,0))*(AD13/100)))
A14: =IF('Basic Elections'!$C$67="","",'Basic Elections'!E67) | B14: =IF('Basic Elections'!$C$67="","",'Basic Elections'!F67) | C14: =IF('Basic Elections'!$C$67="","",'Basic Elections'!G67) | D14: =IF('Basic Elections'!$C$67="","",IF(B14>0,B14,IF(A14>0,DATEDIF(A14,TODAY(),"Y"),0))) | E14: =IF('Basic Elections'!$C$67="","",IF(OR(A14<>0,B14<>0),1,0)) | F14: =IF('Basic Elections'!$C$67="","",IF(E14=1,F13+1,0)) | G14: =IF('Basic Elections'!$C$67="","",'Basic Elections'!$C$18) | H14: =IF('Basic Elections'!$C$67="","",IF(ROUNDUP(C14,-3)>100000,100000,ROUNDUP(C14,-3))) | I14: =IF('Basic Elections'!$C$67="","",'Basic Elections'!$C$29) | J14: =IF('Basic Elections'!$C$67="","",'Basic Elections'!$C$34) | K14: =IF('Basic Elections'!$C$67="","",IF(OR(J14="A",J14="B",J14="C",J14="D"),(IF((C14/52)*0.6667>1000,1000,(C14/52)*0.6667)),0)) | L14: =IF('Basic Elections'!$C$67="","",(IF(AND(J14<>"None",E14<>0),VLOOKUP(J14,STD_Rates_lookup,2,FALSE),0))*(K14/10)) | M14: =IF('Basic Elections'!$C$67="","",IF(OR(J14="E",J14="F",J14="G",J14="H"),IF((C14/52)*0.6>1000,1000,(C14/52)*0.6),0)) | N14: =IF('Basic Elections'!$C$67="","",(IF(AND(J14<>"None",E14<>0),VLOOKUP(J14,STD_Rates_lookup,2,FALSE),0))*(M14/10)) | O14: =IF('Basic Elections'!$C$67="","",'Basic Elections'!$C$45) | P14: =IF('Basic Elections'!$C$67="","",IF(C14/12>10000,10000,C14/12)) | Q14: =IF('Basic Elections'!$C$67="","",(IF(AND(O14<>"None",E14<>0),VLOOKUP(O14,LTD_Rates_lookup,2,FALSE),0))*(P14/100)) | R14: =IF('Basic Elections'!$C$67="","",IF(D14=0,0,VLOOKUP(D14,life_age_reduction,4,FALSE))) | S14: =IF('Basic Elections'!$C$67="","",IF(G14="A",H14,0)) | T14: =IF('Basic Elections'!$C$67="","",IF(OR(G14="B",G14="C",G14="D",G14="E",G14="F"),VLOOKUP(G14,summary_benefit_lookup,2,FALSE),0)) | U14: =IF('Basic Elections'!$C$67="","",T14+S14) | V14: =IF(F14="","",IF(E14>0,IF(AND(G14="A",R14>0),MIN(C14,100000)*(1-R14),U14*(1-R14)),0)) | W14: =IF('Basic Elections'!$C$67="","",IF(E14>0,(V14*'summary lookup and rates'!$C$5)/1000,0)) | X14: =IF('Basic Elections'!$C$67="","",(V14*'summary lookup and rates'!$C$6)/1000) | Y14: =IF('Basic Elections'!$C$67="","",IF(AND(E14>0,'Basic Elections'!$C$29="Yes"),'summary lookup and rates'!$C$7,0)) | Z14: =IF('Basic Elections'!$C$67="","",IF(E14=0,"None",'Voluntary Elections'!$C$14)) | AA14: =IF('Basic Elections'!$C$67="","",IF((C14/52)*0.6>1000,1000,(C14/52)*0.6)) | AB14: =IF('Basic Elections'!$C$67="","",IF(OR(E14=0,Z14="None"),0,INDEX('census age lookup Vol STD'!$B$4:$E$103,MATCH(D14,'census age lookup Vol STD'!$A$4:$A$103,0),MATCH(Z14,'census age lookup Vol STD'!$B$3:$E$3,0))*(AA14/10))) | AC14: =IF('Basic Elections'!$C$67="","",IF(E14=0,"None",'Voluntary Elections'!$C$20)) | AD14: =IF('Basic Elections'!$C$67="","",IF(C14/12>10000,10000,C14/12)) | AE14: =IF('Basic Elections'!$C$67="","",IF(OR(E14=0,AC14="None"),0,INDEX('census age lookup Vol LTD'!$B$4:$E$103,MATCH(D14,'census age lookup Vol LTD'!$A$4:$A$103,0),MATCH(AC14,'census age lookup Vol LTD'!$B$3:$E$3,0))*(AD14/100)))
A15: =IF('Basic Elections'!$C$68="","",'Basic Elections'!E68) | B15: =IF('Basic Elections'!$C$68="","",'Basic Elections'!F68) | C15: =IF('Basic Elections'!$C$68="","",'Basic Elections'!G68) | D15: =IF('Basic Elections'!$C$68="","",IF(B15>0,B15,IF(A15>0,DATEDIF(A15,TODAY(),"Y"),0))) | E15: =IF('Basic Elections'!$C$68="","",IF(OR(A15<>0,B15<>0),1,0)) | F15: =IF('Basic Elections'!$C$68="","",IF(E15=1,F14+1,0)) | G15: =IF('Basic Elections'!$C$68="","",'Basic Elections'!$C$18) | H15: =IF('Basic Elections'!$C$68="","",IF(ROUNDUP(C15,-3)>100000,100000,ROUNDUP(C15,-3))) | I15: =IF('Basic Elections'!$C$68="","",'Basic Elections'!$C$29) | J15: =IF('Basic Elections'!$C$68="","",'Basic Elections'!$C$34) | K15: =IF('Basic Elections'!$C$68="","",IF(OR(J15="A",J15="B",J15="C",J15="D"),(IF((C15/52)*0.6667>1000,1000,(C15/52)*0.6667)),0)) | L15: =IF('Basic Elections'!$C$68="","",(IF(AND(J15<>"None",E15<>0),VLOOKUP(J15,STD_Rates_lookup,2,FALSE),0))*(K15/10)) | M15: =IF('Basic Elections'!$C$68="","",IF(OR(J15="E",J15="F",J15="G",J15="H"),IF((C15/52)*0.6>1000,1000,(C15/52)*0.6),0)) | N15: =IF('Basic Elections'!$C$68="","",(IF(AND(J15<>"None",E15<>0),VLOOKUP(J15,STD_Rates_lookup,2,FALSE),0))*(M15/10)) | O15: =IF('Basic Elections'!$C$68="","",'Basic Elections'!$C$45) | P15: =IF('Basic Elections'!$C$68="","",IF(C15/12>10000,10000,C15/12)) | Q15: =IF('Basic Elections'!$C$68="","",(IF(AND(O15<>"None",E15<>0),VLOOKUP(O15,LTD_Rates_lookup,2,FALSE),0))*(P15/100)) | R15: =IF('Basic Elections'!$C$68="","",IF(D15=0,0,VLOOKUP(D15,life_age_reduction,4,FALSE))) | S15: =IF('Basic Elections'!$C$68="","",IF(G15="A",H15,0)) | T15: =IF('Basic Elections'!$C$68="","",IF(OR(G15="B",G15="C",G15="D",G15="E",G15="F"),VLOOKUP(G15,summary_benefit_lookup,2,FALSE),0)) | U15: =IF('Basic Elections'!$C$68="","",T15+S15) | V15: =IF(F15="","",IF(E15>0,IF(AND(G15="A",R15>0),MIN(C15,100000)*(1-R15),U15*(1-R15)),0)) | W15: =IF('Basic Elections'!$C$68="","",IF(E15>0,(V15*'summary lookup and rates'!$C$5)/1000,0)) | X15: =IF('Basic Elections'!$C$68="","",(V15*'summary lookup and rates'!$C$6)/1000) | Y15: =IF('Basic Elections'!$C$68="","",IF(AND(E15>0,'Basic Elections'!$C$29="Yes"),'summary lookup and rates'!$C$7,0)) | Z15: =IF('Basic Elections'!$C$68="","",IF(E15=0,"None",'Voluntary Elections'!$C$14)) | AA15: =IF('Basic Elections'!$C$68="","",IF((C15/52)*0.6>1000,1000,(C15/52)*0.6)) | AB15: =IF('Basic Elections'!$C$68="","",IF(OR(E15=0,Z15="None"),0,INDEX('census age lookup Vol STD'!$B$4:$E$103,MATCH(D15,'census age lookup Vol STD'!$A$4:$A$103,0),MATCH(Z15,'census age lookup Vol STD'!$B$3:$E$3,0))*(AA15/10))) | AC15: =IF('Basic Elections'!$C$68="","",IF(E15=0,"None",'Voluntary Elections'!$C$20)) | AD15: =IF('Basic Elections'!$C$68="","",IF(C15/12>10000,10000,C15/12)) | AE15: =IF('Basic Elections'!$C$68="","",IF(OR(E15=0,AC15="None"),0,INDEX('census age lookup Vol LTD'!$B$4:$E$103,MATCH(D15,'census age lookup Vol LTD'!$A$4:$A$103,0),MATCH(AC15,'census age lookup Vol LTD'!$B$3:$E$3,0))*(AD15/100)))
A16: =IF('Basic Elections'!$C$69="","",'Basic Elections'!E69) | B16: =IF('Basic Elections'!$C$69="","",'Basic Elections'!F69) | C16: =IF('Basic Elections'!$C$69="","",'Basic Elections'!G69) | D16: =IF('Basic Elections'!$C$69="","",IF(B16>0,B16,IF(A16>0,DATEDIF(A16,TODAY(),"Y"),0))) | E16: =IF('Basic Elections'!$C$69="","",IF(OR(A16<>0,B16<>0),1,0)) | F16: =IF('Basic Elections'!$C$69="","",IF(E16=1,F15+1,0)) | G16: =IF('Basic Elections'!$C$69="","",'Basic Elections'!$C$18) | H16: =IF('Basic Elections'!$C$69="","",IF(ROUNDUP(C16,-3)>100000,100000,ROUNDUP(C16,-3))) | I16: =IF('Basic Elections'!$C$69="","",'Basic Elections'!$C$29) | J16: =IF('Basic Elections'!$C$69="","",'Basic Elections'!$C$34) | K16: =IF('Basic Elections'!$C$69="","",IF(OR(J16="A",J16="B",J16="C",J16="D"),(IF((C16/52)*0.6667>1000,1000,(C16/52)*0.6667)),0)) | L16: =IF('Basic Elections'!$C$69="","",(IF(AND(J16<>"None",E16<>0),VLOOKUP(J16,STD_Rates_lookup,2,FALSE),0))*(K16/10)) | M16: =IF('Basic Elections'!$C$69="","",IF(OR(J16="E",J16="F",J16="G",J16="H"),IF((C16/52)*0.6>1000,1000,(C16/52)*0.6),0)) | N16: =IF('Basic Elections'!$C$69="","",(IF(AND(J16<>"None",E16<>0),VLOOKUP(J16,STD_Rates_lookup,2,FALSE),0))*(M16/10)) | O16: =IF('Basic Elections'!$C$69="","",'Basic Elections'!$C$45) | P16: =IF('Basic Elections'!$C$69="","",IF(C16/12>10000,10000,C16/12)) | Q16: =IF('Basic Elections'!$C$69="","",(IF(AND(O16<>"None",E16<>0),VLOOKUP(O16,LTD_Rates_lookup,2,FALSE),0))*(P16/100)) | R16: =IF('Basic Elections'!$C$69="","",IF(D16=0,0,VLOOKUP(D16,life_age_reduction,4,FALSE))) | S16: =IF('Basic Elections'!$C$69="","",IF(G16="A",H16,0)) | T16: =IF('Basic Elections'!$C$69="","",IF(OR(G16="B",G16="C",G16="D",G16="E",G16="F"),VLOOKUP(G16,summary_benefit_lookup,2,FALSE),0)) | U16: =IF('Basic Elections'!$C$69="","",T16+S16) | V16: =IF(F16="","",IF(E16>0,IF(AND(G16="A",R16>0),MIN(C16,100000)*(1-R16),U16*(1-R16)),0)) | W16: =IF('Basic Elections'!$C$69="","",IF(E16>0,(V16*'summary lookup and rates'!$C$5)/1000,0)) | X16: =IF('Basic Elections'!$C$69="","",(V16*'summary lookup and rates'!$C$6)/1000) | Y16: =IF('Basic Elections'!$C$69="","",IF(AND(E16>0,'Basic Elections'!$C$29="Yes"),'summary lookup and rates'!$C$7,0)) | Z16: =IF('Basic Elections'!$C$69="","",IF(E16=0,"None",'Voluntary Elections'!$C$14)) | AA16: =IF('Basic Elections'!$C$69="","",IF((C16/52)*0.6>1000,1000,(C16/52)*0.6)) | AB16: =IF('Basic Elections'!$C$69="","",IF(OR(E16=0,Z16="None"),0,INDEX('census age lookup Vol STD'!$B$4:$E$103,MATCH(D16,'census age lookup Vol STD'!$A$4:$A$103,0),MATCH(Z16,'census age lookup Vol STD'!$B$3:$E$3,0))*(AA16/10))) | AC16: =IF('Basic Elections'!$C$69="","",IF(E16=0,"None",'Voluntary Elections'!$C$20)) | AD16: =IF('Basic Elections'!$C$69="","",IF(C16/12>10000,10000,C16/12)) | AE16: =IF('Basic Elections'!$C$69="","",IF(OR(E16=0,AC16="None"),0,INDEX('census age lookup Vol LTD'!$B$4:$E$103,MATCH(D16,'census age lookup Vol LTD'!$A$4:$A$103,0),MATCH(AC16,'census age lookup Vol LTD'!$B$3:$E$3,0))*(AD16/100)))
A17: =IF('Basic Elections'!$C$70="","",'Basic Elections'!E70) | B17: =IF('Basic Elections'!$C$70="","",'Basic Elections'!F70) | C17: =IF('Basic Elections'!$C$70="","",'Basic Elections'!G70) | D17: =IF('Basic Elections'!$C$70="","",IF(B17>0,B17,IF(A17>0,DATEDIF(A17,TODAY(),"Y"),0))) | E17: =IF('Basic Elections'!$C$70="","",IF(OR(A17<>0,B17<>0),1,0)) | F17: =IF('Basic Elections'!$C$70="","",IF(E17=1,F16+1,0)) | G17: =IF('Basic Elections'!$C$70="","",'Basic Elections'!$C$18) | H17: =IF('Basic Elections'!$C$70="","",IF(ROUNDUP(C17,-3)>100000,100000,ROUNDUP(C17,-3))) | I17: =IF('Basic Elections'!$C$70="","",'Basic Elections'!$C$29) | J17: =IF('Basic Elections'!$C$70="","",'Basic Elections'!$C$34) | K17: =IF('Basic Elections'!$C$70="","",IF(OR(J17="A",J17="B",J17="C",J17="D"),(IF((C17/52)*0.6667>1000,1000,(C17/52)*0.6667)),0)) | L17: =IF('Basic Elections'!$C$70="","",(IF(AND(J17<>"None",E17<>0),VLOOKUP(J17,STD_Rates_lookup,2,FALSE),0))*(K17/10)) | M17: =IF('Basic Elections'!$C$70="","",IF(OR(J17="E",J17="F",J17="G",J17="H"),IF((C17/52)*0.6>1000,1000,(C17/52)*0.6),0)) | N17: =IF('Basic Elections'!$C$70="","",(IF(AND(J17<>"None",E17<>0),VLOOKUP(J17,STD_Rates_lookup,2,FALSE),0))*(M17/10)) | O17: =IF('Basic Elections'!$C$70="","",'Basic Elections'!$C$45) | P17: =IF('Basic Elections'!$C$70="","",IF(C17/12>10000,10000,C17/12)) | Q17: =IF('Basic Elections'!$C$70="","",(IF(AND(O17<>"None",E17<>0),VLOOKUP(O17,LTD_Rates_lookup,2,FALSE),0))*(P17/100)) | R17: =IF('Basic Elections'!$C$70="","",IF(D17=0,0,VLOOKUP(D17,life_age_reduction,4,FALSE))) | S17: =IF('Basic Elections'!$C$70="","",IF(G17="A",H17,0)) | T17: =IF('Basic Elections'!$C$70="","",IF(OR(G17="B",G17="C",G17="D",G17="E",G17="F"),VLOOKUP(G17,summary_benefit_lookup,2,FALSE),0)) | U17: =IF('Basic Elections'!$C$70="","",T17+S17) | V17: =IF(F17="","",IF(E17>0,IF(AND(G17="A",R17>0),MIN(C17,100000)*(1-R17),U17*(1-R17)),0)) | W17: =IF('Basic Elections'!$C$70="","",IF(E17>0,(V17*'summary lookup and rates'!$C$5)/1000,0)) | X17: =IF('Basic Elections'!$C$70="","",(V17*'summary lookup and rates'!$C$6)/1000) | Y17: =IF('Basic Elections'!$C$70="","",IF(AND(E17>0,'Basic Elections'!$C$29="Yes"),'summary lookup and rates'!$C$7,0)) | Z17: =IF('Basic Elections'!$C$70="","",IF(E17=0,"None",'Voluntary Elections'!$C$14)) | AA17: =IF('Basic Elections'!$C$70="","",IF((C17/52)*0.6>1000,1000,(C17/52)*0.6)) | AB17: =IF('Basic Elections'!$C$70="","",IF(OR(E17=0,Z17="None"),0,INDEX('census age lookup Vol STD'!$B$4:$E$103,MATCH(D17,'census age lookup Vol STD'!$A$4:$A$103,0),MATCH(Z17,'census age lookup Vol STD'!$B$3:$E$3,0))*(AA17/10))) | AC17: =IF('Basic Elections'!$C$70="","",IF(E17=0,"None",'Voluntary Elections'!$C$20)) | AD17: =IF('Basic Elections'!$C$70="","",IF(C17/12>10000,10000,C17/12)) | AE17: =IF('Basic Elections'!$C$70="","",IF(OR(E17=0,AC17="None"),0,INDEX('census age lookup Vol LTD'!$B$4:$E$103,MATCH(D17,'census age lookup Vol LTD'!$A$4:$A$103,0),MATCH(AC17,'census age lookup Vol LTD'!$B$3:$E$3,0))*(AD17/100)))
A18: =IF('Basic Elections'!$C$71="","",'Basic Elections'!E71) | B18: =IF('Basic Elections'!$C$71="","",'Basic Elections'!F71) | C18: =IF('Basic Elections'!$C$71="","",'Basic Elections'!G71) | D18: =IF('Basic Elections'!$C$71="","",IF(B18>0,B18,IF(A18>0,DATEDIF(A18,TODAY(),"Y"),0))) | E18: =IF('Basic Elections'!$C$71="","",IF(OR(A18<>0,B18<>0),1,0)) | F18: =IF('Basic Elections'!$C$71="","",IF(E18=1,F17+1,0)) | G18: =IF('Basic Elections'!$C$71="","",'Basic Elections'!$C$18) | H18: =IF('Basic Elections'!$C$71="","",IF(ROUNDUP(C18,-3)>100000,100000,ROUNDUP(C18,-3))) | I18: =IF('Basic Elections'!$C$71="","",'Basic Elections'!$C$29) | J18: =IF('Basic Elections'!$C$71="","",'Basic Elections'!$C$34) | K18: =IF('Basic Elections'!$C$71="","",IF(OR(J18="A",J18="B",J18="C",J18="D"),(IF((C18/52)*0.6667>1000,1000,(C18/52)*0.6667)),0)) | L18: =IF('Basic Elections'!$C$71="","",(IF(AND(J18<>"None",E18<>0),VLOOKUP(J18,STD_Rates_lookup,2,FALSE),0))*(K18/10)) | M18: =IF('Basic Elections'!$C$71="","",IF(OR(J18="E",J18="F",J18="G",J18="H"),IF((C18/52)*0.6>1000,1000,(C18/52)*0.6),0)) | N18: =IF('Basic Elections'!$C$71="","",(IF(AND(J18<>"None",E18<>0),VLOOKUP(J18,STD_Rates_lookup,2,FALSE),0))*(M18/10)) | O18: =IF('Basic Elections'!$C$71="","",'Basic Elections'!$C$45) | P18: =IF('Basic Elections'!$C$71="","",IF(C18/12>10000,10000,C18/12)) | Q18: =IF('Basic Elections'!$C$71="","",(IF(AND(O18<>"None",E18<>0),VLOOKUP(O18,LTD_Rates_lookup,2,FALSE),0))*(P18/100)) | R18: =IF('Basic Elections'!$C$71="","",IF(D18=0,0,VLOOKUP(D18,life_age_reduction,4,FALSE))) | S18: =IF('Basic Elections'!$C$71="","",IF(G18="A",H18,0)) | T18: =IF('Basic Elections'!$C$71="","",IF(OR(G18="B",G18="C",G18="D",G18="E",G18="F"),VLOOKUP(G18,summary_benefit_lookup,2,FALSE),0)) | U18: =IF('Basic Elections'!$C$71="","",T18+S18) | V18: =IF(F18="","",IF(E18>0,IF(AND(G18="A",R18>0),MIN(C18,100000)*(1-R18),U18*(1-R18)),0)) | W18: =IF('Basic Elections'!$C$71="","",IF(E18>0,(V18*'summary lookup and rates'!$C$5)/1000,0)) | X18: =IF('Basic Elections'!$C$71="","",(V18*'summary lookup and rates'!$C$6)/1000) | Y18: =IF('Basic Elections'!$C$71="","",IF(AND(E18>0,'Basic Elections'!$C$29="Yes"),'summary lookup and rates'!$C$7,0)) | Z18: =IF('Basic Elections'!$C$71="","",IF(E18=0,"None",'Voluntary Elections'!$C$14)) | AA18: =IF('Basic Elections'!$C$71="","",IF((C18/52)*0.6>1000,1000,(C18/52)*0.6)) | AB18: =IF('Basic Elections'!$C$71="","",IF(OR(E18=0,Z18="None"),0,INDEX('census age lookup Vol STD'!$B$4:$E$103,MATCH(D18,'census age lookup Vol STD'!$A$4:$A$103,0),MATCH(Z18,'census age lookup Vol STD'!$B$3:$E$3,0))*(AA18/10))) | AC18: =IF('Basic Elections'!$C$71="","",IF(E18=0,"None",'Voluntary Elections'!$C$20)) | AD18: =IF('Basic Elections'!$C$71="","",IF(C18/12>10000,10000,C18/12)) | AE18: =IF('Basic Elections'!$C$71="","",IF(OR(E18=0,AC18="None"),0,INDEX('census age lookup Vol LTD'!$B$4:$E$103,MATCH(D18,'census age lookup Vol LTD'!$A$4:$A$103,0),MATCH(AC18,'census age lookup Vol LTD'!$B$3:$E$3,0))*(AD18/100)))
A19: =IF('Basic Elections'!$C$72="","",'Basic Elections'!E72) | B19: =IF('Basic Elections'!$C$72="","",'Basic Elections'!F72) | C19: =IF('Basic Elections'!$C$72="","",'Basic Elections'!G72) | D19: =IF('Basic Elections'!$C$72="","",IF(B19>0,B19,IF(A19>0,DATEDIF(A19,TODAY(),"Y"),0))) | E19: =IF('Basic Elections'!$C$72="","",IF(OR(A19<>0,B19<>0),1,0)) | F19: =IF('Basic Elections'!$C$72="","",IF(E19=1,F18+1,0)) | G19: =IF('Basic Elections'!$C$72="","",'Basic Elections'!$C$18) | H19: =IF('Basic Elections'!$C$72="","",IF(ROUNDUP(C19,-3)>100000,100000,ROUNDUP(C19,-3))) | I19: =IF('Basic Elections'!$C$72="","",'Basic Elections'!$C$29) | J19: =IF('Basic Elections'!$C$72="","",'Basic Elections'!$C$34) | K19: =IF('Basic Elections'!$C$72="","",IF(OR(J19="A",J19="B",J19="C",J19="D"),(IF((C19/52)*0.6667>1000,1000,(C19/52)*0.6667)),0)) | L19: =IF('Basic Elections'!$C$72="","",(IF(AND(J19<>"None",E19<>0),VLOOKUP(J19,STD_Rates_lookup,2,FALSE),0))*(K19/10)) | M19: =IF('Basic Elections'!$C$72="","",IF(OR(J19="E",J19="F",J19="G",J19="H"),IF((C19/52)*0.6>1000,1000,(C19/52)*0.6),0)) | N19: =IF('Basic Elections'!$C$72="","",(IF(AND(J19<>"None",E19<>0),VLOOKUP(J19,STD_Rates_lookup,2,FALSE),0))*(M19/10)) | O19: =IF('Basic Elections'!$C$72="","",'Basic Elections'!$C$45) | P19: =IF('Basic Elections'!$C$72="","",IF(C19/12>10000,10000,C19/12)) | Q19: =IF('Basic Elections'!$C$72="","",(IF(AND(O19<>"None",E19<>0),VLOOKUP(O19,LTD_Rates_lookup,2,FALSE),0))*(P19/100)) | R19: =IF('Basic Elections'!$C$72="","",IF(D19=0,0,VLOOKUP(D19,life_age_reduction,4,FALSE))) | S19: =IF('Basic Elections'!$C$72="","",IF(G19="A",H19,0)) | T19: =IF('Basic Elections'!$C$72="","",IF(OR(G19="B",G19="C",G19="D",G19="E",G19="F"),VLOOKUP(G19,summary_benefit_lookup,2,FALSE),0)) | U19: =IF('Basic Elections'!$C$72="","",T19+S19) | V19: =IF(F19="","",IF(E19>0,IF(AND(G19="A",R19>0),MIN(C19,100000)*(1-R19),U19*(1-R19)),0)) | W19: =IF('Basic Elections'!$C$72="","",IF(E19>0,(V19*'summary lookup and rates'!$C$5)/1000,0)) | X19: =IF('Basic Elections'!$C$72="","",(V19*'summary lookup and rates'!$C$6)/1000) | Y19: =IF('Basic Elections'!$C$72="","",IF(AND(E19>0,'Basic Elections'!$C$29="Yes"),'summary lookup and rates'!$C$7,0)) | Z19: =IF('Basic Elections'!$C$72="","",IF(E19=0,"None",'Voluntary Elections'!$C$14)) | AA19: =IF('Basic Elections'!$C$72="","",IF((C19/52)*0.6>1000,1000,(C19/52)*0.6)) | AB19: =IF('Basic Elections'!$C$72="","",IF(OR(E19=0,Z19="None"),0,INDEX('census age lookup Vol STD'!$B$4:$E$103,MATCH(D19,'census age lookup Vol STD'!$A$4:$A$103,0),MATCH(Z19,'census age lookup Vol STD'!$B$3:$E$3,0))*(AA19/10))) | AC19: =IF('Basic Elections'!$C$72="","",IF(E19=0,"None",'Voluntary Elections'!$C$20)) | AD19: =IF('Basic Elections'!$C$72="","",IF(C19/12>10000,10000,C19/12)) | AE19: =IF('Basic Elections'!$C$72="","",IF(OR(E19=0,AC19="None"),0,INDEX('census age lookup Vol LTD'!$B$4:$E$103,MATCH(D19,'census age lookup Vol LTD'!$A$4:$A$103,0),MATCH(AC19,'census age lookup Vol LTD'!$B$3:$E$3,0))*(AD19/100)))
A20: =IF('Basic Elections'!$C$73="","",'Basic Elections'!E73) | B20: =IF('Basic Elections'!$C$73="","",'Basic Elections'!F73) | C20: =IF('Basic Elections'!$C$73="","",'Basic Elections'!G73) | D20: =IF('Basic Elections'!$C$73="","",IF(B20>0,B20,IF(A20>0,DATEDIF(A20,TODAY(),"Y"),0))) | E20: =IF('Basic Elections'!$C$73="","",IF(OR(A20<>0,B20<>0),1,0)) | F20: =IF('Basic Elections'!$C$73="","",IF(E20=1,F19+1,0)) | G20: =IF('Basic Elections'!$C$73="","",'Basic Elections'!$C$18) | H20: =IF('Basic Elections'!$C$73="","",IF(ROUNDUP(C20,-3)>100000,100000,ROUNDUP(C20,-3))) | I20: =IF('Basic Elections'!$C$73="","",'Basic Elections'!$C$29) | J20: =IF('Basic Elections'!$C$73="","",'Basic Elections'!$C$34) | K20: =IF('Basic Elections'!$C$73="","",IF(OR(J20="A",J20="B",J20="C",J20="D"),(IF((C20/52)*0.6667>1000,1000,(C20/52)*0.6667)),0)) | L20: =IF('Basic Elections'!$C$73="","",(IF(AND(J20<>"None",E20<>0),VLOOKUP(J20,STD_Rates_lookup,2,FALSE),0))*(K20/10)) | M20: =IF('Basic Elections'!$C$73="","",IF(OR(J20="E",J20="F",J20="G",J20="H"),IF((C20/52)*0.6>1000,1000,(C20/52)*0.6),0)) | N20: =IF('Basic Elections'!$C$73="","",(IF(AND(J20<>"None",E20<>0),VLOOKUP(J20,STD_Rates_lookup,2,FALSE),0))*(M20/10)) | O20: =IF('Basic Elections'!$C$73="","",'Basic Elections'!$C$45) | P20: =IF('Basic Elections'!$C$73="","",IF(C20/12>10000,10000,C20/12)) | Q20: =IF('Basic Elections'!$C$73="","",(IF(AND(O20<>"None",E20<>0),VLOOKUP(O20,LTD_Rates_lookup,2,FALSE),0))*(P20/100)) | R20: =IF('Basic Elections'!$C$73="","",IF(D20=0,0,VLOOKUP(D20,life_age_reduction,4,FALSE))) | S20: =IF('Basic Elections'!$C$73="","",IF(G20="A",H20,0)) | T20: =IF('Basic Elections'!$C$73="","",IF(OR(G20="B",G20="C",G20="D",G20="E",G20="F"),VLOOKUP(G20,summary_benefit_lookup,2,FALSE),0)) | U20: =IF('Basic Elections'!$C$73="","",T20+S20) | V20: =IF(F20="","",IF(E20>0,IF(AND(G20="A",R20>0),MIN(C20,100000)*(1-R20),U20*(1-R20)),0)) | W20: =IF('Basic Elections'!$C$73="","",IF(E20>0,(V20*'summary lookup and rates'!$C$5)/1000,0)) | X20: =IF('Basic Elections'!$C$73="","",(V20*'summary lookup and rates'!$C$6)/1000) | Y20: =IF('Basic Elections'!$C$73="","",IF(AND(E20>0,'Basic Elections'!$C$29="Yes"),'summary lookup and rates'!$C$7,0)) | Z20: =IF('Basic Elections'!$C$73="","",IF(E20=0,"None",'Voluntary Elections'!$C$14)) | AA20: =IF('Basic Elections'!$C$73="","",IF((C20/52)*0.6>1000,1000,(C20/52)*0.6)) | AB20: =IF('Basic Elections'!$C$73="","",IF(OR(E20=0,Z20="None"),0,INDEX('census age lookup Vol STD'!$B$4:$E$103,MATCH(D20,'census age lookup Vol STD'!$A$4:$A$103,0),MATCH(Z20,'census age lookup Vol STD'!$B$3:$E$3,0))*(AA20/10))) | AC20: =IF('Basic Elections'!$C$73="","",IF(E20=0,"None",'Voluntary Elections'!$C$20)) | AD20: =IF('Basic Elections'!$C$73="","",IF(C20/12>10000,10000,C20/12)) | AE20: =IF('Basic Elections'!$C$73="","",IF(OR(E20=0,AC20="None"),0,INDEX('census age lookup Vol LTD'!$B$4:$E$103,MATCH(D20,'census age lookup Vol LTD'!$A$4:$A$103,0),MATCH(AC20,'census age lookup Vol LTD'!$B$3:$E$3,0))*(AD20/100)))
A21: =IF('Basic Elections'!$C$74="","",'Basic Elections'!E74) | B21: =IF('Basic Elections'!$C$74="","",'Basic Elections'!F74) | C21: =IF('Basic Elections'!$C$74="","",'Basic Elections'!G74) | D21: =IF('Basic Elections'!$C$74="","",IF(B21>0,B21,IF(A21>0,DATEDIF(A21,TODAY(),"Y"),0))) | E21: =IF('Basic Elections'!$C$74="","",IF(OR(A21<>0,B21<>0),1,0)) | F21: =IF('Basic Elections'!$C$74="","",IF(E21=1,F20+1,0)) | G21: =IF('Basic Elections'!$C$74="","",'Basic Elections'!$C$18) | H21: =IF('Basic Elections'!$C$74="","",IF(ROUNDUP(C21,-3)>100000,100000,ROUNDUP(C21,-3))) | I21: =IF('Basic Elections'!$C$74="","",'Basic Elections'!$C$29) | J21: =IF('Basic Elections'!$C$74="","",'Basic Elections'!$C$34) | K21: =IF('Basic Elections'!$C$74="","",IF(OR(J21="A",J21="B",J21="C",J21="D"),(IF((C21/52)*0.6667>1000,1000,(C21/52)*0.6667)),0)) | L21: =IF('Basic Elections'!$C$74="","",(IF(AND(J21<>"None",E21<>0),VLOOKUP(J21,STD_Rates_lookup,2,FALSE),0))*(K21/10)) | M21: =IF('Basic Elections'!$C$74="","",IF(OR(J21="E",J21="F",J21="G",J21="H"),IF((C21/52)*0.6>1000,1000,(C21/52)*0.6),0)) | N21: =IF('Basic Elections'!$C$74="","",(IF(AND(J21<>"None",E21<>0),VLOOKUP(J21,STD_Rates_lookup,2,FALSE),0))*(M21/10)) | O21: =IF('Basic Elections'!$C$74="","",'Basic Elections'!$C$45) | P21: =IF('Basic Elections'!$C$74="","",IF(C21/12>10000,10000,C21/12)) | Q21: =IF('Basic Elections'!$C$74="","",(IF(AND(O21<>"None",E21<>0),VLOOKUP(O21,LTD_Rates_lookup,2,FALSE),0))*(P21/100)) | R21: =IF('Basic Elections'!$C$74="","",IF(D21=0,0,VLOOKUP(D21,life_age_reduction,4,FALSE))) | S21: =IF('Basic Elections'!$C$74="","",IF(G21="A",H21,0)) | T21: =IF('Basic Elections'!$C$74="","",IF(OR(G21="B",G21="C",G21="D",G21="E",G21="F"),VLOOKUP(G21,summary_benefit_lookup,2,FALSE),0)) | U21: =IF('Basic Elections'!$C$74="","",T21+S21) | V21: =IF(F21="","",IF(E21>0,IF(AND(G21="A",R21>0),MIN(C21,100000)*(1-R21),U21*(1-R21)),0)) | W21: =IF('Basic Elections'!$C$74="","",IF(E21>0,(V21*'summary lookup and rates'!$C$5)/1000,0)) | X21: =IF('Basic Elections'!$C$74="","",(V21*'summary lookup and rates'!$C$6)/1000) | Y21: =IF('Basic Elections'!$C$74="","",IF(AND(E21>0,'Basic Elections'!$C$29="Yes"),'summary lookup and rates'!$C$7,0)) | Z21: =IF('Basic Elections'!$C$74="","",IF(E21=0,"None",'Voluntary Elections'!$C$14)) | AA21: =IF('Basic Elections'!$C$74="","",IF((C21/52)*0.6>1000,1000,(C21/52)*0.6)) | AB21: =IF('Basic Elections'!$C$74="","",IF(OR(E21=0,Z21="None"),0,INDEX('census age lookup Vol STD'!$B$4:$E$103,MATCH(D21,'census age lookup Vol STD'!$A$4:$A$103,0),MATCH(Z21,'census age lookup Vol STD'!$B$3:$E$3,0))*(AA21/10))) | AC21: =IF('Basic Elections'!$C$74="","",IF(E21=0,"None",'Voluntary Elections'!$C$20)) | AD21: =IF('Basic Elections'!$C$74="","",IF(C21/12>10000,10000,C21/12)) | AE21: =IF('Basic Elections'!$C$74="","",IF(OR(E21=0,AC21="None"),0,INDEX('census age lookup Vol LTD'!$B$4:$E$103,MATCH(D21,'census age lookup Vol LTD'!$A$4:$A$103,0),MATCH(AC21,'census age lookup Vol LTD'!$B$3:$E$3,0))*(AD21/100)))
A22: =IF('Basic Elections'!$C$75="","",'Basic Elections'!E75) | B22: =IF('Basic Elections'!$C$75="","",'Basic Elections'!F75) | C22: =IF('Basic Elections'!$C$75="","",'Basic Elections'!G75) | D22: =IF('Basic Elections'!$C$75="","",IF(B22>0,B22,IF(A22>0,DATEDIF(A22,TODAY(),"Y"),0))) | E22: =IF('Basic Elections'!$C$75="","",IF(OR(A22<>0,B22<>0),1,0)) | F22: =IF('Basic Elections'!$C$75="","",IF(E22=1,F21+1,0)) | G22: =IF('Basic Elections'!$C$75="","",'Basic Elections'!$C$18) | H22: =IF('Basic Elections'!$C$75="","",IF(ROUNDUP(C22,-3)>100000,100000,ROUNDUP(C22,-3))) | I22: =IF('Basic Elections'!$C$75="","",'Basic Elections'!$C$29) | J22: =IF('Basic Elections'!$C$75="","",'Basic Elections'!$C$34) | K22: =IF('Basic Elections'!$C$75="","",IF(OR(J22="A",J22="B",J22="C",J22="D"),(IF((C22/52)*0.6667>1000,1000,(C22/52)*0.6667)),0)) | L22: =IF('Basic Elections'!$C$75="","",(IF(AND(J22<>"None",E22<>0),VLOOKUP(J22,STD_Rates_lookup,2,FALSE),0))*(K22/10)) | M22: =IF('Basic Elections'!$C$75="","",IF(OR(J22="E",J22="F",J22="G",J22="H"),IF((C22/52)*0.6>1000,1000,(C22/52)*0.6),0)) | N22: =IF('Basic Elections'!$C$75="","",(IF(AND(J22<>"None",E22<>0),VLOOKUP(J22,STD_Rates_lookup,2,FALSE),0))*(M22/10)) | O22: =IF('Basic Elections'!$C$75="","",'Basic Elections'!$C$45) | P22: =IF('Basic Elections'!$C$75="","",IF(C22/12>10000,10000,C22/12)) | Q22: =IF('Basic Elections'!$C$75="","",(IF(AND(O22<>"None",E22<>0),VLOOKUP(O22,LTD_Rates_lookup,2,FALSE),0))*(P22/100)) | R22: =IF('Basic Elections'!$C$75="","",IF(D22=0,0,VLOOKUP(D22,life_age_reduction,4,FALSE))) | S22: =IF('Basic Elections'!$C$75="","",IF(G22="A",H22,0)) | T22: =IF('Basic Elections'!$C$75="","",IF(OR(G22="B",G22="C",G22="D",G22="E",G22="F"),VLOOKUP(G22,summary_benefit_lookup,2,FALSE),0)) | U22: =IF('Basic Elections'!$C$75="","",T22+S22) | V22: =IF(F22="","",IF(E22>0,IF(AND(G22="A",R22>0),MIN(C22,100000)*(1-R22),U22*(1-R22)),0)) | W22: =IF('Basic Elections'!$C$75="","",IF(E22>0,(V22*'summary lookup and rates'!$C$5)/1000,0)) | X22: =IF('Basic Elections'!$C$75="","",(V22*'summary lookup and rates'!$C$6)/1000) | Y22: =IF('Basic Elections'!$C$75="","",IF(AND(E22>0,'Basic Elections'!$C$29="Yes"),'summary lookup and rates'!$C$7,0)) | Z22: =IF('Basic Elections'!$C$75="","",IF(E22=0,"None",'Voluntary Elections'!$C$14)) | AA22: =IF('Basic Elections'!$C$75="","",IF((C22/52)*0.6>1000,1000,(C22/52)*0.6)) | AB22: =IF('Basic Elections'!$C$75="","",IF(OR(E22=0,Z22="None"),0,INDEX('census age lookup Vol STD'!$B$4:$E$103,MATCH(D22,'census age lookup Vol STD'!$A$4:$A$103,0),MATCH(Z22,'census age lookup Vol STD'!$B$3:$E$3,0))*(AA22/10))) | AC22: =IF('Basic Elections'!$C$75="","",IF(E22=0,"None",'Voluntary Elections'!$C$20)) | AD22: =IF('Basic Elections'!$C$75="","",IF(C22/12>10000,10000,C22/12)) | AE22: =IF('Basic Elections'!$C$75="","",IF(OR(E22=0,AC22="None"),0,INDEX('census age lookup Vol LTD'!$B$4:$E$103,MATCH(D22,'census age lookup Vol LTD'!$A$4:$A$103,0),MATCH(AC22,'census age lookup Vol LTD'!$B$3:$E$3,0))*(AD22/100)))
A23: =IF('Basic Elections'!$C$76="","",'Basic Elections'!E76) | B23: =IF('Basic Elections'!$C$76="","",'Basic Elections'!F76) | C23: =IF('Basic Elections'!$C$76="","",'Basic Elections'!G76) | D23: =IF('Basic Elections'!$C$76="","",IF(B23>0,B23,IF(A23>0,DATEDIF(A23,TODAY(),"Y"),0))) | E23: =IF('Basic Elections'!$C$76="","",IF(OR(A23<>0,B23<>0),1,0)) | F23: =IF('Basic Elections'!$C$76="","",IF(E23=1,F22+1,0)) | G23: =IF('Basic Elections'!$C$76="","",'Basic Elections'!$C$18) | H23: =IF('Basic Elections'!$C$76="","",IF(ROUNDUP(C23,-3)>100000,100000,ROUNDUP(C23,-3))) | I23: =IF('Basic Elections'!$C$76="","",'Basic Elections'!$C$29) | J23: =IF('Basic Elections'!$C$76="","",'Basic Elections'!$C$34) | K23: =IF('Basic Elections'!$C$76="","",IF(OR(J23="A",J23="B",J23="C",J23="D"),(IF((C23/52)*0.6667>1000,1000,(C23/52)*0.6667)),0)) | L23: =IF('Basic Elections'!$C$76="","",(IF(AND(J23<>"None",E23<>0),VLOOKUP(J23,STD_Rates_lookup,2,FALSE),0))*(K23/10)) | M23: =IF('Basic Elections'!$C$76="","",IF(OR(J23="E",J23="F",J23="G",J23="H"),IF((C23/52)*0.6>1000,1000,(C23/52)*0.6),0)) | N23: =IF('Basic Elections'!$C$76="","",(IF(AND(J23<>"None",E23<>0),VLOOKUP(J23,STD_Rates_lookup,2,FALSE),0))*(M23/10)) | O23: =IF('Basic Elections'!$C$76="","",'Basic Elections'!$C$45) | P23: =IF('Basic Elections'!$C$76="","",IF(C23/12>10000,10000,C23/12)) | Q23: =IF('Basic Elections'!$C$76="","",(IF(AND(O23<>"None",E23<>0),VLOOKUP(O23,LTD_Rates_lookup,2,FALSE),0))*(P23/100)) | R23: =IF('Basic Elections'!$C$76="","",IF(D23=0,0,VLOOKUP(D23,life_age_reduction,4,FALSE))) | S23: =IF('Basic Elections'!$C$76="","",IF(G23="A",H23,0)) | T23: =IF('Basic Elections'!$C$76="","",IF(OR(G23="B",G23="C",G23="D",G23="E",G23="F"),VLOOKUP(G23,summary_benefit_lookup,2,FALSE),0)) | U23: =IF('Basic Elections'!$C$76="","",T23+S23) | V23: =IF(F23="","",IF(E23>0,IF(AND(G23="A",R23>0),MIN(C23,100000)*(1-R23),U23*(1-R23)),0)) | W23: =IF('Basic Elections'!$C$76="","",IF(E23>0,(V23*'summary lookup and rates'!$C$5)/1000,0)) | X23: =IF('Basic Elections'!$C$76="","",(V23*'summary lookup and rates'!$C$6)/1000) | Y23: =IF('Basic Elections'!$C$76="","",IF(AND(E23>0,'Basic Elections'!$C$29="Yes"),'summary lookup and rates'!$C$7,0)) | Z23: =IF('Basic Elections'!$C$76="","",IF(E23=0,"None",'Voluntary Elections'!$C$14)) | AA23: =IF('Basic Elections'!$C$76="","",IF((C23/52)*0.6>1000,1000,(C23/52)*0.6)) | AB23: =IF('Basic Elections'!$C$76="","",IF(OR(E23=0,Z23="None"),0,INDEX('census age lookup Vol STD'!$B$4:$E$103,MATCH(D23,'census age lookup Vol STD'!$A$4:$A$103,0),MATCH(Z23,'census age lookup Vol STD'!$B$3:$E$3,0))*(AA23/10))) | AC23: =IF('Basic Elections'!$C$76="","",IF(E23=0,"None",'Voluntary Elections'!$C$20)) | AD23: =IF('Basic Elections'!$C$76="","",IF(C23/12>10000,10000,C23/12)) | AE23: =IF('Basic Elections'!$C$76="","",IF(OR(E23=0,AC23="None"),0,INDEX('census age lookup Vol LTD'!$B$4:$E$103,MATCH(D23,'census age lookup Vol LTD'!$A$4:$A$103,0),MATCH(AC23,'census age lookup Vol LTD'!$B$3:$E$3,0))*(AD23/100)))
A24: =IF('Basic Elections'!$C$77="","",'Basic Elections'!E77) | B24: =IF('Basic Elections'!$C$77="","",'Basic Elections'!F77) | C24: =IF('Basic Elections'!$C$77="","",'Basic Elections'!G77) | D24: =IF('Basic Elections'!$C$77="","",IF(B24>0,B24,IF(A24>0,DATEDIF(A24,TODAY(),"Y"),0))) | E24: =IF('Basic Elections'!$C$77="","",IF(OR(A24<>0,B24<>0),1,0)) | F24: =IF('Basic Elections'!$C$77="","",IF(E24=1,F23+1,0)) | G24: =IF('Basic Elections'!$C$77="","",'Basic Elections'!$C$18) | H24: =IF('Basic Elections'!$C$77="","",IF(ROUNDUP(C24,-3)>100000,100000,ROUNDUP(C24,-3))) | I24: =IF('Basic Elections'!$C$77="","",'Basic Elections'!$C$29) | J24: =IF('Basic Elections'!$C$77="","",'Basic Elections'!$C$34) | K24: =IF('Basic Elections'!$C$77="","",IF(OR(J24="A",J24="B",J24="C",J24="D"),(IF((C24/52)*0.6667>1000,1000,(C24/52)*0.6667)),0)) | L24: =IF('Basic Elections'!$C$77="","",(IF(AND(J24<>"None",E24<>0),VLOOKUP(J24,STD_Rates_lookup,2,FALSE),0))*(K24/10)) | M24: =IF('Basic Elections'!$C$77="","",IF(OR(J24="E",J24="F",J24="G",J24="H"),IF((C24/52)*0.6>1000,1000,(C24/52)*0.6),0)) | N24: =IF('Basic Elections'!$C$77="","",(IF(AND(J24<>"None",E24<>0),VLOOKUP(J24,STD_Rates_lookup,2,FALSE),0))*(M24/10)) | O24: =IF('Basic Elections'!$C$77="","",'Basic Elections'!$C$45) | P24: =IF('Basic Elections'!$C$77="","",IF(C24/12>10000,10000,C24/12)) | Q24: =IF('Basic Elections'!$C$77="","",(IF(AND(O24<>"None",E24<>0),VLOOKUP(O24,LTD_Rates_lookup,2,FALSE),0))*(P24/100)) | R24: =IF('Basic Elections'!$C$77="","",IF(D24=0,0,VLOOKUP(D24,life_age_reduction,4,FALSE))) | S24: =IF('Basic Elections'!$C$77="","",IF(G24="A",H24,0)) | T24: =IF('Basic Elections'!$C$77="","",IF(OR(G24="B",G24="C",G24="D",G24="E",G24="F"),VLOOKUP(G24,summary_benefit_lookup,2,FALSE),0)) | U24: =IF('Basic Elections'!$C$77="","",T24+S24) | V24: =IF(F24="","",IF(E24>0,IF(AND(G24="A",R24>0),MIN(C24,100000)*(1-R24),U24*(1-R24)),0)) | W24: =IF('Basic Elections'!$C$77="","",IF(E24>0,(V24*'summary lookup and rates'!$C$5)/1000,0)) | X24: =IF('Basic Elections'!$C$77="","",(V24*'summary lookup and rates'!$C$6)/1000) | Y24: =IF('Basic Elections'!$C$77="","",IF(AND(E24>0,'Basic Elections'!$C$29="Yes"),'summary lookup and rates'!$C$7,0)) | Z24: =IF('Basic Elections'!$C$77="","",IF(E24=0,"None",'Voluntary Elections'!$C$14)) | AA24: =IF('Basic Elections'!$C$77="","",IF((C24/52)*0.6>1000,1000,(C24/52)*0.6)) | AB24: =IF('Basic Elections'!$C$77="","",IF(OR(E24=0,Z24="None"),0,INDEX('census age lookup Vol STD'!$B$4:$E$103,MATCH(D24,'census age lookup Vol STD'!$A$4:$A$103,0),MATCH(Z24,'census age lookup Vol STD'!$B$3:$E$3,0))*(AA24/10))) | AC24: =IF('Basic Elections'!$C$77="","",IF(E24=0,"None",'Voluntary Elections'!$C$20)) | AD24: =IF('Basic Elections'!$C$77="","",IF(C24/12>10000,10000,C24/12)) | AE24: =IF('Basic Elections'!$C$77="","",IF(OR(E24=0,AC24="None"),0,INDEX('census age lookup Vol LTD'!$B$4:$E$103,MATCH(D24,'census age lookup Vol LTD'!$A$4:$A$103,0),MATCH(AC24,'census age lookup Vol LTD'!$B$3:$E$3,0))*(AD24/100)))
A25: =IF('Basic Elections'!$C$78="","",'Basic Elections'!E78) | B25: =IF('Basic Elections'!$C$78="","",'Basic Elections'!F78) | C25: =IF('Basic Elections'!$C$78="","",'Basic Elections'!G78) | D25: =IF('Basic Elections'!$C$78="","",IF(B25>0,B25,IF(A25>0,DATEDIF(A25,TODAY(),"Y"),0))) | E25: =IF('Basic Elections'!$C$78="","",IF(OR(A25<>0,B25<>0),1,0)) | F25: =IF('Basic Elections'!$C$78="","",IF(E25=1,F24+1,0)) | G25: =IF('Basic Elections'!$C$78="","",'Basic Elections'!$C$18) | H25: =IF('Basic Elections'!$C$78="","",IF(ROUNDUP(C25,-3)>100000,100000,ROUNDUP(C25,-3))) | I25: =IF('Basic Elections'!$C$78="","",'Basic Elections'!$C$29) | J25: =IF('Basic Elections'!$C$78="","",'Basic Elections'!$C$34) | K25: =IF('Basic Elections'!$C$78="","",IF(OR(J25="A",J25="B",J25="C",J25="D"),(IF((C25/52)*0.6667>1000,1000,(C25/52)*0.6667)),0)) | L25: =IF('Basic Elections'!$C$78="","",(IF(AND(J25<>"None",E25<>0),VLOOKUP(J25,STD_Rates_lookup,2,FALSE),0))*(K25/10)) | M25: =IF('Basic Elections'!$C$78="","",IF(OR(J25="E",J25="F",J25="G",J25="H"),IF((C25/52)*0.6>1000,1000,(C25/52)*0.6),0)) | N25: =IF('Basic Elections'!$C$78="","",(IF(AND(J25<>"None",E25<>0),VLOOKUP(J25,STD_Rates_lookup,2,FALSE),0))*(M25/10)) | O25: =IF('Basic Elections'!$C$78="","",'Basic Elections'!$C$45) | P25: =IF('Basic Elections'!$C$78="","",IF(C25/12>10000,10000,C25/12)) | Q25: =IF('Basic Elections'!$C$78="","",(IF(AND(O25<>"None",E25<>0),VLOOKUP(O25,LTD_Rates_lookup,2,FALSE),0))*(P25/100)) | R25: =IF('Basic Elections'!$C$78="","",IF(D25=0,0,VLOOKUP(D25,life_age_reduction,4,FALSE))) | S25: =IF('Basic Elections'!$C$78="","",IF(G25="A",H25,0)) | T25: =IF('Basic Elections'!$C$78="","",IF(OR(G25="B",G25="C",G25="D",G25="E",G25="F"),VLOOKUP(G25,summary_benefit_lookup,2,FALSE),0)) | U25: =IF('Basic Elections'!$C$78="","",T25+S25) | V25: =IF(F25="","",IF(E25>0,IF(AND(G25="A",R25>0),MIN(C25,100000)*(1-R25),U25*(1-R25)),0)) | W25: =IF('Basic Elections'!$C$78="","",IF(E25>0,(V25*'summary lookup and rates'!$C$5)/1000,0)) | X25: =IF('Basic Elections'!$C$78="","",(V25*'summary lookup and rates'!$C$6)/1000) | Y25: =IF('Basic Elections'!$C$78="","",IF(AND(E25>0,'Basic Elections'!$C$29="Yes"),'summary lookup and rates'!$C$7,0)) | Z25: =IF('Basic Elections'!$C$78="","",IF(E25=0,"None",'Voluntary Elections'!$C$14)) | AA25: =IF('Basic Elections'!$C$78="","",IF((C25/52)*0.6>1000,1000,(C25/52)*0.6)) | AB25: =IF('Basic Elections'!$C$78="","",IF(OR(E25=0,Z25="None"),0,INDEX('census age lookup Vol STD'!$B$4:$E$103,MATCH(D25,'census age lookup Vol STD'!$A$4:$A$103,0),MATCH(Z25,'census age lookup Vol STD'!$B$3:$E$3,0))*(AA25/10))) | AC25: =IF('Basic Elections'!$C$78="","",IF(E25=0,"None",'Voluntary Elections'!$C$20)) | AD25: =IF('Basic Elections'!$C$78="","",IF(C25/12>10000,10000,C25/12)) | AE25: =IF('Basic Elections'!$C$78="","",IF(OR(E25=0,AC25="None"),0,INDEX('census age lookup Vol LTD'!$B$4:$E$103,MATCH(D25,'census age lookup Vol LTD'!$A$4:$A$103,0),MATCH(AC25,'census age lookup Vol LTD'!$B$3:$E$3,0))*(AD25/100)))
A26: =IF('Basic Elections'!$C$79="","",'Basic Elections'!E79) | B26: =IF('Basic Elections'!$C$79="","",'Basic Elections'!F79) | C26: =IF('Basic Elections'!$C$79="","",'Basic Elections'!G79) | D26: =IF('Basic Elections'!$C$79="","",IF(B26>0,B26,IF(A26>0,DATEDIF(A26,TODAY(),"Y"),0))) | E26: =IF('Basic Elections'!$C$79="","",IF(OR(A26<>0,B26<>0),1,0)) | F26: =IF('Basic Elections'!$C$79="","",IF(E26=1,F25+1,0)) | G26: =IF('Basic Elections'!$C$79="","",'Basic Elections'!$C$18) | H26: =IF('Basic Elections'!$C$79="","",IF(ROUNDUP(C26,-3)>100000,100000,ROUNDUP(C26,-3))) | I26: =IF('Basic Elections'!$C$79="","",'Basic Elections'!$C$29) | J26: =IF('Basic Elections'!$C$79="","",'Basic Elections'!$C$34) | K26: =IF('Basic Elections'!$C$79="","",IF(OR(J26="A",J26="B",J26="C",J26="D"),(IF((C26/52)*0.6667>1000,1000,(C26/52)*0.6667)),0)) | L26: =IF('Basic Elections'!$C$79="","",(IF(AND(J26<>"None",E26<>0),VLOOKUP(J26,STD_Rates_lookup,2,FALSE),0))*(K26/10)) | M26: =IF('Basic Elections'!$C$79="","",IF(OR(J26="E",J26="F",J26="G",J26="H"),IF((C26/52)*0.6>1000,1000,(C26/52)*0.6),0)) | N26: =IF('Basic Elections'!$C$79="","",(IF(AND(J26<>"None",E26<>0),VLOOKUP(J26,STD_Rates_lookup,2,FALSE),0))*(M26/10)) | O26: =IF('Basic Elections'!$C$79="","",'Basic Elections'!$C$45) | P26: =IF('Basic Elections'!$C$79="","",IF(C26/12>10000,10000,C26/12)) | Q26: =IF('Basic Elections'!$C$79="","",(IF(AND(O26<>"None",E26<>0),VLOOKUP(O26,LTD_Rates_lookup,2,FALSE),0))*(P26/100)) | R26: =IF('Basic Elections'!$C$79="","",IF(D26=0,0,VLOOKUP(D26,life_age_reduction,4,FALSE))) | S26: =IF('Basic Elections'!$C$79="","",IF(G26="A",H26,0)) | T26: =IF('Basic Elections'!$C$79="","",IF(OR(G26="B",G26="C",G26="D",G26="E",G26="F"),VLOOKUP(G26,summary_benefit_lookup,2,FALSE),0)) | U26: =IF('Basic Elections'!$C$79="","",T26+S26) | V26: =IF(F26="","",IF(E26>0,IF(AND(G26="A",R26>0),MIN(C26,100000)*(1-R26),U26*(1-R26)),0)) | W26: =IF('Basic Elections'!$C$79="","",IF(E26>0,(V26*'summary lookup and rates'!$C$5)/1000,0)) | X26: =IF('Basic Elections'!$C$79="","",(V26*'summary lookup and rates'!$C$6)/1000) | Y26: =IF('Basic Elections'!$C$79="","",IF(AND(E26>0,'Basic Elections'!$C$29="Yes"),'summary lookup and rates'!$C$7,0)) | Z26: =IF('Basic Elections'!$C$79="","",IF(E26=0,"None",'Voluntary Elections'!$C$14)) | AA26: =IF('Basic Elections'!$C$79="","",IF((C26/52)*0.6>1000,1000,(C26/52)*0.6)) | AB26: =IF('Basic Elections'!$C$79="","",IF(OR(E26=0,Z26="None"),0,INDEX('census age lookup Vol STD'!$B$4:$E$103,MATCH(D26,'census age lookup Vol STD'!$A$4:$A$103,0),MATCH(Z26,'census age lookup Vol STD'!$B$3:$E$3,0))*(AA26/10))) | AC26: =IF('Basic Elections'!$C$79="","",IF(E26=0,"None",'Voluntary Elections'!$C$20)) | AD26: =IF('Basic Elections'!$C$79="","",IF(C26/12>10000,10000,C26/12)) | AE26: =IF('Basic Elections'!$C$79="","",IF(OR(E26=0,AC26="None"),0,INDEX('census age lookup Vol LTD'!$B$4:$E$103,MATCH(D26,'census age lookup Vol LTD'!$A$4:$A$103,0),MATCH(AC26,'census age lookup Vol LTD'!$B$3:$E$3,0))*(AD26/100)))
A27: =IF('Basic Elections'!$C$80="","",'Basic Elections'!E80) | B27: =IF('Basic Elections'!$C$80="","",'Basic Elections'!F80) | C27: =IF('Basic Elections'!$C$80="","",'Basic Elections'!G80) | D27: =IF('Basic Elections'!$C$80="","",IF(B27>0,B27,IF(A27>0,DATEDIF(A27,TODAY(),"Y"),0))) | E27: =IF('Basic Elections'!$C$80="","",IF(OR(A27<>0,B27<>0),1,0)) | F27: =IF('Basic Elections'!$C$80="","",IF(E27=1,F26+1,0)) | G27: =IF('Basic Elections'!$C$80="","",'Basic Elections'!$C$18) | H27: =IF('Basic Elections'!$C$80="","",IF(ROUNDUP(C27,-3)>100000,100000,ROUNDUP(C27,-3))) | I27: =IF('Basic Elections'!$C$80="","",'Basic Elections'!$C$29) | J27: =IF('Basic Elections'!$C$80="","",'Basic Elections'!$C$34) | K27: =IF('Basic Elections'!$C$80="","",IF(OR(J27="A",J27="B",J27="C",J27="D"),(IF((C27/52)*0.6667>1000,1000,(C27/52)*0.6667)),0)) | L27: =IF('Basic Elections'!$C$80="","",(IF(AND(J27<>"None",E27<>0),VLOOKUP(J27,STD_Rates_lookup,2,FALSE),0))*(K27/10)) | M27: =IF('Basic Elections'!$C$80="","",IF(OR(J27="E",J27="F",J27="G",J27="H"),IF((C27/52)*0.6>1000,1000,(C27/52)*0.6),0)) | N27: =IF('Basic Elections'!$C$80="","",(IF(AND(J27<>"None",E27<>0),VLOOKUP(J27,STD_Rates_lookup,2,FALSE),0))*(M27/10)) | O27: =IF('Basic Elections'!$C$80="","",'Basic Elections'!$C$45) | P27: =IF('Basic Elections'!$C$80="","",IF(C27/12>10000,10000,C27/12)) | Q27: =IF('Basic Elections'!$C$80="","",(IF(AND(O27<>"None",E27<>0),VLOOKUP(O27,LTD_Rates_lookup,2,FALSE),0))*(P27/100)) | R27: =IF('Basic Elections'!$C$80="","",IF(D27=0,0,VLOOKUP(D27,life_age_reduction,4,FALSE))) | S27: =IF('Basic Elections'!$C$80="","",IF(G27="A",H27,0)) | T27: =IF('Basic Elections'!$C$80="","",IF(OR(G27="B",G27="C",G27="D",G27="E",G27="F"),VLOOKUP(G27,summary_benefit_lookup,2,FALSE),0)) | U27: =IF('Basic Elections'!$C$80="","",T27+S27) | V27: =IF(F27="","",IF(E27>0,IF(AND(G27="A",R27>0),MIN(C27,100000)*(1-R27),U27*(1-R27)),0)) | W27: =IF('Basic Elections'!$C$80="","",IF(E27>0,(V27*'summary lookup and rates'!$C$5)/1000,0)) | X27: =IF('Basic Elections'!$C$80="","",(V27*'summary lookup and rates'!$C$6)/1000) | Y27: =IF('Basic Elections'!$C$80="","",IF(AND(E27>0,'Basic Elections'!$C$29="Yes"),'summary lookup and rates'!$C$7,0)) | Z27: =IF('Basic Elections'!$C$80="","",IF(E27=0,"None",'Voluntary Elections'!$C$14)) | AA27: =IF('Basic Elections'!$C$80="","",IF((C27/52)*0.6>1000,1000,(C27/52)*0.6)) | AB27: =IF('Basic Elections'!$C$80="","",IF(OR(E27=0,Z27="None"),0,INDEX('census age lookup Vol STD'!$B$4:$E$103,MATCH(D27,'census age lookup Vol STD'!$A$4:$A$103,0),MATCH(Z27,'census age lookup Vol STD'!$B$3:$E$3,0))*(AA27/10))) | AC27: =IF('Basic Elections'!$C$80="","",IF(E27=0,"None",'Voluntary Elections'!$C$20)) | AD27: =IF('Basic Elections'!$C$80="","",IF(C27/12>10000,10000,C27/12)) | AE27: =IF('Basic Elections'!$C$80="","",IF(OR(E27=0,AC27="None"),0,INDEX('census age lookup Vol LTD'!$B$4:$E$103,MATCH(D27,'census age lookup Vol LTD'!$A$4:$A$103,0),MATCH(AC27,'census age lookup Vol LTD'!$B$3:$E$3,0))*(AD27/100)))
A28: =IF('Basic Elections'!$C$81="","",'Basic Elections'!E81) | B28: =IF('Basic Elections'!$C$81="","",'Basic Elections'!F81) | C28: =IF('Basic Elections'!$C$81="","",'Basic Elections'!G81) | D28: =IF('Basic Elections'!$C$81="","",IF(B28>0,B28,IF(A28>0,DATEDIF(A28,TODAY(),"Y"),0))) | E28: =IF('Basic Elections'!$C$81="","",IF(OR(A28<>0,B28<>0),1,0)) | F28: =IF('Basic Elections'!$C$81="","",IF(E28=1,F27+1,0)) | G28: =IF('Basic Elections'!$C$81="","",'Basic Elections'!$C$18) | H28: =IF('Basic Elections'!$C$81="","",IF(ROUNDUP(C28,-3)>100000,100000,ROUNDUP(C28,-3))) | I28: =IF('Basic Elections'!$C$81="","",'Basic Elections'!$C$29) | J28: =IF('Basic Elections'!$C$81="","",'Basic Elections'!$C$34) | K28: =IF('Basic Elections'!$C$81="","",IF(OR(J28="A",J28="B",J28="C",J28="D"),(IF((C28/52)*0.6667>1000,1000,(C28/52)*0.6667)),0)) | L28: =IF('Basic Elections'!$C$81="","",(IF(AND(J28<>"None",E28<>0),VLOOKUP(J28,STD_Rates_lookup,2,FALSE),0))*(K28/10)) | M28: =IF('Basic Elections'!$C$81="","",IF(OR(J28="E",J28="F",J28="G",J28="H"),IF((C28/52)*0.6>1000,1000,(C28/52)*0.6),0)) | N28: =IF('Basic Elections'!$C$81="","",(IF(AND(J28<>"None",E28<>0),VLOOKUP(J28,STD_Rates_lookup,2,FALSE),0))*(M28/10)) | O28: =IF('Basic Elections'!$C$81="","",'Basic Elections'!$C$45) | P28: =IF('Basic Elections'!$C$81="","",IF(C28/12>10000,10000,C28/12)) | Q28: =IF('Basic Elections'!$C$81="","",(IF(AND(O28<>"None",E28<>0),VLOOKUP(O28,LTD_Rates_lookup,2,FALSE),0))*(P28/100)) | R28: =IF('Basic Elections'!$C$81="","",IF(D28=0,0,VLOOKUP(D28,life_age_reduction,4,FALSE))) | S28: =IF('Basic Elections'!$C$81="","",IF(G28="A",H28,0)) | T28: =IF('Basic Elections'!$C$81="","",IF(OR(G28="B",G28="C",G28="D",G28="E",G28="F"),VLOOKUP(G28,summary_benefit_lookup,2,FALSE),0)) | U28: =IF('Basic Elections'!$C$81="","",T28+S28) | V28: =IF(F28="","",IF(E28>0,IF(AND(G28="A",R28>0),MIN(C28,100000)*(1-R28),U28*(1-R28)),0)) | W28: =IF('Basic Elections'!$C$81="","",IF(E28>0,(V28*'summary lookup and rates'!$C$5)/1000,0)) | X28: =IF('Basic Elections'!$C$81="","",(V28*'summary lookup and rates'!$C$6)/1000) | Y28: =IF('Basic Elections'!$C$81="","",IF(AND(E28>0,'Basic Elections'!$C$29="Yes"),'summary lookup and rates'!$C$7,0)) | Z28: =IF('Basic Elections'!$C$81="","",IF(E28=0,"None",'Voluntary Elections'!$C$14)) | AA28: =IF('Basic Elections'!$C$81="","",IF((C28/52)*0.6>1000,1000,(C28/52)*0.6)) | AB28: =IF('Basic Elections'!$C$81="","",IF(OR(E28=0,Z28="None"),0,INDEX('census age lookup Vol STD'!$B$4:$E$103,MATCH(D28,'census age lookup Vol STD'!$A$4:$A$103,0),MATCH(Z28,'census age lookup Vol STD'!$B$3:$E$3,0))*(AA28/10))) | AC28: =IF('Basic Elections'!$C$81="","",IF(E28=0,"None",'Voluntary Elections'!$C$20)) | AD28: =IF('Basic Elections'!$C$81="","",IF(C28/12>10000,10000,C28/12)) | AE28: =IF('Basic Elections'!$C$81="","",IF(OR(E28=0,AC28="None"),0,INDEX('census age lookup Vol LTD'!$B$4:$E$103,MATCH(D28,'census age lookup Vol LTD'!$A$4:$A$103,0),MATCH(AC28,'census age lookup Vol LTD'!$B$3:$E$3,0))*(AD28/100)))
A29: =IF('Basic Elections'!$C$82="","",'Basic Elections'!E82) | B29: =IF('Basic Elections'!$C$82="","",'Basic Elections'!F82) | C29: =IF('Basic Elections'!$C$82="","",'Basic Elections'!G82) | D29: =IF('Basic Elections'!$C$82="","",IF(B29>0,B29,IF(A29>0,DATEDIF(A29,TODAY(),"Y"),0))) | E29: =IF('Basic Elections'!$C$82="","",IF(OR(A29<>0,B29<>0),1,0)) | F29: =IF('Basic Elections'!$C$82="","",IF(E29=1,F28+1,0)) | G29: =IF('Basic Elections'!$C$82="","",'Basic Elections'!$C$18) | H29: =IF('Basic Elections'!$C$82="","",IF(ROUNDUP(C29,-3)>100000,100000,ROUNDUP(C29,-3))) | I29: =IF('Basic Elections'!$C$82="","",'Basic Elections'!$C$29) | J29: =IF('Basic Elections'!$C$82="","",'Basic Elections'!$C$34) | K29: =IF('Basic Elections'!$C$82="","",IF(OR(J29="A",J29="B",J29="C",J29="D"),(IF((C29/52)*0.6667>1000,1000,(C29/52)*0.6667)),0)) | L29: =IF('Basic Elections'!$C$82="","",(IF(AND(J29<>"None",E29<>0),VLOOKUP(J29,STD_Rates_lookup,2,FALSE),0))*(K29/10)) | M29: =IF('Basic Elections'!$C$82="","",IF(OR(J29="E",J29="F",J29="G",J29="H"),IF((C29/52)*0.6>1000,1000,(C29/52)*0.6),0)) | N29: =IF('Basic Elections'!$C$82="","",(IF(AND(J29<>"None",E29<>0),VLOOKUP(J29,STD_Rates_lookup,2,FALSE),0))*(M29/10)) | O29: =IF('Basic Elections'!$C$82="","",'Basic Elections'!$C$45) | P29: =IF('Basic Elections'!$C$82="","",IF(C29/12>10000,10000,C29/12)) | Q29: =IF('Basic Elections'!$C$82="","",(IF(AND(O29<>"None",E29<>0),VLOOKUP(O29,LTD_Rates_lookup,2,FALSE),0))*(P29/100)) | R29: =IF('Basic Elections'!$C$82="","",IF(D29=0,0,VLOOKUP(D29,life_age_reduction,4,FALSE))) | S29: =IF('Basic Elections'!$C$82="","",IF(G29="A",H29,0)) | T29: =IF('Basic Elections'!$C$82="","",IF(OR(G29="B",G29="C",G29="D",G29="E",G29="F"),VLOOKUP(G29,summary_benefit_lookup,2,FALSE),0)) | U29: =IF('Basic Elections'!$C$82="","",T29+S29) | V29: =IF(F29="","",IF(E29>0,IF(AND(G29="A",R29>0),MIN(C29,100000)*(1-R29),U29*(1-R29)),0)) | W29: =IF('Basic Elections'!$C$82="","",IF(E29>0,(V29*'summary lookup and rates'!$C$5)/1000,0)) | X29: =IF('Basic Elections'!$C$82="","",(V29*'summary lookup and rates'!$C$6)/1000) | Y29: =IF('Basic Elections'!$C$82="","",IF(AND(E29>0,'Basic Elections'!$C$29="Yes"),'summary lookup and rates'!$C$7,0)) | Z29: =IF('Basic Elections'!$C$82="","",IF(E29=0,"None",'Voluntary Elections'!$C$14)) | AA29: =IF('Basic Elections'!$C$82="","",IF((C29/52)*0.6>1000,1000,(C29/52)*0.6)) | AB29: =IF('Basic Elections'!$C$82="","",IF(OR(E29=0,Z29="None"),0,INDEX('census age lookup Vol STD'!$B$4:$E$103,MATCH(D29,'census age lookup Vol STD'!$A$4:$A$103,0),MATCH(Z29,'census age lookup Vol STD'!$B$3:$E$3,0))*(AA29/10))) | AC29: =IF('Basic Elections'!$C$82="","",IF(E29=0,"None",'Voluntary Elections'!$C$20)) | AD29: =IF('Basic Elections'!$C$82="","",IF(C29/12>10000,10000,C29/12)) | AE29: =IF('Basic Elections'!$C$82="","",IF(OR(E29=0,AC29="None"),0,INDEX('census age lookup Vol LTD'!$B$4:$E$103,MATCH(D29,'census age lookup Vol LTD'!$A$4:$A$103,0),MATCH(AC29,'census age lookup Vol LTD'!$B$3:$E$3,0))*(AD29/100)))
A30: =IF('Basic Elections'!$C$83="","",'Basic Elections'!E83) | B30: =IF('Basic Elections'!$C$83="","",'Basic Elections'!F83) | C30: =IF('Basic Elections'!$C$83="","",'Basic Elections'!G83) | D30: =IF('Basic Elections'!$C$83="","",IF(B30>0,B30,IF(A30>0,DATEDIF(A30,TODAY(),"Y"),0))) | E30: =IF('Basic Elections'!$C$83="","",IF(OR(A30<>0,B30<>0),1,0)) | F30: =IF('Basic Elections'!$C$83="","",IF(E30=1,F29+1,0)) | G30: =IF('Basic Elections'!$C$83="","",'Basic Elections'!$C$18) | H30: =IF('Basic Elections'!$C$83="","",IF(ROUNDUP(C30,-3)>100000,100000,ROUNDUP(C30,-3))) | I30: =IF('Basic Elections'!$C$83="","",'Basic Elections'!$C$29) | J30: =IF('Basic Elections'!$C$83="","",'Basic Elections'!$C$34) | K30: =IF('Basic Elections'!$C$83="","",IF(OR(J30="A",J30="B",J30="C",J30="D"),(IF((C30/52)*0.6667>1000,1000,(C30/52)*0.6667)),0)) | L30: =IF('Basic Elections'!$C$83="","",(IF(AND(J30<>"None",E30<>0),VLOOKUP(J30,STD_Rates_lookup,2,FALSE),0))*(K30/10)) | M30: =IF('Basic Elections'!$C$83="","",IF(OR(J30="E",J30="F",J30="G",J30="H"),IF((C30/52)*0.6>1000,1000,(C30/52)*0.6),0)) | N30: =IF('Basic Elections'!$C$83="","",(IF(AND(J30<>"None",E30<>0),VLOOKUP(J30,STD_Rates_lookup,2,FALSE),0))*(M30/10)) | O30: =IF('Basic Elections'!$C$83="","",'Basic Elections'!$C$45) | P30: =IF('Basic Elections'!$C$83="","",IF(C30/12>10000,10000,C30/12)) | Q30: =IF('Basic Elections'!$C$83="","",(IF(AND(O30<>"None",E30<>0),VLOOKUP(O30,LTD_Rates_lookup,2,FALSE),0))*(P30/100)) | R30: =IF('Basic Elections'!$C$83="","",IF(D30=0,0,VLOOKUP(D30,life_age_reduction,4,FALSE))) | S30: =IF('Basic Elections'!$C$83="","",IF(G30="A",H30,0)) | T30: =IF('Basic Elections'!$C$83="","",IF(OR(G30="B",G30="C",G30="D",G30="E",G30="F"),VLOOKUP(G30,summary_benefit_lookup,2,FALSE),0)) | U30: =IF('Basic Elections'!$C$83="","",T30+S30) | V30: =IF(F30="","",IF(E30>0,IF(AND(G30="A",R30>0),MIN(C30,100000)*(1-R30),U30*(1-R30)),0)) | W30: =IF('Basic Elections'!$C$83="","",IF(E30>0,(V30*'summary lookup and rates'!$C$5)/1000,0)) | X30: =IF('Basic Elections'!$C$83="","",(V30*'summary lookup and rates'!$C$6)/1000) | Y30: =IF('Basic Elections'!$C$83="","",IF(AND(E30>0,'Basic Elections'!$C$29="Yes"),'summary lookup and rates'!$C$7,0)) | Z30: =IF('Basic Elections'!$C$83="","",IF(E30=0,"None",'Voluntary Elections'!$C$14)) | AA30: =IF('Basic Elections'!$C$83="","",IF((C30/52)*0.6>1000,1000,(C30/52)*0.6)) | AB30: =IF('Basic Elections'!$C$83="","",IF(OR(E30=0,Z30="None"),0,INDEX('census age lookup Vol STD'!$B$4:$E$103,MATCH(D30,'census age lookup Vol STD'!$A$4:$A$103,0),MATCH(Z30,'census age lookup Vol STD'!$B$3:$E$3,0))*(AA30/10))) | AC30: =IF('Basic Elections'!$C$83="","",IF(E30=0,"None",'Voluntary Elections'!$C$20)) | AD30: =IF('Basic Elections'!$C$83="","",IF(C30/12>10000,10000,C30/12)) | AE30: =IF('Basic Elections'!$C$83="","",IF(OR(E30=0,AC30="None"),0,INDEX('census age lookup Vol LTD'!$B$4:$E$103,MATCH(D30,'census age lookup Vol LTD'!$A$4:$A$103,0),MATCH(AC30,'census age lookup Vol LTD'!$B$3:$E$3,0))*(AD30/100)))
A31: =IF('Basic Elections'!$C$84="","",'Basic Elections'!E84) | B31: =IF('Basic Elections'!$C$84="","",'Basic Elections'!F84) | C31: =IF('Basic Elections'!$C$84="","",'Basic Elections'!G84) | D31: =IF('Basic Elections'!$C$84="","",IF(B31>0,B31,IF(A31>0,DATEDIF(A31,TODAY(),"Y"),0))) | E31: =IF('Basic Elections'!$C$84="","",IF(OR(A31<>0,B31<>0),1,0)) | F31: =IF('Basic Elections'!$C$84="","",IF(E31=1,F30+1,0)) | G31: =IF('Basic Elections'!$C$84="","",'Basic Elections'!$C$18) | H31: =IF('Basic Elections'!$C$84="","",IF(ROUNDUP(C31,-3)>100000,100000,ROUNDUP(C31,-3))) | I31: =IF('Basic Elections'!$C$84="","",'Basic Elections'!$C$29) | J31: =IF('Basic Elections'!$C$84="","",'Basic Elections'!$C$34) | K31: =IF('Basic Elections'!$C$84="","",IF(OR(J31="A",J31="B",J31="C",J31="D"),(IF((C31/52)*0.6667>1000,1000,(C31/52)*0.6667)),0)) | L31: =IF('Basic Elections'!$C$84="","",(IF(AND(J31<>"None",E31<>0),VLOOKUP(J31,STD_Rates_lookup,2,FALSE),0))*(K31/10)) | M31: =IF('Basic Elections'!$C$84="","",IF(OR(J31="E",J31="F",J31="G",J31="H"),IF((C31/52)*0.6>1000,1000,(C31/52)*0.6),0)) | N31: =IF('Basic Elections'!$C$84="","",(IF(AND(J31<>"None",E31<>0),VLOOKUP(J31,STD_Rates_lookup,2,FALSE),0))*(M31/10)) | O31: =IF('Basic Elections'!$C$84="","",'Basic Elections'!$C$45) | P31: =IF('Basic Elections'!$C$84="","",IF(C31/12>10000,10000,C31/12)) | Q31: =IF('Basic Elections'!$C$84="","",(IF(AND(O31<>"None",E31<>0),VLOOKUP(O31,LTD_Rates_lookup,2,FALSE),0))*(P31/100)) | R31: =IF('Basic Elections'!$C$84="","",IF(D31=0,0,VLOOKUP(D31,life_age_reduction,4,FALSE))) | S31: =IF('Basic Elections'!$C$84="","",IF(G31="A",H31,0)) | T31: =IF('Basic Elections'!$C$84="","",IF(OR(G31="B",G31="C",G31="D",G31="E",G31="F"),VLOOKUP(G31,summary_benefit_lookup,2,FALSE),0)) | U31: =IF('Basic Elections'!$C$84="","",T31+S31) | V31: =IF(F31="","",IF(E31>0,IF(AND(G31="A",R31>0),MIN(C31,100000)*(1-R31),U31*(1-R31)),0)) | W31: =IF('Basic Elections'!$C$84="","",IF(E31>0,(V31*'summary lookup and rates'!$C$5)/1000,0)) | X31: =IF('Basic Elections'!$C$84="","",(V31*'summary lookup and rates'!$C$6)/1000) | Y31: =IF('Basic Elections'!$C$84="","",IF(AND(E31>0,'Basic Elections'!$C$29="Yes"),'summary lookup and rates'!$C$7,0)) | Z31: =IF('Basic Elections'!$C$84="","",IF(E31=0,"None",'Voluntary Elections'!$C$14)) | AA31: =IF('Basic Elections'!$C$84="","",IF((C31/52)*0.6>1000,1000,(C31/52)*0.6)) | AB31: =IF('Basic Elections'!$C$84="","",IF(OR(E31=0,Z31="None"),0,INDEX('census age lookup Vol STD'!$B$4:$E$103,MATCH(D31,'census age lookup Vol STD'!$A$4:$A$103,0),MATCH(Z31,'census age lookup Vol STD'!$B$3:$E$3,0))*(AA31/10))) | AC31: =IF('Basic Elections'!$C$84="","",IF(E31=0,"None",'Voluntary Elections'!$C$20)) | AD31: =IF('Basic Elections'!$C$84="","",IF(C31/12>10000,10000,C31/12)) | AE31: =IF('Basic Elections'!$C$84="","",IF(OR(E31=0,AC31="None"),0,INDEX('census age lookup Vol LTD'!$B$4:$E$103,MATCH(D31,'census age lookup Vol LTD'!$A$4:$A$103,0),MATCH(AC31,'census age lookup Vol LTD'!$B$3:$E$3,0))*(AD31/100)))
A32: =IF('Basic Elections'!$C$85="","",'Basic Elections'!E85) | B32: =IF('Basic Elections'!$C$85="","",'Basic Elections'!F85) | C32: =IF('Basic Elections'!$C$85="","",'Basic Elections'!G85) | D32: =IF('Basic Elections'!$C$85="","",IF(B32>0,B32,IF(A32>0,DATEDIF(A32,TODAY(),"Y"),0))) | E32: =IF('Basic Elections'!$C$85="","",IF(OR(A32<>0,B32<>0),1,0)) | F32: =IF('Basic Elections'!$C$85="","",IF(E32=1,F31+1,0)) | G32: =IF('Basic Elections'!$C$85="","",'Basic Elections'!$C$18) | H32: =IF('Basic Elections'!$C$85="","",IF(ROUNDUP(C32,-3)>100000,100000,ROUNDUP(C32,-3))) | I32: =IF('Basic Elections'!$C$85="","",'Basic Elections'!$C$29) | J32: =IF('Basic Elections'!$C$85="","",'Basic Elections'!$C$34) | K32: =IF('Basic Elections'!$C$85="","",IF(OR(J32="A",J32="B",J32="C",J32="D"),(IF((C32/52)*0.6667>1000,1000,(C32/52)*0.6667)),0)) | L32: =IF('Basic Elections'!$C$85="","",(IF(AND(J32<>"None",E32<>0),VLOOKUP(J32,STD_Rates_lookup,2,FALSE),0))*(K32/10)) | M32: =IF('Basic Elections'!$C$85="","",IF(OR(J32="E",J32="F",J32="G",J32="H"),IF((C32/52)*0.6>1000,1000,(C32/52)*0.6),0)) | N32: =IF('Basic Elections'!$C$85="","",(IF(AND(J32<>"None",E32<>0),VLOOKUP(J32,STD_Rates_lookup,2,FALSE),0))*(M32/10)) | O32: =IF('Basic Elections'!$C$85="","",'Basic Elections'!$C$45) | P32: =IF('Basic Elections'!$C$85="","",IF(C32/12>10000,10000,C32/12)) | Q32: =IF('Basic Elections'!$C$85="","",(IF(AND(O32<>"None",E32<>0),VLOOKUP(O32,LTD_Rates_lookup,2,FALSE),0))*(P32/100)) | R32: =IF('Basic Elections'!$C$85="","",IF(D32=0,0,VLOOKUP(D32,life_age_reduction,4,FALSE))) | S32: =IF('Basic Elections'!$C$85="","",IF(G32="A",H32,0)) | T32: =IF('Basic Elections'!$C$85="","",IF(OR(G32="B",G32="C",G32="D",G32="E",G32="F"),VLOOKUP(G32,summary_benefit_lookup,2,FALSE),0)) | U32: =IF('Basic Elections'!$C$85="","",T32+S32) | V32: =IF(F32="","",IF(E32>0,IF(AND(G32="A",R32>0),MIN(C32,100000)*(1-R32),U32*(1-R32)),0)) | W32: =IF('Basic Elections'!$C$85="","",IF(E32>0,(V32*'summary lookup and rates'!$C$5)/1000,0)) | X32: =IF('Basic Elections'!$C$85="","",(V32*'summary lookup and rates'!$C$6)/1000) | Y32: =IF('Basic Elections'!$C$85="","",IF(AND(E32>0,'Basic Elections'!$C$29="Yes"),'summary lookup and rates'!$C$7,0)) | Z32: =IF('Basic Elections'!$C$85="","",IF(E32=0,"None",'Voluntary Elections'!$C$14)) | AA32: =IF('Basic Elections'!$C$85="","",IF((C32/52)*0.6>1000,1000,(C32/52)*0.6)) | AB32: =IF('Basic Elections'!$C$85="","",IF(OR(E32=0,Z32="None"),0,INDEX('census age lookup Vol STD'!$B$4:$E$103,MATCH(D32,'census age lookup Vol STD'!$A$4:$A$103,0),MATCH(Z32,'census age lookup Vol STD'!$B$3:$E$3,0))*(AA32/10))) | AC32: =IF('Basic Elections'!$C$85="","",IF(E32=0,"None",'Voluntary Elections'!$C$20)) | AD32: =IF('Basic Elections'!$C$85="","",IF(C32/12>10000,10000,C32/12)) | AE32: =IF('Basic Elections'!$C$85="","",IF(OR(E32=0,AC32="None"),0,INDEX('census age lookup Vol LTD'!$B$4:$E$103,MATCH(D32,'census age lookup Vol LTD'!$A$4:$A$103,0),MATCH(AC32,'census age lookup Vol LTD'!$B$3:$E$3,0))*(AD32/100)))
A33: =IF('Basic Elections'!$C$86="","",'Basic Elections'!E86) | B33: =IF('Basic Elections'!$C$86="","",'Basic Elections'!F86) | C33: =IF('Basic Elections'!$C$86="","",'Basic Elections'!G86) | D33: =IF('Basic Elections'!$C$86="","",IF(B33>0,B33,IF(A33>0,DATEDIF(A33,TODAY(),"Y"),0))) | E33: =IF('Basic Elections'!$C$86="","",IF(OR(A33<>0,B33<>0),1,0)) | F33: =IF('Basic Elections'!$C$86="","",IF(E33=1,F32+1,0)) | G33: =IF('Basic Elections'!$C$86="","",'Basic Elections'!$C$18) | H33: =IF('Basic Elections'!$C$86="","",IF(ROUNDUP(C33,-3)>100000,100000,ROUNDUP(C33,-3))) | I33: =IF('Basic Elections'!$C$86="","",'Basic Elections'!$C$29) | J33: =IF('Basic Elections'!$C$86="","",'Basic Elections'!$C$34) | K33: =IF('Basic Elections'!$C$86="","",IF(OR(J33="A",J33="B",J33="C",J33="D"),(IF((C33/52)*0.6667>1000,1000,(C33/52)*0.6667)),0)) | L33: =IF('Basic Elections'!$C$86="","",(IF(AND(J33<>"None",E33<>0),VLOOKUP(J33,STD_Rates_lookup,2,FALSE),0))*(K33/10)) | M33: =IF('Basic Elections'!$C$86="","",IF(OR(J33="E",J33="F",J33="G",J33="H"),IF((C33/52)*0.6>1000,1000,(C33/52)*0.6),0)) | N33: =IF('Basic Elections'!$C$86="","",(IF(AND(J33<>"None",E33<>0),VLOOKUP(J33,STD_Rates_lookup,2,FALSE),0))*(M33/10)) | O33: =IF('Basic Elections'!$C$86="","",'Basic Elections'!$C$45) | P33: =IF('Basic Elections'!$C$86="","",IF(C33/12>10000,10000,C33/12)) | Q33: =IF('Basic Elections'!$C$86="","",(IF(AND(O33<>"None",E33<>0),VLOOKUP(O33,LTD_Rates_lookup,2,FALSE),0))*(P33/100)) | R33: =IF('Basic Elections'!$C$86="","",IF(D33=0,0,VLOOKUP(D33,life_age_reduction,4,FALSE))) | S33: =IF('Basic Elections'!$C$86="","",IF(G33="A",H33,0)) | T33: =IF('Basic Elections'!$C$86="","",IF(OR(G33="B",G33="C",G33="D",G33="E",G33="F"),VLOOKUP(G33,summary_benefit_lookup,2,FALSE),0)) | U33: =IF('Basic Elections'!$C$86="","",T33+S33) | V33: =IF(F33="","",IF(E33>0,IF(AND(G33="A",R33>0),MIN(C33,100000)*(1-R33),U33*(1-R33)),0)) | W33: =IF('Basic Elections'!$C$86="","",IF(E33>0,(V33*'summary lookup and rates'!$C$5)/1000,0)) | X33: =IF('Basic Elections'!$C$86="","",(V33*'summary lookup and rates'!$C$6)/1000) | Y33: =IF('Basic Elections'!$C$86="","",IF(AND(E33>0,'Basic Elections'!$C$29="Yes"),'summary lookup and rates'!$C$7,0)) | Z33: =IF('Basic Elections'!$C$86="","",IF(E33=0,"None",'Voluntary Elections'!$C$14)) | AA33: =IF('Basic Elections'!$C$86="","",IF((C33/52)*0.6>1000,1000,(C33/52)*0.6)) | AB33: =IF('Basic Elections'!$C$86="","",IF(OR(E33=0,Z33="None"),0,INDEX('census age lookup Vol STD'!$B$4:$E$103,MATCH(D33,'census age lookup Vol STD'!$A$4:$A$103,0),MATCH(Z33,'census age lookup Vol STD'!$B$3:$E$3,0))*(AA33/10))) | AC33: =IF('Basic Elections'!$C$86="","",IF(E33=0,"None",'Voluntary Elections'!$C$20)) | AD33: =IF('Basic Elections'!$C$86="","",IF(C33/12>10000,10000,C33/12)) | AE33: =IF('Basic Elections'!$C$86="","",IF(OR(E33=0,AC33="None"),0,INDEX('census age lookup Vol LTD'!$B$4:$E$103,MATCH(D33,'census age lookup Vol LTD'!$A$4:$A$103,0),MATCH(AC33,'census age lookup Vol LTD'!$B$3:$E$3,0))*(AD33/100)))
A34: =IF('Basic Elections'!$C$87="","",'Basic Elections'!E87) | B34: =IF('Basic Elections'!$C$87="","",'Basic Elections'!F87) | C34: =IF('Basic Elections'!$C$87="","",'Basic Elections'!G87) | D34: =IF('Basic Elections'!$C$87="","",IF(B34>0,B34,IF(A34>0,DATEDIF(A34,TODAY(),"Y"),0))) | E34: =IF('Basic Elections'!$C$87="","",IF(OR(A34<>0,B34<>0),1,0)) | F34: =IF('Basic Elections'!$C$87="","",IF(E34=1,F33+1,0)) | G34: =IF('Basic Elections'!$C$87="","",'Basic Elections'!$C$18) | H34: =IF('Basic Elections'!$C$87="","",IF(ROUNDUP(C34,-3)>100000,100000,ROUNDUP(C34,-3))) | I34: =IF('Basic Elections'!$C$87="","",'Basic Elections'!$C$29) | J34: =IF('Basic Elections'!$C$87="","",'Basic Elections'!$C$34) | K34: =IF('Basic Elections'!$C$87="","",IF(OR(J34="A",J34="B",J34="C",J34="D"),(IF((C34/52)*0.6667>1000,1000,(C34/52)*0.6667)),0)) | L34: =IF('Basic Elections'!$C$87="","",(IF(AND(J34<>"None",E34<>0),VLOOKUP(J34,STD_Rates_lookup,2,FALSE),0))*(K34/10)) | M34: =IF('Basic Elections'!$C$87="","",IF(OR(J34="E",J34="F",J34="G",J34="H"),IF((C34/52)*0.6>1000,1000,(C34/52)*0.6),0)) | N34: =IF('Basic Elections'!$C$87="","",(IF(AND(J34<>"None",E34<>0),VLOOKUP(J34,STD_Rates_lookup,2,FALSE),0))*(M34/10)) | O34: =IF('Basic Elections'!$C$87="","",'Basic Elections'!$C$45) | P34: =IF('Basic Elections'!$C$87="","",IF(C34/12>10000,10000,C34/12)) | Q34: =IF('Basic Elections'!$C$87="","",(IF(AND(O34<>"None",E34<>0),VLOOKUP(O34,LTD_Rates_lookup,2,FALSE),0))*(P34/100)) | R34: =IF('Basic Elections'!$C$87="","",IF(D34=0,0,VLOOKUP(D34,life_age_reduction,4,FALSE))) | S34: =IF('Basic Elections'!$C$87="","",IF(G34="A",H34,0)) | T34: =IF('Basic Elections'!$C$87="","",IF(OR(G34="B",G34="C",G34="D",G34="E",G34="F"),VLOOKUP(G34,summary_benefit_lookup,2,FALSE),0)) | U34: =IF('Basic Elections'!$C$87="","",T34+S34) | V34: =IF(F34="","",IF(E34>0,IF(AND(G34="A",R34>0),MIN(C34,100000)*(1-R34),U34*(1-R34)),0)) | W34: =IF('Basic Elections'!$C$87="","",IF(E34>0,(V34*'summary lookup and rates'!$C$5)/1000,0)) | X34: =IF('Basic Elections'!$C$87="","",(V34*'summary lookup and rates'!$C$6)/1000) | Y34: =IF('Basic Elections'!$C$87="","",IF(AND(E34>0,'Basic Elections'!$C$29="Yes"),'summary lookup and rates'!$C$7,0)) | Z34: =IF('Basic Elections'!$C$87="","",IF(E34=0,"None",'Voluntary Elections'!$C$14)) | AA34: =IF('Basic Elections'!$C$87="","",IF((C34/52)*0.6>1000,1000,(C34/52)*0.6)) | AB34: =IF('Basic Elections'!$C$87="","",IF(OR(E34=0,Z34="None"),0,INDEX('census age lookup Vol STD'!$B$4:$E$103,MATCH(D34,'census age lookup Vol STD'!$A$4:$A$103,0),MATCH(Z34,'census age lookup Vol STD'!$B$3:$E$3,0))*(AA34/10))) | AC34: =IF('Basic Elections'!$C$87="","",IF(E34=0,"None",'Voluntary Elections'!$C$20)) | AD34: =IF('Basic Elections'!$C$87="","",IF(C34/12>10000,10000,C34/12)) | AE34: =IF('Basic Elections'!$C$87="","",IF(OR(E34=0,AC34="None"),0,INDEX('census age lookup Vol LTD'!$B$4:$E$103,MATCH(D34,'census age lookup Vol LTD'!$A$4:$A$103,0),MATCH(AC34,'census age lookup Vol LTD'!$B$3:$E$3,0))*(AD34/100)))
A35: =IF('Basic Elections'!$C$88="","",'Basic Elections'!E88) | B35: =IF('Basic Elections'!$C$88="","",'Basic Elections'!F88) | C35: =IF('Basic Elections'!$C$88="","",'Basic Elections'!G88) | D35: =IF('Basic Elections'!$C$88="","",IF(B35>0,B35,IF(A35>0,DATEDIF(A35,TODAY(),"Y"),0))) | E35: =IF('Basic Elections'!$C$88="","",IF(OR(A35<>0,B35<>0),1,0)) | F35: =IF('Basic Elections'!$C$88="","",IF(E35=1,F34+1,0)) | G35: =IF('Basic Elections'!$C$88="","",'Basic Elections'!$C$18) | H35: =IF('Basic Elections'!$C$88="","",IF(ROUNDUP(C35,-3)>100000,100000,ROUNDUP(C35,-3))) | I35: =IF('Basic Elections'!$C$88="","",'Basic Elections'!$C$29) | J35: =IF('Basic Elections'!$C$88="","",'Basic Elections'!$C$34) | K35: =IF('Basic Elections'!$C$88="","",IF(OR(J35="A",J35="B",J35="C",J35="D"),(IF((C35/52)*0.6667>1000,1000,(C35/52)*0.6667)),0)) | L35: =IF('Basic Elections'!$C$88="","",(IF(AND(J35<>"None",E35<>0),VLOOKUP(J35,STD_Rates_lookup,2,FALSE),0))*(K35/10)) | M35: =IF('Basic Elections'!$C$88="","",IF(OR(J35="E",J35="F",J35="G",J35="H"),IF((C35/52)*0.6>1000,1000,(C35/52)*0.6),0)) | N35: =IF('Basic Elections'!$C$88="","",(IF(AND(J35<>"None",E35<>0),VLOOKUP(J35,STD_Rates_lookup,2,FALSE),0))*(M35/10)) | O35: =IF('Basic Elections'!$C$88="","",'Basic Elections'!$C$45) | P35: =IF('Basic Elections'!$C$88="","",IF(C35/12>10000,10000,C35/12)) | Q35: =IF('Basic Elections'!$C$88="","",(IF(AND(O35<>"None",E35<>0),VLOOKUP(O35,LTD_Rates_lookup,2,FALSE),0))*(P35/100)) | R35: =IF('Basic Elections'!$C$88="","",IF(D35=0,0,VLOOKUP(D35,life_age_reduction,4,FALSE))) | S35: =IF('Basic Elections'!$C$88="","",IF(G35="A",H35,0)) | T35: =IF('Basic Elections'!$C$88="","",IF(OR(G35="B",G35="C",G35="D",G35="E",G35="F"),VLOOKUP(G35,summary_benefit_lookup,2,FALSE),0)) | U35: =IF('Basic Elections'!$C$88="","",T35+S35) | V35: =IF(F35="","",IF(E35>0,IF(AND(G35="A",R35>0),MIN(C35,100000)*(1-R35),U35*(1-R35)),0)) | W35: =IF('Basic Elections'!$C$88="","",IF(E35>0,(V35*'summary lookup and rates'!$C$5)/1000,0)) | X35: =IF('Basic Elections'!$C$88="","",(V35*'summary lookup and rates'!$C$6)/1000) | Y35: =IF('Basic Elections'!$C$88="","",IF(AND(E35>0,'Basic Elections'!$C$29="Yes"),'summary lookup and rates'!$C$7,0)) | Z35: =IF('Basic Elections'!$C$88="","",IF(E35=0,"None",'Voluntary Elections'!$C$14)) | AA35: =IF('Basic Elections'!$C$88="","",IF((C35/52)*0.6>1000,1000,(C35/52)*0.6)) | AB35: =IF('Basic Elections'!$C$88="","",IF(OR(E35=0,Z35="None"),0,INDEX('census age lookup Vol STD'!$B$4:$E$103,MATCH(D35,'census age lookup Vol STD'!$A$4:$A$103,0),MATCH(Z35,'census age lookup Vol STD'!$B$3:$E$3,0))*(AA35/10))) | AC35: =IF('Basic Elections'!$C$88="","",IF(E35=0,"None",'Voluntary Elections'!$C$20)) | AD35: =IF('Basic Elections'!$C$88="","",IF(C35/12>10000,10000,C35/12)) | AE35: =IF('Basic Elections'!$C$88="","",IF(OR(E35=0,AC35="None"),0,INDEX('census age lookup Vol LTD'!$B$4:$E$103,MATCH(D35,'census age lookup Vol LTD'!$A$4:$A$103,0),MATCH(AC35,'census age lookup Vol LTD'!$B$3:$E$3,0))*(AD35/100)))
A36: =IF('Basic Elections'!$C$89="","",'Basic Elections'!E89) | B36: =IF('Basic Elections'!$C$89="","",'Basic Elections'!F89) | C36: =IF('Basic Elections'!$C$89="","",'Basic Elections'!G89) | D36: =IF('Basic Elections'!$C$89="","",IF(B36>0,B36,IF(A36>0,DATEDIF(A36,TODAY(),"Y"),0))) | E36: =IF('Basic Elections'!$C$89="","",IF(OR(A36<>0,B36<>0),1,0)) | F36: =IF('Basic Elections'!$C$89="","",IF(E36=1,F35+1,0)) | G36: =IF('Basic Elections'!$C$89="","",'Basic Elections'!$C$18) | H36: =IF('Basic Elections'!$C$89="","",IF(ROUNDUP(C36,-3)>100000,100000,ROUNDUP(C36,-3))) | I36: =IF('Basic Elections'!$C$89="","",'Basic Elections'!$C$29) | J36: =IF('Basic Elections'!$C$89="","",'Basic Elections'!$C$34) | K36: =IF('Basic Elections'!$C$89="","",IF(OR(J36="A",J36="B",J36="C",J36="D"),(IF((C36/52)*0.6667>1000,1000,(C36/52)*0.6667)),0)) | L36: =IF('Basic Elections'!$C$89="","",(IF(AND(J36<>"None",E36<>0),VLOOKUP(J36,STD_Rates_lookup,2,FALSE),0))*(K36/10)) | M36: =IF('Basic Elections'!$C$89="","",IF(OR(J36="E",J36="F",J36="G",J36="H"),IF((C36/52)*0.6>1000,1000,(C36/52)*0.6),0)) | N36: =IF('Basic Elections'!$C$89="","",(IF(AND(J36<>"None",E36<>0),VLOOKUP(J36,STD_Rates_lookup,2,FALSE),0))*(M36/10)) | O36: =IF('Basic Elections'!$C$89="","",'Basic Elections'!$C$45) | P36: =IF('Basic Elections'!$C$89="","",IF(C36/12>10000,10000,C36/12)) | Q36: =IF('Basic Elections'!$C$89="","",(IF(AND(O36<>"None",E36<>0),VLOOKUP(O36,LTD_Rates_lookup,2,FALSE),0))*(P36/100)) | R36: =IF('Basic Elections'!$C$89="","",IF(D36=0,0,VLOOKUP(D36,life_age_reduction,4,FALSE))) | S36: =IF('Basic Elections'!$C$89="","",IF(G36="A",H36,0)) | T36: =IF('Basic Elections'!$C$89="","",IF(OR(G36="B",G36="C",G36="D",G36="E",G36="F"),VLOOKUP(G36,summary_benefit_lookup,2,FALSE),0)) | U36: =IF('Basic Elections'!$C$89="","",T36+S36) | V36: =IF(F36="","",IF(E36>0,IF(AND(G36="A",R36>0),MIN(C36,100000)*(1-R36),U36*(1-R36)),0)) | W36: =IF('Basic Elections'!$C$89="","",IF(E36>0,(V36*'summary lookup and rates'!$C$5)/1000,0)) | X36: =IF('Basic Elections'!$C$89="","",(V36*'summary lookup and rates'!$C$6)/1000) | Y36: =IF('Basic Elections'!$C$89="","",IF(AND(E36>0,'Basic Elections'!$C$29="Yes"),'summary lookup and rates'!$C$7,0)) | Z36: =IF('Basic Elections'!$C$89="","",IF(E36=0,"None",'Voluntary Elections'!$C$14)) | AA36: =IF('Basic Elections'!$C$89="","",IF((C36/52)*0.6>1000,1000,(C36/52)*0.6)) | AB36: =IF('Basic Elections'!$C$89="","",IF(OR(E36=0,Z36="None"),0,INDEX('census age lookup Vol STD'!$B$4:$E$103,MATCH(D36,'census age lookup Vol STD'!$A$4:$A$103,0),MATCH(Z36,'census age lookup Vol STD'!$B$3:$E$3,0))*(AA36/10))) | AC36: =IF('Basic Elections'!$C$89="","",IF(E36=0,"None",'Voluntary Elections'!$C$20)) | AD36: =IF('Basic Elections'!$C$89="","",IF(C36/12>10000,10000,C36/12)) | AE36: =IF('Basic Elections'!$C$89="","",IF(OR(E36=0,AC36="None"),0,INDEX('census age lookup Vol LTD'!$B$4:$E$103,MATCH(D36,'census age lookup Vol LTD'!$A$4:$A$103,0),MATCH(AC36,'census age lookup Vol LTD'!$B$3:$E$3,0))*(AD36/100)))
A37: =IF('Basic Elections'!$C$90="","",'Basic Elections'!E90) | B37: =IF('Basic Elections'!$C$90="","",'Basic Elections'!F90) | C37: =IF('Basic Elections'!$C$90="","",'Basic Elections'!G90) | D37: =IF('Basic Elections'!$C$90="","",IF(B37>0,B37,IF(A37>0,DATEDIF(A37,TODAY(),"Y"),0))) | E37: =IF('Basic Elections'!$C$90="","",IF(OR(A37<>0,B37<>0),1,0)) | F37: =IF('Basic Elections'!$C$90="","",IF(E37=1,F36+1,0)) | G37: =IF('Basic Elections'!$C$90="","",'Basic Elections'!$C$18) | H37: =IF('Basic Elections'!$C$90="","",IF(ROUNDUP(C37,-3)>100000,100000,ROUNDUP(C37,-3))) | I37: =IF('Basic Elections'!$C$90="","",'Basic Elections'!$C$29) | J37: =IF('Basic Elections'!$C$90="","",'Basic Elections'!$C$34) | K37: =IF('Basic Elections'!$C$90="","",IF(OR(J37="A",J37="B",J37="C",J37="D"),(IF((C37/52)*0.6667>1000,1000,(C37/52)*0.6667)),0)) | L37: =IF('Basic Elections'!$C$90="","",(IF(AND(J37<>"None",E37<>0),VLOOKUP(J37,STD_Rates_lookup,2,FALSE),0))*(K37/10)) | M37: =IF('Basic Elections'!$C$90="","",IF(OR(J37="E",J37="F",J37="G",J37="H"),IF((C37/52)*0.6>1000,1000,(C37/52)*0.6),0)) | N37: =IF('Basic Elections'!$C$90="","",(IF(AND(J37<>"None",E37<>0),VLOOKUP(J37,STD_Rates_lookup,2,FALSE),0))*(M37/10)) | O37: =IF('Basic Elections'!$C$90="","",'Basic Elections'!$C$45) | P37: =IF('Basic Elections'!$C$90="","",IF(C37/12>10000,10000,C37/12)) | Q37: =IF('Basic Elections'!$C$90="","",(IF(AND(O37<>"None",E37<>0),VLOOKUP(O37,LTD_Rates_lookup,2,FALSE),0))*(P37/100)) | R37: =IF('Basic Elections'!$C$90="","",IF(D37=0,0,VLOOKUP(D37,life_age_reduction,4,FALSE))) | S37: =IF('Basic Elections'!$C$90="","",IF(G37="A",H37,0)) | T37: =IF('Basic Elections'!$C$90="","",IF(OR(G37="B",G37="C",G37="D",G37="E",G37="F"),VLOOKUP(G37,summary_benefit_lookup,2,FALSE),0)) | U37: =IF('Basic Elections'!$C$90="","",T37+S37) | V37: =IF(F37="","",IF(E37>0,IF(AND(G37="A",R37>0),MIN(C37,100000)*(1-R37),U37*(1-R37)),0)) | W37: =IF('Basic Elections'!$C$90="","",IF(E37>0,(V37*'summary lookup and rates'!$C$5)/1000,0)) | X37: =IF('Basic Elections'!$C$90="","",(V37*'summary lookup and rates'!$C$6)/1000) | Y37: =IF('Basic Elections'!$C$90="","",IF(AND(E37>0,'Basic Elections'!$C$29="Yes"),'summary lookup and rates'!$C$7,0)) | Z37: =IF('Basic Elections'!$C$90="","",IF(E37=0,"None",'Voluntary Elections'!$C$14)) | AA37: =IF('Basic Elections'!$C$90="","",IF((C37/52)*0.6>1000,1000,(C37/52)*0.6)) | AB37: =IF('Basic Elections'!$C$90="","",IF(OR(E37=0,Z37="None"),0,INDEX('census age lookup Vol STD'!$B$4:$E$103,MATCH(D37,'census age lookup Vol STD'!$A$4:$A$103,0),MATCH(Z37,'census age lookup Vol STD'!$B$3:$E$3,0))*(AA37/10))) | AC37: =IF('Basic Elections'!$C$90="","",IF(E37=0,"None",'Voluntary Elections'!$C$20)) | AD37: =IF('Basic Elections'!$C$90="","",IF(C37/12>10000,10000,C37/12)) | AE37: =IF('Basic Elections'!$C$90="","",IF(OR(E37=0,AC37="None"),0,INDEX('census age lookup Vol LTD'!$B$4:$E$103,MATCH(D37,'census age lookup Vol LTD'!$A$4:$A$103,0),MATCH(AC37,'census age lookup Vol LTD'!$B$3:$E$3,0))*(AD37/100)))
A38: =IF('Basic Elections'!$C$91="","",'Basic Elections'!E91) | B38: =IF('Basic Elections'!$C$91="","",'Basic Elections'!F91) | C38: =IF('Basic Elections'!$C$91="","",'Basic Elections'!G91) | D38: =IF('Basic Elections'!$C$91="","",IF(B38>0,B38,IF(A38>0,DATEDIF(A38,TODAY(),"Y"),0))) | E38: =IF('Basic Elections'!$C$91="","",IF(OR(A38<>0,B38<>0),1,0)) | F38: =IF('Basic Elections'!$C$91="","",IF(E38=1,F37+1,0)) | G38: =IF('Basic Elections'!$C$91="","",'Basic Elections'!$C$18) | H38: =IF('Basic Elections'!$C$91="","",IF(ROUNDUP(C38,-3)>100000,100000,ROUNDUP(C38,-3))) | I38: =IF('Basic Elections'!$C$91="","",'Basic Elections'!$C$29) | J38: =IF('Basic Elections'!$C$91="","",'Basic Elections'!$C$34) | K38: =IF('Basic Elections'!$C$91="","",IF(OR(J38="A",J38="B",J38="C",J38="D"),(IF((C38/52)*0.6667>1000,1000,(C38/52)*0.6667)),0)) | L38: =IF('Basic Elections'!$C$91="","",(IF(AND(J38<>"None",E38<>0),VLOOKUP(J38,STD_Rates_lookup,2,FALSE),0))*(K38/10)) | M38: =IF('Basic Elections'!$C$91="","",IF(OR(J38="E",J38="F",J38="G",J38="H"),IF((C38/52)*0.6>1000,1000,(C38/52)*0.6),0)) | N38: =IF('Basic Elections'!$C$91="","",(IF(AND(J38<>"None",E38<>0),VLOOKUP(J38,STD_Rates_lookup,2,FALSE),0))*(M38/10)) | O38: =IF('Basic Elections'!$C$91="","",'Basic Elections'!$C$45) | P38: =IF('Basic Elections'!$C$91="","",IF(C38/12>10000,10000,C38/12)) | Q38: =IF('Basic Elections'!$C$91="","",(IF(AND(O38<>"None",E38<>0),VLOOKUP(O38,LTD_Rates_lookup,2,FALSE),0))*(P38/100)) | R38: =IF('Basic Elections'!$C$91="","",IF(D38=0,0,VLOOKUP(D38,life_age_reduction,4,FALSE))) | S38: =IF('Basic Elections'!$C$91="","",IF(G38="A",H38,0)) | T38: =IF('Basic Elections'!$C$91="","",IF(OR(G38="B",G38="C",G38="D",G38="E",G38="F"),VLOOKUP(G38,summary_benefit_lookup,2,FALSE),0)) | U38: =IF('Basic Elections'!$C$91="","",T38+S38) | V38: =IF(F38="","",IF(E38>0,IF(AND(G38="A",R38>0),MIN(C38,100000)*(1-R38),U38*(1-R38)),0)) | W38: =IF('Basic Elections'!$C$91="","",IF(E38>0,(V38*'summary lookup and rates'!$C$5)/1000,0)) | X38: =IF('Basic Elections'!$C$91="","",(V38*'summary lookup and rates'!$C$6)/1000) | Y38: =IF('Basic Elections'!$C$91="","",IF(AND(E38>0,'Basic Elections'!$C$29="Yes"),'summary lookup and rates'!$C$7,0)) | Z38: =IF('Basic Elections'!$C$91="","",IF(E38=0,"None",'Voluntary Elections'!$C$14)) | AA38: =IF('Basic Elections'!$C$91="","",IF((C38/52)*0.6>1000,1000,(C38/52)*0.6)) | AB38: =IF('Basic Elections'!$C$91="","",IF(OR(E38=0,Z38="None"),0,INDEX('census age lookup Vol STD'!$B$4:$E$103,MATCH(D38,'census age lookup Vol STD'!$A$4:$A$103,0),MATCH(Z38,'census age lookup Vol STD'!$B$3:$E$3,0))*(AA38/10))) | AC38: =IF('Basic Elections'!$C$91="","",IF(E38=0,"None",'Voluntary Elections'!$C$20)) | AD38: =IF('Basic Elections'!$C$91="","",IF(C38/12>10000,10000,C38/12)) | AE38: =IF('Basic Elections'!$C$91="","",IF(OR(E38=0,AC38="None"),0,INDEX('census age lookup Vol LTD'!$B$4:$E$103,MATCH(D38,'census age lookup Vol LTD'!$A$4:$A$103,0),MATCH(AC38,'census age lookup Vol LTD'!$B$3:$E$3,0))*(AD38/100)))
A39: =IF('Basic Elections'!$C$92="","",'Basic Elections'!E92) | B39: =IF('Basic Elections'!$C$92="","",'Basic Elections'!F92) | C39: =IF('Basic Elections'!$C$92="","",'Basic Elections'!G92) | D39: =IF('Basic Elections'!$C$92="","",IF(B39>0,B39,IF(A39>0,DATEDIF(A39,TODAY(),"Y"),0))) | E39: =IF('Basic Elections'!$C$92="","",IF(OR(A39<>0,B39<>0),1,0)) | F39: =IF('Basic Elections'!$C$92="","",IF(E39=1,F38+1,0)) | G39: =IF('Basic Elections'!$C$92="","",'Basic Elections'!$C$18) | H39: =IF('Basic Elections'!$C$92="","",IF(ROUNDUP(C39,-3)>100000,100000,ROUNDUP(C39,-3))) | I39: =IF('Basic Elections'!$C$92="","",'Basic Elections'!$C$29) | J39: =IF('Basic Elections'!$C$92="","",'Basic Elections'!$C$34) | K39: =IF('Basic Elections'!$C$92="","",IF(OR(J39="A",J39="B",J39="C",J39="D"),(IF((C39/52)*0.6667>1000,1000,(C39/52)*0.6667)),0)) | L39: =IF('Basic Elections'!$C$92="","",(IF(AND(J39<>"None",E39<>0),VLOOKUP(J39,STD_Rates_lookup,2,FALSE),0))*(K39/10)) | M39: =IF('Basic Elections'!$C$92="","",IF(OR(J39="E",J39="F",J39="G",J39="H"),IF((C39/52)*0.6>1000,1000,(C39/52)*0.6),0)) | N39: =IF('Basic Elections'!$C$92="","",(IF(AND(J39<>"None",E39<>0),VLOOKUP(J39,STD_Rates_lookup,2,FALSE),0))*(M39/10)) | O39: =IF('Basic Elections'!$C$92="","",'Basic Elections'!$C$45) | P39: =IF('Basic Elections'!$C$92="","",IF(C39/12>10000,10000,C39/12)) | Q39: =IF('Basic Elections'!$C$92="","",(IF(AND(O39<>"None",E39<>0),VLOOKUP(O39,LTD_Rates_lookup,2,FALSE),0))*(P39/100)) | R39: =IF('Basic Elections'!$C$92="","",IF(D39=0,0,VLOOKUP(D39,life_age_reduction,4,FALSE))) | S39: =IF('Basic Elections'!$C$92="","",IF(G39="A",H39,0)) | T39: =IF('Basic Elections'!$C$92="","",IF(OR(G39="B",G39="C",G39="D",G39="E",G39="F"),VLOOKUP(G39,summary_benefit_lookup,2,FALSE),0)) | U39: =IF('Basic Elections'!$C$92="","",T39+S39) | V39: =IF(F39="","",IF(E39>0,IF(AND(G39="A",R39>0),MIN(C39,100000)*(1-R39),U39*(1-R39)),0)) | W39: =IF('Basic Elections'!$C$92="","",IF(E39>0,(V39*'summary lookup and rates'!$C$5)/1000,0)) | X39: =IF('Basic Elections'!$C$92="","",(V39*'summary lookup and rates'!$C$6)/1000) | Y39: =IF('Basic Elections'!$C$92="","",IF(AND(E39>0,'Basic Elections'!$C$29="Yes"),'summary lookup and rates'!$C$7,0)) | Z39: =IF('Basic Elections'!$C$92="","",IF(E39=0,"None",'Voluntary Elections'!$C$14)) | AA39: =IF('Basic Elections'!$C$92="","",IF((C39/52)*0.6>1000,1000,(C39/52)*0.6)) | AB39: =IF('Basic Elections'!$C$92="","",IF(OR(E39=0,Z39="None"),0,INDEX('census age lookup Vol STD'!$B$4:$E$103,MATCH(D39,'census age lookup Vol STD'!$A$4:$A$103,0),MATCH(Z39,'census age lookup Vol STD'!$B$3:$E$3,0))*(AA39/10))) | AC39: =IF('Basic Elections'!$C$92="","",IF(E39=0,"None",'Voluntary Elections'!$C$20)) | AD39: =IF('Basic Elections'!$C$92="","",IF(C39/12>10000,10000,C39/12)) | AE39: =IF('Basic Elections'!$C$92="","",IF(OR(E39=0,AC39="None"),0,INDEX('census age lookup Vol LTD'!$B$4:$E$103,MATCH(D39,'census age lookup Vol LTD'!$A$4:$A$103,0),MATCH(AC39,'census age lookup Vol LTD'!$B$3:$E$3,0))*(AD39/100)))
